BEGIN:VCALENDAR
VERSION:2.0
PRODID:-//Temple Emmanuel of Wakefield - ECPv6.15.20//NONSGML v1.0//EN
CALSCALE:GREGORIAN
METHOD:PUBLISH
X-WR-CALNAME:Temple Emmanuel of Wakefield
X-ORIGINAL-URL:https://wakefieldtemple.org
X-WR-CALDESC:Events for Temple Emmanuel of Wakefield
REFRESH-INTERVAL;VALUE=DURATION:PT1H
X-Robots-Tag:noindex
X-PUBLISHED-TTL:PT1H
BEGIN:VTIMEZONE
TZID:America/New_York
BEGIN:DAYLIGHT
TZOFFSETFROM:-0500
TZOFFSETTO:-0400
TZNAME:EDT
DTSTART:20240310T070000
END:DAYLIGHT
BEGIN:STANDARD
TZOFFSETFROM:-0400
TZOFFSETTO:-0500
TZNAME:EST
DTSTART:20241103T060000
END:STANDARD
BEGIN:DAYLIGHT
TZOFFSETFROM:-0500
TZOFFSETTO:-0400
TZNAME:EDT
DTSTART:20250309T070000
END:DAYLIGHT
BEGIN:STANDARD
TZOFFSETFROM:-0400
TZOFFSETTO:-0500
TZNAME:EST
DTSTART:20251102T060000
END:STANDARD
BEGIN:DAYLIGHT
TZOFFSETFROM:-0500
TZOFFSETTO:-0400
TZNAME:EDT
DTSTART:20260308T070000
END:DAYLIGHT
BEGIN:STANDARD
TZOFFSETFROM:-0400
TZOFFSETTO:-0500
TZNAME:EST
DTSTART:20261101T060000
END:STANDARD
END:VTIMEZONE
BEGIN:VEVENT
DTSTART;TZID=America/New_York:20251201T193000
DTEND;TZID=America/New_York:20251201T210000
DTSTAMP:20260423T174855
CREATED:20250322T133059Z
LAST-MODIFIED:20250322T133822Z
UID:10012489-1764617400-1764622800@wakefieldtemple.org
SUMMARY:Membership Committee Meeting
DESCRIPTION:
URL:https://wakefieldtemple.org/event/membership-committee-meeting-18/2025-12-01/
END:VEVENT
BEGIN:VEVENT
DTSTART;TZID=America/New_York:20251202T123000
DTEND;TZID=America/New_York:20251202T133000
DTSTAMP:20260423T174855
CREATED:20251105T184809Z
LAST-MODIFIED:20251114T194651Z
UID:10012764-1764678600-1764682200@wakefieldtemple.org
SUMMARY:Lunch & Learn Torah & Midrash - Joseph
DESCRIPTION:We will explore key midrashic insights into the formative years of Joseph’s life.\n\nJoin Lunch & Learn\nhttps://us05web.zoom.us/j/8308912968?pwd=NspIL2UhrALNiikL4yIkhurXsxEP5q.1&omn=82395049873\nMeeting ID: 830 891 2968\nPasscode: 9x3fVf
URL:https://wakefieldtemple.org/event/lunch-learn-torah-midrash-on-joseph/
END:VEVENT
BEGIN:VEVENT
DTSTART;TZID=America/New_York:20251202T153000
DTEND;TZID=America/New_York:20251202T180000
DTSTAMP:20260423T174855
CREATED:20251108T192618Z
LAST-MODIFIED:20251108T192619Z
UID:10012798-1764689400-1764698400@wakefieldtemple.org
SUMMARY:CHAI School Classes
DESCRIPTION:
URL:https://wakefieldtemple.org/event/chai-school-classes/2025-12-02/
END:VEVENT
BEGIN:VEVENT
DTSTART;TZID=America/New_York:20251202T184500
DTEND;TZID=America/New_York:20251202T193000
DTSTAMP:20260423T174855
CREATED:20250322T134417Z
LAST-MODIFIED:20250322T134418Z
UID:10012500-1764701100-1764703800@wakefieldtemple.org
SUMMARY:House & Grounds Committee Meeting
DESCRIPTION:
URL:https://wakefieldtemple.org/event/house-grounds-committee-meeting-16/2025-12-02/
END:VEVENT
BEGIN:VEVENT
DTSTART;TZID=America/New_York:20251202T193000
DTEND;TZID=America/New_York:20251202T210000
DTSTAMP:20260423T174855
CREATED:20250322T134903Z
LAST-MODIFIED:20250322T135225Z
UID:10012511-1764703800-1764709200@wakefieldtemple.org
SUMMARY:Ritual Committee Meeting
DESCRIPTION:
URL:https://wakefieldtemple.org/event/ritual-committee-meeting-23/2025-12-02/
END:VEVENT
BEGIN:VEVENT
DTSTART;TZID=America/New_York:20251205T180000
DTEND;TZID=America/New_York:20251205T193000
DTSTAMP:20260423T174855
CREATED:20251105T132602Z
LAST-MODIFIED:20251113T202245Z
UID:10012587-1764957600-1764963000@wakefieldtemple.org
SUMMARY:Shabbat Shirah Community Potluck Dinner
DESCRIPTION:Please join our Temple community for a Shabbat potluck dinner with songs led by our CHAI school students. Details and RSVP here:\nhttps://evite.me/zwsQVAKt5G
URL:https://wakefieldtemple.org/event/erev-shabbat-celebration-16-6/
END:VEVENT
BEGIN:VEVENT
DTSTART;TZID=America/New_York:20251206T093000
DTEND;TZID=America/New_York:20251206T103000
DTSTAMP:20260423T174855
CREATED:20250507T212944Z
LAST-MODIFIED:20250507T212944Z
UID:10012640-1765013400-1765017000@wakefieldtemple.org
SUMMARY:Tot Shabbat
DESCRIPTION:
URL:https://wakefieldtemple.org/event/tot-shabbat-8/2025-12-06/
END:VEVENT
BEGIN:VEVENT
DTSTART;TZID=America/New_York:20251206T170000
DTEND;TZID=America/New_York:20251206T193000
DTSTAMP:20260423T174855
CREATED:20250625T142358Z
LAST-MODIFIED:20251029T174956Z
UID:10012677-1765040400-1765049400@wakefieldtemple.org
SUMMARY:Bowling for All Ages!
DESCRIPTION:TEMPLE EMMANUEL Bowling Party for All Ages!\nBRING FRIENDS AND FAMILY…\n\n\n\n\n\nSATURDAY\, DECEMBER 6 AT 5:00 PM – 7:30 PM\n\nWAKEFIELD BOWLADROME\n96 WATER STREET\nWAKEFIELD\nDid you know there used to be a Temple Bowling league for many\nyears? The Bowladrome is a historical trip back in time.\n  \n\n\n$25 FOR 13 AND OLDER\, $10 FOR 12 and under\n$10 for CHEERLEADERS (not bowling\, but eating!)\n  \nCASH AT THE DOOR\n  \n\nCost will include shoe rental\, alleys for 3 strings or 2 hours\nPizza and a beverage will be provided\nPlease reserve your space by December 3\n Liz Freeman: LindenTree85@comcast.net\n  \n\n 
URL:https://wakefieldtemple.org/event/bowling-for-all-ages/
END:VEVENT
BEGIN:VEVENT
DTSTART;TZID=America/New_York:20251207T110000
DTEND;TZID=America/New_York:20251207T120000
DTSTAMP:20260423T174855
CREATED:20251121T220017Z
LAST-MODIFIED:20251121T220017Z
UID:10012713-1765105200-1765108800@wakefieldtemple.org
SUMMARY:Sisterhood Sunday Walkers
DESCRIPTION:When: Sunday December 7\, 2025 weather permitting\nTime: 11:00 AM\nWhere: Breakheart Reservation\nMeeting location: Northeast Regional High School 100 Hemlock Rd. Wakefield.\nParking:  Parking lot in front of the building. Please note that there is construction going on\, a new school\, but parking is still available\nRSVP: Sue Hochberg shochberg.sh@gmail.com. Please let me know if you are coming so we don’t leave without you.\nTrail information: 3 mile paved loop\, hilly in places\, rest area/bathroom 1/2 way.\nSue H’s Cell: 781-258-7760
URL:https://wakefieldtemple.org/event/sisterhood-sunday-walkers-11-11-5/
CATEGORIES:Sisterhood
END:VEVENT
BEGIN:VEVENT
DTSTART;TZID=America/New_York:20251209T153000
DTEND;TZID=America/New_York:20251209T180000
DTSTAMP:20260423T174855
CREATED:20251108T192618Z
LAST-MODIFIED:20251108T192619Z
UID:10012799-1765294200-1765303200@wakefieldtemple.org
SUMMARY:CHAI School Classes
DESCRIPTION:
URL:https://wakefieldtemple.org/event/chai-school-classes/2025-12-09/
END:VEVENT
BEGIN:VEVENT
DTSTART;TZID=America/New_York:20251209T193000
DTEND;TZID=America/New_York:20251209T210000
DTSTAMP:20260423T174855
CREATED:20250321T205615Z
LAST-MODIFIED:20250321T205616Z
UID:10012467-1765308600-1765314000@wakefieldtemple.org
SUMMARY:Temple Board Meeting
DESCRIPTION:
URL:https://wakefieldtemple.org/event/temple-board-meeting-17/2025-12-09/
END:VEVENT
BEGIN:VEVENT
DTSTART;TZID=America/New_York:20251210T153000
DTEND;TZID=America/New_York:20251210T183000
DTSTAMP:20260423T174855
CREATED:20251203T200939Z
LAST-MODIFIED:20251223T122334Z
UID:10012554-1765380600-1765391400@wakefieldtemple.org
SUMMARY:Volunteer at Wakefield Community Dinners
DESCRIPTION:Mitzvah opportunity! Temple Emmanuel is now partnered with Wakefield Community Dinners. Held at Most Blessed Sacrament in Wakefield\, the Community Dinners happen the 2nd Wednesday of every month\, with the opportunity to feed 80+ neighbors and friends from Wakefield\, Stoneham\, Melrose and towns as far as Medford\, Salem and Norwood. \nVolunteer hours are 3:30-6:30 PM. Guests come as families or alone. Although many are experiencing food insecurity\, most are impacted with social isolation. We provide a hot meal\, salad\, bread\, desserts\, and most importantly\, camaraderie. \nIf you’d like to have fun\, share smiles\, and engage in holy work\, please sign up here. \nContact Bev Weiner if you have any questions: theweino@aol.com
URL:https://wakefieldtemple.org/event/volunteer-at-wakefield-community-dinners-2-2-2/
END:VEVENT
BEGIN:VEVENT
DTSTART;TZID=America/New_York:20251210T193000
DTEND;TZID=America/New_York:20251210T203000
DTSTAMP:20260423T174855
CREATED:20251105T184312Z
LAST-MODIFIED:20251114T194359Z
UID:10012762-1765395000-1765398600@wakefieldtemple.org
SUMMARY:Adult Education:  Reconstructing Jewish Approaches to Food\,  Sex\, and Shabbat
DESCRIPTION:This series invites you to deepen your understanding of how Reconstructionist Judaism and contemporary thought intertwine. Together\, we’ll explore Jewish civilization through the Five-Stage theory of Rabbi Mordecai M. Kaplan\, embracing the evolving\, dynamic spirit at the core of our community.\n\nOur second session\, on December 10 at 7:30 pm\, will focus on how Reconstructionist Judaism thoughtfully engages with the complexities of real life—addressing meaningful topics such as food\, sexuality\, and the evolving observance of Shabbat\, all from an inclusive and progressive perspective.\nIn our tradition\, a daily blessing reminds us\, “Thank you for granting me the gift of learning.” May this inspire us all to seek new understanding and grow together in our journey as a community. \nFuture sessions in 2026 will include a series on exploring of Jewish views of the afterlife. We hope you’ll join us for these meaningful and engaging one-hour learning sessions!\n\nRabbi Micah & the Continuing Education Committee\n\nJoin the class\nhttps://us05web.zoom.us/j/8308912968?pwd=NspIL2UhrALNiikL4yIkhurXsxEP5q.1&omn=85606963689\nMeeting ID: 830 891 2968\nPasscode: 9x3fVf
URL:https://wakefieldtemple.org/event/adult-education-reconstructing-jewish-approaches-to-food-sex-and-shabbat/
END:VEVENT
BEGIN:VEVENT
DTSTART;TZID=America/New_York:20251212T193000
DTEND;TZID=America/New_York:20251212T210000
DTSTAMP:20260423T174855
CREATED:20250507T184653Z
LAST-MODIFIED:20250730T135047Z
UID:10012588-1765567800-1765573200@wakefieldtemple.org
SUMMARY:Erev Shabbat Celebration
DESCRIPTION:
URL:https://wakefieldtemple.org/event/erev-shabbat-celebration-16/2025-12-12/
END:VEVENT
BEGIN:VEVENT
DTSTART;TZID=America/New_York:20251213T093000
DTEND;TZID=America/New_York:20251213T110000
DTSTAMP:20260423T174855
CREATED:20251202T143620Z
LAST-MODIFIED:20251215T164749Z
UID:10012623-1765618200-1765623600@wakefieldtemple.org
SUMMARY:Shabbat Morning Celebration with Torah Reading
DESCRIPTION:
URL:https://wakefieldtemple.org/event/shabbat-morning-celebration-10-4/
END:VEVENT
BEGIN:VEVENT
DTSTART;TZID=America/New_York:20251213T183000
DTEND;TZID=America/New_York:20251213T203000
DTSTAMP:20260423T174855
CREATED:20250625T142533Z
LAST-MODIFIED:20251113T171531Z
UID:10012678-1765650600-1765657800@wakefieldtemple.org
SUMMARY:Trivia Night
DESCRIPTION:Bring a friend\, form a new team\, or play by yourself so you don’t have to share the prize! \nTrivia Night at Temple Emmanuel of Wakefield on December 13th\, 2025\, starting at 6:30 PM. \nDrinks and vegetarian snacks provided.\n $5 for members\, $10 for non-members.\nRSVP here:\nhttps://forms.gle/gYpwLeZQ8JDhHQAaA\n  \n \n 
URL:https://wakefieldtemple.org/event/cocktails-kvetching-for-young-jewish-adults/
END:VEVENT
BEGIN:VEVENT
DTSTART;VALUE=DATE:20251214
DTEND;VALUE=DATE:20251215
DTSTAMP:20260423T174855
CREATED:20250321T192400Z
LAST-MODIFIED:20250321T192401Z
UID:10012452-1765670400-1765756799@wakefieldtemple.org
SUMMARY:Chanukah\, First Night
DESCRIPTION:
URL:https://wakefieldtemple.org/event/chanukah-first-night-7/
END:VEVENT
BEGIN:VEVENT
DTSTART;TZID=America/New_York:20251214T103000
DTEND;TZID=America/New_York:20251214T120000
DTSTAMP:20260423T174855
CREATED:20250625T142706Z
LAST-MODIFIED:20251124T135427Z
UID:10012679-1765708200-1765713600@wakefieldtemple.org
SUMMARY:CHAI School Chanukah Festival
DESCRIPTION:
URL:https://wakefieldtemple.org/event/chai-school-chanukah-festival/
END:VEVENT
BEGIN:VEVENT
DTSTART;TZID=America/New_York:20251214T170000
DTEND;TZID=America/New_York:20251214T170000
DTSTAMP:20260423T174855
CREATED:20251210T103744Z
LAST-MODIFIED:20251210T103824Z
UID:10012829-1765731600-1765731600@wakefieldtemple.org
SUMMARY:Reading's Annual Community Menorah Lighting
DESCRIPTION:
URL:https://wakefieldtemple.org/event/readings-annual-community-menorah-lighting/
END:VEVENT
BEGIN:VEVENT
DTSTART;TZID=America/New_York:20251215T193000
DTEND;TZID=America/New_York:20251215T210000
DTSTAMP:20260423T174855
CREATED:20250322T154146Z
LAST-MODIFIED:20250322T154146Z
UID:10012542-1765827000-1765832400@wakefieldtemple.org
SUMMARY:Ways & Means Committee Meeting
DESCRIPTION:
URL:https://wakefieldtemple.org/event/ways-means-committee-meeting-6/2025-12-15/
END:VEVENT
BEGIN:VEVENT
DTSTART;TZID=America/New_York:20251216T153000
DTEND;TZID=America/New_York:20251216T180000
DTSTAMP:20260423T174855
CREATED:20251108T192618Z
LAST-MODIFIED:20251108T192619Z
UID:10012800-1765899000-1765908000@wakefieldtemple.org
SUMMARY:CHAI School Classes
DESCRIPTION:
URL:https://wakefieldtemple.org/event/chai-school-classes/2025-12-16/
END:VEVENT
BEGIN:VEVENT
DTSTART;TZID=America/New_York:20251216T193000
DTEND;TZID=America/New_York:20251216T210000
DTSTAMP:20260423T174855
CREATED:20250322T144524Z
LAST-MODIFIED:20250322T144525Z
UID:10012521-1765913400-1765918800@wakefieldtemple.org
SUMMARY:School Committee Meeting
DESCRIPTION:
URL:https://wakefieldtemple.org/event/school-committee-meeting-9/2025-12-16/
END:VEVENT
BEGIN:VEVENT
DTSTART;TZID=America/New_York:20251219T193000
DTEND;TZID=America/New_York:20251219T203000
DTSTAMP:20260423T174855
CREATED:20251215T164523Z
LAST-MODIFIED:20251215T164523Z
UID:10012610-1766172600-1766176200@wakefieldtemple.org
SUMMARY:Special Erev Shabbat Hanukkah Celebration with Guest Clergy and Elected Wakefield Leaders
DESCRIPTION:
URL:https://wakefieldtemple.org/event/jewish-meditation-circle-16-2-2/
END:VEVENT
BEGIN:VEVENT
DTSTART;TZID=America/New_York:20251220T093000
DTEND;TZID=America/New_York:20251220T110000
DTSTAMP:20260423T174855
CREATED:20251215T164840Z
LAST-MODIFIED:20251215T164841Z
UID:10012624-1766223000-1766228400@wakefieldtemple.org
SUMMARY:Shabbat Morning Torah Study - Following Introductory Prayers\, a Study of Judith\, an Heroic Woman of the Hanukkah Story
DESCRIPTION:
URL:https://wakefieldtemple.org/event/shabbat-morning-celebration-10-5/
END:VEVENT
BEGIN:VEVENT
DTSTART;VALUE=DATE:20251221
DTEND;VALUE=DATE:20251222
DTSTAMP:20260423T174855
CREATED:20250321T192456Z
LAST-MODIFIED:20250715T215209Z
UID:10012453-1766275200-1766361599@wakefieldtemple.org
SUMMARY:Chanukah\, Eighth Night
DESCRIPTION:
URL:https://wakefieldtemple.org/event/chanukah-eighth-night-4/
END:VEVENT
BEGIN:VEVENT
DTSTART;TZID=America/New_York:20251221T170000
DTEND;TZID=America/New_York:20251221T190000
DTSTAMP:20260423T174855
CREATED:20250625T142935Z
LAST-MODIFIED:20251208T104607Z
UID:10012680-1766336400-1766343600@wakefieldtemple.org
SUMMARY:Sisterhood-Temple Chanukah Celebration  - Bring your Menorahs!
DESCRIPTION:
URL:https://wakefieldtemple.org/event/chanukah-celebration-bring-your-menorahs/
END:VEVENT
BEGIN:VEVENT
DTSTART;TZID=America/New_York:20251223T193000
DTEND;TZID=America/New_York:20251223T210000
DTSTAMP:20260423T174855
CREATED:20251123T143047Z
LAST-MODIFIED:20251123T143056Z
UID:10012790-1766518200-1766523600@wakefieldtemple.org
SUMMARY:Continuing Education Committee CANCELLED
DESCRIPTION:
URL:https://wakefieldtemple.org/event/continuing-education-committee-5-4-2/
END:VEVENT
END:VCALENDAR