BEGIN:VCALENDAR
VERSION:2.0
PRODID:-//Temple Emmanuel of Wakefield - ECPv6.15.20//NONSGML v1.0//EN
CALSCALE:GREGORIAN
METHOD:PUBLISH
X-WR-CALNAME:Temple Emmanuel of Wakefield
X-ORIGINAL-URL:https://wakefieldtemple.org
X-WR-CALDESC:Events for Temple Emmanuel of Wakefield
REFRESH-INTERVAL;VALUE=DURATION:PT1H
X-Robots-Tag:noindex
X-PUBLISHED-TTL:PT1H
BEGIN:VTIMEZONE
TZID:America/New_York
BEGIN:DAYLIGHT
TZOFFSETFROM:-0500
TZOFFSETTO:-0400
TZNAME:EDT
DTSTART:20240310T070000
END:DAYLIGHT
BEGIN:STANDARD
TZOFFSETFROM:-0400
TZOFFSETTO:-0500
TZNAME:EST
DTSTART:20241103T060000
END:STANDARD
BEGIN:DAYLIGHT
TZOFFSETFROM:-0500
TZOFFSETTO:-0400
TZNAME:EDT
DTSTART:20250309T070000
END:DAYLIGHT
BEGIN:STANDARD
TZOFFSETFROM:-0400
TZOFFSETTO:-0500
TZNAME:EST
DTSTART:20251102T060000
END:STANDARD
BEGIN:DAYLIGHT
TZOFFSETFROM:-0500
TZOFFSETTO:-0400
TZNAME:EDT
DTSTART:20260308T070000
END:DAYLIGHT
BEGIN:STANDARD
TZOFFSETFROM:-0400
TZOFFSETTO:-0500
TZNAME:EST
DTSTART:20261101T060000
END:STANDARD
END:VTIMEZONE
BEGIN:VEVENT
DTSTART;TZID=America/New_York:20251111T193000
DTEND;TZID=America/New_York:20251111T210000
DTSTAMP:20260424T031254
CREATED:20250321T205615Z
LAST-MODIFIED:20250321T205616Z
UID:10012466-1762889400-1762894800@wakefieldtemple.org
SUMMARY:Temple Board Meeting
DESCRIPTION:
URL:https://wakefieldtemple.org/event/temple-board-meeting-17/2025-11-11/
END:VEVENT
BEGIN:VEVENT
DTSTART;TZID=America/New_York:20251109T110000
DTEND;TZID=America/New_York:20251109T120000
DTSTAMP:20260424T031254
CREATED:20251026T180423Z
LAST-MODIFIED:20251026T180423Z
UID:10012712-1762686000-1762689600@wakefieldtemple.org
SUMMARY:Sisterhood Sunday Walkers
DESCRIPTION:When: Sunday November 9\, 2025 weather permitting\nTime: 11:00 AM\nWhere: Breakheart Reservation\nMeeting location: Northeast Regional High School 100 Hemlock Rd. Wakefield.\nParking:  Parking lot in front of the building. Please note that there is construction going on\, a new school\, but parking is still available\nRSVP: Sue Hochberg shochberg.sh@gmail.com. Please let me know if you are coming so we don’t leave without you.\nTrail information: 3 mile paved loop\, hilly in places\, rest area/bathroom 1/2 way.\nSue H’s Cell: 781-258-7760
URL:https://wakefieldtemple.org/event/sisterhood-sunday-walkers-11-11-4/
CATEGORIES:Sisterhood
END:VEVENT
BEGIN:VEVENT
DTSTART;TZID=America/New_York:20251108T093000
DTEND;TZID=America/New_York:20251108T110000
DTSTAMP:20260424T031254
CREATED:20250507T202316Z
LAST-MODIFIED:20250507T202316Z
UID:10012621-1762594200-1762599600@wakefieldtemple.org
SUMMARY:Shabbat Morning Celebration
DESCRIPTION:
URL:https://wakefieldtemple.org/event/shabbat-morning-celebration-10/2025-11-08/
END:VEVENT
BEGIN:VEVENT
DTSTART;TZID=America/New_York:20251107T193000
DTEND;TZID=America/New_York:20251107T210000
DTSTAMP:20260424T031254
CREATED:20250507T184653Z
LAST-MODIFIED:20250730T135047Z
UID:10012585-1762543800-1762549200@wakefieldtemple.org
SUMMARY:Erev Shabbat Celebration
DESCRIPTION:
URL:https://wakefieldtemple.org/event/erev-shabbat-celebration-16/2025-11-07/
END:VEVENT
BEGIN:VEVENT
DTSTART;TZID=America/New_York:20251104T193000
DTEND;TZID=America/New_York:20251104T210000
DTSTAMP:20260424T031254
CREATED:20250322T134903Z
LAST-MODIFIED:20250322T135225Z
UID:10012510-1762284600-1762290000@wakefieldtemple.org
SUMMARY:Ritual Committee Meeting
DESCRIPTION:
URL:https://wakefieldtemple.org/event/ritual-committee-meeting-23/2025-11-04/
END:VEVENT
BEGIN:VEVENT
DTSTART;TZID=America/New_York:20251104T184500
DTEND;TZID=America/New_York:20251104T193000
DTSTAMP:20260424T031254
CREATED:20250322T134417Z
LAST-MODIFIED:20250322T134418Z
UID:10012499-1762281900-1762284600@wakefieldtemple.org
SUMMARY:House & Grounds Committee Meeting
DESCRIPTION:
URL:https://wakefieldtemple.org/event/house-grounds-committee-meeting-16/2025-11-04/
END:VEVENT
BEGIN:VEVENT
DTSTART;TZID=America/New_York:20251103T193000
DTEND;TZID=America/New_York:20251103T210000
DTSTAMP:20260424T031254
CREATED:20250322T133059Z
LAST-MODIFIED:20250322T133822Z
UID:10012488-1762198200-1762203600@wakefieldtemple.org
SUMMARY:Membership Committee Meeting
DESCRIPTION:
URL:https://wakefieldtemple.org/event/membership-committee-meeting-18/2025-11-03/
END:VEVENT
BEGIN:VEVENT
DTSTART;TZID=America/New_York:20251102T190000
DTEND;TZID=America/New_York:20251102T203000
DTSTAMP:20260424T031254
CREATED:20250714T111646Z
LAST-MODIFIED:20251021T200347Z
UID:10012694-1762110000-1762115400@wakefieldtemple.org
SUMMARY:Temple Reads: The Human Scale by Lawrence Wright
DESCRIPTION:The Human Scale\nby Lawrence Wright \nSunday Evening\, November 2 at 7:00 PM via Zoom \nJoin Temple Reads\nhttps://us02web.zoom.us/j/88176248629?pwd=Dbg2EKYQL5xwvD1o3F89MMftRq5lim.1 \nMeeting ID: 881 7624 8629\nPasscode: 546099 \n\nTony Malik\, a half-Irish\, half-Arab FBI agent based in New York\, specializes in tracking money from drug and arms deals. His life takes a dramatic turn when a long-term relationship ends and his job hangs in the balance. Amid personal turmoil\, Malik becomes intrigued by his Palestinian father’s past. He decides to visit his ancestral homeland for his niece’s wedding\, accepting a seemingly simple FBI assignment along the way. \nUpon arrival in the West Bank\, Malik’s world is upended when the Israeli police chief is murdered. Initially a suspect\, Malik’s investigative prowess soon earns him a place in the Israeli investigation. At the heart of the story is Malik’s complex relationship with Yossi\, the hardline anti-Arab Israeli police officer leading the case. They must learn to trust each other because\, as they move closer to solving the case\, they realize there is no one else they can trust on either side. \nLawrence Wright populates the novel with richly drawn characters: Yossi’s daughter studying in Paris\, Malik’s niece whose wedding is shattered by violence\, her peacenik fiancé with ties to Hamas\, and a cast of religious leaders\, corrupt cops\, and militants on both sides. Through these intersecting lives\, Wright weaves an intricate tapestry that culminates in the devastating Hamas attack on Israel on October 7\, 2023. \nMore than a thriller\, Wright’s novel explores the complex history between Israel and Palestine\, revealing the tragic human scale of this long-standing conflict and offering a nuanced perspective on a tragedy that continues to shape the region and the world. (Amazon) \n\n\n\nVersion 1.0.0
URL:https://wakefieldtemple.org/event/temple-reads-the-human-scale-by-lawrence-wright/
END:VEVENT
BEGIN:VEVENT
DTSTART;TZID=America/New_York:20251102T103000
DTEND;TZID=America/New_York:20251102T123000
DTSTAMP:20260424T031254
CREATED:20250715T215141Z
LAST-MODIFIED:20251021T233741Z
UID:10012697-1762079400-1762086600@wakefieldtemple.org
SUMMARY:Sisterhood Program: Introductory Mahjong Class
DESCRIPTION:Come learn and play Mahjong at Temple Emmanuel \nSunday\, November 2nd at 10:30 AM\n  \nBring yourself and friends to learn this exciting table tile game.  \nInstruction and cards will be provided. \nIf you’ve never played\, this will be a chance to get in on the action.\nIf there is sufficient interest\, future learning sessions will be scheduled.\n  \nPlease RSVP to: Pallaberg@hotmail.com or 781-572-6168\n 
URL:https://wakefieldtemple.org/event/sisterhood-program/
END:VEVENT
BEGIN:VEVENT
DTSTART;TZID=America/New_York:20251101T093000
DTEND;TZID=America/New_York:20251101T103000
DTSTAMP:20260424T031254
CREATED:20250507T212944Z
LAST-MODIFIED:20250507T212944Z
UID:10012639-1761989400-1761993000@wakefieldtemple.org
SUMMARY:Tot Shabbat
DESCRIPTION:
URL:https://wakefieldtemple.org/event/tot-shabbat-8/2025-11-01/
END:VEVENT
BEGIN:VEVENT
DTSTART;TZID=America/New_York:20251028T193000
DTEND;TZID=America/New_York:20251028T210000
DTSTAMP:20260424T031254
CREATED:20251107T130820Z
LAST-MODIFIED:20251107T130820Z
UID:10012529-1761679800-1761685200@wakefieldtemple.org
SUMMARY:Continuing Education Committee
DESCRIPTION:
URL:https://wakefieldtemple.org/event/continuing-education-committee-5-2/
END:VEVENT
BEGIN:VEVENT
DTSTART;TZID=America/New_York:20251026T100000
DTEND;TZID=America/New_York:20251026T120000
DTSTAMP:20260424T031254
CREATED:20250625T143905Z
LAST-MODIFIED:20251025T164153Z
UID:10012688-1761472800-1761480000@wakefieldtemple.org
SUMMARY:Bagels & Coffee CANCELED
DESCRIPTION:
URL:https://wakefieldtemple.org/event/bagels-coffee/
END:VEVENT
BEGIN:VEVENT
DTSTART;TZID=America/New_York:20251025T093000
DTEND;TZID=America/New_York:20251025T103000
DTSTAMP:20260424T031254
CREATED:20250507T213222Z
LAST-MODIFIED:20250926T163341Z
UID:10012647-1761384600-1761388200@wakefieldtemple.org
SUMMARY:Shabbat at Breakheart
DESCRIPTION:Jewish Wilderness Spirituality\nMeet with Rabbi Micah Saturday Morning at the Northeast Regional Vocational School\, 100 Hemlock Road\, Wakefield at 9:30 AM at the larger parking lot to the right of the Vocational School Building\nPlease click on the link below for directions\nhttps://goo.gl/maps/bntTRr8bd5x
URL:https://wakefieldtemple.org/event/shabbat-at-breakheart-7/2025-10-25/
END:VEVENT
BEGIN:VEVENT
DTSTART;TZID=America/New_York:20251024T193000
DTEND;TZID=America/New_York:20251024T210000
DTSTAMP:20260424T031254
CREATED:20250507T184653Z
LAST-MODIFIED:20250730T135047Z
UID:10012584-1761334200-1761339600@wakefieldtemple.org
SUMMARY:Erev Shabbat Celebration
DESCRIPTION:
URL:https://wakefieldtemple.org/event/erev-shabbat-celebration-16/2025-10-24/
END:VEVENT
BEGIN:VEVENT
DTSTART;TZID=America/New_York:20251021T193000
DTEND;TZID=America/New_York:20251021T210000
DTSTAMP:20260424T031254
CREATED:20250322T144524Z
LAST-MODIFIED:20250322T144525Z
UID:10012519-1761075000-1761080400@wakefieldtemple.org
SUMMARY:School Committee Meeting
DESCRIPTION:
URL:https://wakefieldtemple.org/event/school-committee-meeting-9/2025-10-21/
END:VEVENT
BEGIN:VEVENT
DTSTART;TZID=America/New_York:20251020T193000
DTEND;TZID=America/New_York:20251020T210000
DTSTAMP:20260424T031254
CREATED:20250322T154146Z
LAST-MODIFIED:20250322T154146Z
UID:10012540-1760988600-1760994000@wakefieldtemple.org
SUMMARY:Ways & Means Committee Meeting
DESCRIPTION:
URL:https://wakefieldtemple.org/event/ways-means-committee-meeting-6/2025-10-20/
END:VEVENT
BEGIN:VEVENT
DTSTART;TZID=America/New_York:20251019T150000
DTEND;TZID=America/New_York:20251019T160000
DTSTAMP:20260424T031254
CREATED:20250507T215219Z
LAST-MODIFIED:20250730T004151Z
UID:10012658-1760886000-1760889600@wakefieldtemple.org
SUMMARY:Dismantle Sukkah
DESCRIPTION:
URL:https://wakefieldtemple.org/event/dismantle-sukkah-6/
END:VEVENT
BEGIN:VEVENT
DTSTART;TZID=America/New_York:20251019T113000
DTEND;TZID=America/New_York:20251019T133000
DTSTAMP:20260424T031254
CREATED:20250715T214307Z
LAST-MODIFIED:20250913T162240Z
UID:10012695-1760873400-1760880600@wakefieldtemple.org
SUMMARY:Sisterhood Kick-Off Brunch & Event
DESCRIPTION:The Sisterhood of Temple Emmanuel of Wakefield cordially invites you to the\nAnnual Kick-Off Event\nSunday October 19\, 2025\, 11:30 AM\nTemple Emmanuel of Wakefield\n120 Chestnut St\nWakefield\, MA\nVegetarian\, Dairy Brunch\nGuest Speaker: Dr. Alma Barozzi\, Linguist\, Educator and Author\nAlma Barozzi’s “What kind of name is that?” trilogy offers a regional and country-by-country exploration of naming practices on three continents—Europe\, Asia\, and Africa. Her first book subtitled “European Surnames: Meanings and Traditions” traces the evolution of surname patterns on the European continent from the dawn of inheritable family names. The second volume examines naming traditions across Asia\, including a chapter on naming practices in Israel and the Jewish Diaspora. The final book turns to Africa\, highlighting the remarkable diversity of personal naming customs across the continent.\nThe author\, born in Romania and proficient in several languages\, holds a PhD in Applied Linguistics. Are you curious about the origins of your family name? Following the presentation\, guests will have the opportunity to participate in a Q&A with the author. All three What kind of name is that? books are available on Amazon in both print and digital formats\, and will also be offered at the event.\nAll are welcome: Members free\, non-members $10.\nDues 2025-26 $54.00: Pay by check\, made out to Sisterhood of Temple Emmanuel\, either at the door or mailed to Temple Emmanuel 120 Chestnut St\, Wakefield att: Sisterhood or pay online https://donorbox.org/embed/sisterhood-dues-2025-2026.\nBring books and\, new this year\, jewelry for swapping\nNonperishable donations for the Wakefield Food Pantry accepted.\nRSVP by Monday October 13th  to Sue Hochberg shochberg.sh@gmail.com\nNote: If you would like the author to address the origin and meaning of your family names during the event\, please submit them when you RSVP 
URL:https://wakefieldtemple.org/event/sisterhood-kick-off-brunch-program/
CATEGORIES:Sisterhood
END:VEVENT
BEGIN:VEVENT
DTSTART;TZID=America/New_York:20251018T180000
DTEND;TZID=America/New_York:20251018T210000
DTSTAMP:20260424T031254
CREATED:20250625T143207Z
LAST-MODIFIED:20250926T173818Z
UID:10012682-1760810400-1760821200@wakefieldtemple.org
SUMMARY:Game Night with Vegetarian Yummies!
DESCRIPTION:Please fill out this form if you are planning on joining us!\nhttps://forms.gle/MDRZ3GLvKG2icNHg8\nor use this QR code:\n 
URL:https://wakefieldtemple.org/event/game-night-with-vegetarian-yummies/
END:VEVENT
BEGIN:VEVENT
DTSTART;TZID=America/New_York:20251018T093000
DTEND;TZID=America/New_York:20251018T110000
DTSTAMP:20260424T031254
CREATED:20250507T202316Z
LAST-MODIFIED:20250507T202316Z
UID:10012620-1760779800-1760785200@wakefieldtemple.org
SUMMARY:Shabbat Morning Celebration
DESCRIPTION:
URL:https://wakefieldtemple.org/event/shabbat-morning-celebration-10/2025-10-18/
END:VEVENT
BEGIN:VEVENT
DTSTART;TZID=America/New_York:20251017T193000
DTEND;TZID=America/New_York:20251017T203000
DTSTAMP:20260424T031254
CREATED:20250507T185730Z
LAST-MODIFIED:20250507T185731Z
UID:10012608-1760729400-1760733000@wakefieldtemple.org
SUMMARY:Jewish Meditation Circle
DESCRIPTION:
URL:https://wakefieldtemple.org/event/jewish-meditation-circle-16/2025-10-17/
END:VEVENT
BEGIN:VEVENT
DTSTART;TZID=America/New_York:20251016T193000
DTEND;TZID=America/New_York:20251016T210000
DTSTAMP:20260424T031254
CREATED:20250321T205728Z
LAST-MODIFIED:20250928T143331Z
UID:10012465-1760643000-1760648400@wakefieldtemple.org
SUMMARY:Temple Board Meeting
DESCRIPTION:
URL:https://wakefieldtemple.org/event/temple-board-meeting-17-2/
END:VEVENT
BEGIN:VEVENT
DTSTART;TZID=America/New_York:20251016T190000
DTEND;TZID=America/New_York:20251016T193000
DTSTAMP:20260424T031254
CREATED:20250928T175953Z
LAST-MODIFIED:20251010T122044Z
UID:10012729-1760641200-1760643000@wakefieldtemple.org
SUMMARY:Special Congregational Membership Meeting
DESCRIPTION:There will be a\nSpecial Congregational Membership Meeting\nof Temple Emmanuel\nThursday October 16\, 2025 7:00 PM\nat the Temple and on Zoom\nwith one agenda item. \nThe Board of Directors of Temple Emmanuel has approved the expenditure of up to $42\,000 for the replacement of the two boilers/furnaces and associated piping and electrical work for the Temple. \nWe need to make a quorum so please take a few moments to join the Zoom meeting or come to the Temple to discuss and vote on this important issue.\n \nJoin Meeting \nhttps://us02web.zoom.us/j/84565131044?pwd=YlUzY1Awa1VhNXlqei9Rc05xN3JGZz09\nMeeting ID: 845 6513 1044\nPasscode: 133480
URL:https://wakefieldtemple.org/event/special-congregational-membership-meeting/
END:VEVENT
BEGIN:VEVENT
DTSTART;TZID=America/New_York:20251014T183000
DTEND;TZID=America/New_York:20251014T200000
DTSTAMP:20260424T031254
CREATED:20250321T192238Z
LAST-MODIFIED:20250822T195138Z
UID:10012451-1760466600-1760472000@wakefieldtemple.org
SUMMARY:Simchat Torah Family Celebration
DESCRIPTION:
URL:https://wakefieldtemple.org/event/simchat-torah-family-celebration/
END:VEVENT
BEGIN:VEVENT
DTSTART;TZID=America/New_York:20251014T093000
DTEND;TZID=America/New_York:20251014T113000
DTSTAMP:20260424T031254
CREATED:20250321T192155Z
LAST-MODIFIED:20250321T192155Z
UID:10012450-1760434200-1760441400@wakefieldtemple.org
SUMMARY:Shemini Atzeret Services with Yizkor
DESCRIPTION:
URL:https://wakefieldtemple.org/event/shemini-atzeret-services-with-yizkor/
END:VEVENT
BEGIN:VEVENT
DTSTART;VALUE=DATE:20251013
DTEND;VALUE=DATE:20251014
DTSTAMP:20260424T031254
CREATED:20250321T192039Z
LAST-MODIFIED:20250321T192040Z
UID:10012449-1760313600-1760399999@wakefieldtemple.org
SUMMARY:Erev Shemini Atzeret (No Services)
DESCRIPTION:
URL:https://wakefieldtemple.org/event/erev-shemini-atzeret-no-services-2/
END:VEVENT
BEGIN:VEVENT
DTSTART;TZID=America/New_York:20251012T110000
DTEND;TZID=America/New_York:20251012T120000
DTSTAMP:20260424T031254
CREATED:20250730T140201Z
LAST-MODIFIED:20250930T232459Z
UID:10012711-1760266800-1760270400@wakefieldtemple.org
SUMMARY:Sisterhood Sunday Walkers
DESCRIPTION:Susan Silbovitz will be hosting this walk. After the walk\, Susan will have 2 pots of hot vegetarian soup and bread ready for us.\n \nWhen: Sunday October 12\, 2025 weather permitting\nTime: 11 AM\nWhere: Woods/trails behind Susan Silbovitz’s home \nMeeting location: 9 Vine Brook Way\, Woburn\n Parking available\n\nMISC: Approximately 45 minute walk\, dress for walking on trails in the woods. Recommend sturdy\, waterproof footwear and a walking stick if you have them.\nRSVP: Please RSVP to Sue H C: 781-258-7760. If possible\, please let me know as soon as you can as Susan S needs a headcount for food prep; however\, last minute RSVPS are always welcome.   
URL:https://wakefieldtemple.org/event/sisterhood-sunday-walkers-11-11-2/
CATEGORIES:Sisterhood
END:VEVENT
BEGIN:VEVENT
DTSTART;TZID=America/New_York:20251011T093000
DTEND;TZID=America/New_York:20251011T110000
DTSTAMP:20260424T031254
CREATED:20250915T220209Z
LAST-MODIFIED:20250915T220209Z
UID:10012619-1760175000-1760180400@wakefieldtemple.org
SUMMARY:Shabbat and Sukkot Morning Celebration
DESCRIPTION:
URL:https://wakefieldtemple.org/event/shabbat-morning-celebration-10-2/
END:VEVENT
BEGIN:VEVENT
DTSTART;TZID=America/New_York:20251010T193000
DTEND;TZID=America/New_York:20251010T210000
DTSTAMP:20260424T031254
CREATED:20250915T220131Z
LAST-MODIFIED:20250915T220131Z
UID:10012583-1760124600-1760130000@wakefieldtemple.org
SUMMARY:Erev Shabbat and Sukkot Celebration
DESCRIPTION:
URL:https://wakefieldtemple.org/event/erev-shabbat-celebration-16-5/
END:VEVENT
BEGIN:VEVENT
DTSTART;TZID=America/New_York:20251008T153000
DTEND;TZID=America/New_York:20251008T183000
DTSTAMP:20260424T031254
CREATED:20250322T180257Z
LAST-MODIFIED:20250322T180257Z
UID:10012552-1759937400-1759948200@wakefieldtemple.org
SUMMARY:Volunteer at Wakefield Community Dinners
DESCRIPTION:
URL:https://wakefieldtemple.org/event/volunteer-at-wakefield-community-dinners-2/2025-10-08/
END:VEVENT
END:VCALENDAR