BEGIN:VCALENDAR
VERSION:2.0
PRODID:-//Temple Emmanuel of Wakefield - ECPv6.15.20//NONSGML v1.0//EN
CALSCALE:GREGORIAN
METHOD:PUBLISH
X-ORIGINAL-URL:https://wakefieldtemple.org
X-WR-CALDESC:Events for Temple Emmanuel of Wakefield
REFRESH-INTERVAL;VALUE=DURATION:PT1H
X-Robots-Tag:noindex
X-PUBLISHED-TTL:PT1H
BEGIN:VTIMEZONE
TZID:America/New_York
BEGIN:DAYLIGHT
TZOFFSETFROM:-0500
TZOFFSETTO:-0400
TZNAME:EDT
DTSTART:20250309T070000
END:DAYLIGHT
BEGIN:STANDARD
TZOFFSETFROM:-0400
TZOFFSETTO:-0500
TZNAME:EST
DTSTART:20251102T060000
END:STANDARD
BEGIN:DAYLIGHT
TZOFFSETFROM:-0500
TZOFFSETTO:-0400
TZNAME:EDT
DTSTART:20260308T070000
END:DAYLIGHT
BEGIN:STANDARD
TZOFFSETFROM:-0400
TZOFFSETTO:-0500
TZNAME:EST
DTSTART:20261101T060000
END:STANDARD
BEGIN:DAYLIGHT
TZOFFSETFROM:-0500
TZOFFSETTO:-0400
TZNAME:EDT
DTSTART:20270314T070000
END:DAYLIGHT
BEGIN:STANDARD
TZOFFSETFROM:-0400
TZOFFSETTO:-0500
TZNAME:EST
DTSTART:20271107T060000
END:STANDARD
END:VTIMEZONE
BEGIN:VEVENT
DTSTART;TZID=America/New_York:20260613T100000
DTEND;TZID=America/New_York:20260613T113000
DTSTAMP:20260423T202717
CREATED:20251105T134807Z
LAST-MODIFIED:20260121T171456Z
UID:10012751-1781344800-1781350200@wakefieldtemple.org
SUMMARY:Shabbat Morning Celebration - Torah Study Session
DESCRIPTION:
URL:https://wakefieldtemple.org/event/shabbat-morning-celebration-10-3/2026-06-13/
END:VEVENT
BEGIN:VEVENT
DTSTART;TZID=America/New_York:20260614T100000
DTEND;TZID=America/New_York:20260614T160000
DTSTAMP:20260423T202717
CREATED:20260203T125914Z
LAST-MODIFIED:20260203T125915Z
UID:10012965-1781431200-1781452800@wakefieldtemple.org
SUMMARY:Wakefield Festival by the Lake
DESCRIPTION:
URL:https://wakefieldtemple.org/event/wakefield-festival-by-the-lake/
END:VEVENT
BEGIN:VEVENT
DTSTART;TZID=America/New_York:20260615T193000
DTEND;TZID=America/New_York:20260615T210000
DTSTAMP:20260423T202717
CREATED:20250322T154146Z
LAST-MODIFIED:20250322T154146Z
UID:10012548-1781551800-1781557200@wakefieldtemple.org
SUMMARY:Ways & Means Committee Meeting
DESCRIPTION:
URL:https://wakefieldtemple.org/event/ways-means-committee-meeting-6/2026-06-15/
END:VEVENT
BEGIN:VEVENT
DTSTART;TZID=America/New_York:20260616T193000
DTEND;TZID=America/New_York:20260616T210000
DTSTAMP:20260423T202717
CREATED:20250322T144524Z
LAST-MODIFIED:20250322T144525Z
UID:10012527-1781638200-1781643600@wakefieldtemple.org
SUMMARY:School Committee Meeting
DESCRIPTION:
URL:https://wakefieldtemple.org/event/school-committee-meeting-9/2026-06-16/
END:VEVENT
BEGIN:VEVENT
DTSTART;TZID=America/New_York:20260619T193000
DTEND;TZID=America/New_York:20260619T203000
DTSTAMP:20260423T202717
CREATED:20251020T132651Z
LAST-MODIFIED:20251020T132651Z
UID:10012616-1781897400-1781901000@wakefieldtemple.org
SUMMARY:Erev Shabbat Celebration
DESCRIPTION:
URL:https://wakefieldtemple.org/event/jewish-meditation-circle-16-2/2026-06-19/
END:VEVENT
BEGIN:VEVENT
DTSTART;TZID=America/New_York:20260620T100000
DTEND;TZID=America/New_York:20260620T110000
DTSTAMP:20260423T202717
CREATED:20251105T144702Z
LAST-MODIFIED:20251105T144702Z
UID:10012739-1781949600-1781953200@wakefieldtemple.org
SUMMARY:Shabbat at Breakheart
DESCRIPTION:Jewish Wilderness Spirituality\nMeet with Rabbi Micah Saturday Morning at the Northeast Regional Vocational School\, 100 Hemlock Road\, Wakefield at 10:00 AM at the larger parking lot to the right of the Vocational School Building\nPlease click on the link below for directions\nhttps://goo.gl/maps/bntTRr8bd5x
URL:https://wakefieldtemple.org/event/shabbat-at-breakheart-8-4/
END:VEVENT
BEGIN:VEVENT
DTSTART;TZID=America/New_York:20260623T100000
DTEND;TZID=America/New_York:20260623T120000
DTSTAMP:20260423T202717
CREATED:20251107T130536Z
LAST-MODIFIED:20251107T130536Z
UID:10012778-1782208800-1782216000@wakefieldtemple.org
SUMMARY:Visiting Moms Group
DESCRIPTION:
URL:https://wakefieldtemple.org/event/visiting-moms-group/2026-06-23/
END:VEVENT
BEGIN:VEVENT
DTSTART;TZID=America/New_York:20260623T193000
DTEND;TZID=America/New_York:20260623T210000
DTSTAMP:20260423T202717
CREATED:20251107T131234Z
LAST-MODIFIED:20251107T131234Z
UID:10012795-1782243000-1782248400@wakefieldtemple.org
SUMMARY:Continuing Education Committee
DESCRIPTION:
URL:https://wakefieldtemple.org/event/continuing-education-committee-5-4/2026-06-23/
END:VEVENT
BEGIN:VEVENT
DTSTART;TZID=America/New_York:20260626T193000
DTEND;TZID=America/New_York:20260626T210000
DTSTAMP:20260423T202717
CREATED:20250730T135845Z
LAST-MODIFIED:20250730T135954Z
UID:10012709-1782502200-1782507600@wakefieldtemple.org
SUMMARY:Erev Shabbat Celebration
DESCRIPTION:
URL:https://wakefieldtemple.org/event/erev-shabbat-celebration-20-2/2026-06-26/
END:VEVENT
BEGIN:VEVENT
DTSTART;TZID=America/New_York:20260627T100000
DTEND;TZID=America/New_York:20260627T113000
DTSTAMP:20260423T202717
CREATED:20251105T143244Z
LAST-MODIFIED:20260121T171628Z
UID:10012758-1782554400-1782559800@wakefieldtemple.org
SUMMARY:Shabbat Morning Celebration with Torah Reading
DESCRIPTION:
URL:https://wakefieldtemple.org/event/shabbat-morning-celebration-with-torah-reading/2026-06-27/
END:VEVENT
BEGIN:VEVENT
DTSTART;TZID=America/New_York:20260629T193000
DTEND;TZID=America/New_York:20260629T203000
DTSTAMP:20260423T202717
CREATED:20250715T220528Z
LAST-MODIFIED:20250715T220528Z
UID:10012705-1782761400-1782765000@wakefieldtemple.org
SUMMARY:Sisterhood Board Meeting
DESCRIPTION:
URL:https://wakefieldtemple.org/event/sisterhood-board-meeting-11/
END:VEVENT
BEGIN:VEVENT
DTSTART;TZID=America/New_York:20260708T153000
DTEND;TZID=America/New_York:20260708T183000
DTSTAMP:20260423T202717
CREATED:20260124T185925Z
LAST-MODIFIED:20260124T190215Z
UID:10012862-1783524600-1783535400@wakefieldtemple.org
SUMMARY:Volunteer at Wakefield Community Dinners
DESCRIPTION:Mitzvah opportunity! Temple Emmanuel is now partnered with Wakefield Community Dinners. Held at Most Blessed Sacrament in Wakefield\, the Community Dinners happen the 2nd Wednesday of every month\, with the opportunity to feed 80+ neighbors and friends from Wakefield\, Stoneham\, Melrose and towns as far as Medford\, Salem and Norwood. \nVolunteer hours are 3:30-6:30 PM. Guests come as families or alone. Although many are experiencing food insecurity\, most are impacted with social isolation. We provide a hot meal\, salad\, bread\, desserts\, and most importantly\, camaraderie. \nIf you’d like to have fun\, share smiles\, and engage in holy work\, please sign up here. \nContact Bev Weiner if you have any questions: theweino@aol.com
URL:https://wakefieldtemple.org/event/volunteer-at-wakefield-community-dinners-3/2026-07-08/
END:VEVENT
BEGIN:VEVENT
DTSTART;TZID=America/New_York:20260714T100000
DTEND;TZID=America/New_York:20260714T120000
DTSTAMP:20260423T202717
CREATED:20251107T130536Z
LAST-MODIFIED:20251107T130536Z
UID:10012779-1784023200-1784030400@wakefieldtemple.org
SUMMARY:Visiting Moms Group
DESCRIPTION:
URL:https://wakefieldtemple.org/event/visiting-moms-group/2026-07-14/
END:VEVENT
BEGIN:VEVENT
DTSTART;TZID=America/New_York:20260728T100000
DTEND;TZID=America/New_York:20260728T120000
DTSTAMP:20260423T202717
CREATED:20251107T130536Z
LAST-MODIFIED:20251107T130536Z
UID:10012780-1785232800-1785240000@wakefieldtemple.org
SUMMARY:Visiting Moms Group
DESCRIPTION:
URL:https://wakefieldtemple.org/event/visiting-moms-group/2026-07-28/
END:VEVENT
BEGIN:VEVENT
DTSTART;TZID=America/New_York:20260811T100000
DTEND;TZID=America/New_York:20260811T120000
DTSTAMP:20260423T202717
CREATED:20251107T130536Z
LAST-MODIFIED:20251107T130536Z
UID:10012781-1786442400-1786449600@wakefieldtemple.org
SUMMARY:Visiting Moms Group
DESCRIPTION:
URL:https://wakefieldtemple.org/event/visiting-moms-group/2026-08-11/
END:VEVENT
BEGIN:VEVENT
DTSTART;TZID=America/New_York:20260812T153000
DTEND;TZID=America/New_York:20260812T183000
DTSTAMP:20260423T202717
CREATED:20260124T185925Z
LAST-MODIFIED:20260124T190215Z
UID:10012863-1786548600-1786559400@wakefieldtemple.org
SUMMARY:Volunteer at Wakefield Community Dinners
DESCRIPTION:Mitzvah opportunity! Temple Emmanuel is now partnered with Wakefield Community Dinners. Held at Most Blessed Sacrament in Wakefield\, the Community Dinners happen the 2nd Wednesday of every month\, with the opportunity to feed 80+ neighbors and friends from Wakefield\, Stoneham\, Melrose and towns as far as Medford\, Salem and Norwood. \nVolunteer hours are 3:30-6:30 PM. Guests come as families or alone. Although many are experiencing food insecurity\, most are impacted with social isolation. We provide a hot meal\, salad\, bread\, desserts\, and most importantly\, camaraderie. \nIf you’d like to have fun\, share smiles\, and engage in holy work\, please sign up here. \nContact Bev Weiner if you have any questions: theweino@aol.com
URL:https://wakefieldtemple.org/event/volunteer-at-wakefield-community-dinners-3/2026-08-12/
END:VEVENT
BEGIN:VEVENT
DTSTART;TZID=America/New_York:20260825T100000
DTEND;TZID=America/New_York:20260825T120000
DTSTAMP:20260423T202717
CREATED:20251107T130536Z
LAST-MODIFIED:20251107T130536Z
UID:10012782-1787652000-1787659200@wakefieldtemple.org
SUMMARY:Visiting Moms Group
DESCRIPTION:
URL:https://wakefieldtemple.org/event/visiting-moms-group/2026-08-25/
END:VEVENT
BEGIN:VEVENT
DTSTART;VALUE=DATE:20260829
DTEND;VALUE=DATE:20260830
DTSTAMP:20260423T202717
CREATED:20260308T210049Z
LAST-MODIFIED:20260308T210050Z
UID:10012971-1787961600-1788047999@wakefieldtemple.org
SUMMARY:Wakefield Porchfest
DESCRIPTION:
URL:https://wakefieldtemple.org/event/wakefield-porchfest/
END:VEVENT
BEGIN:VEVENT
DTSTART;TZID=America/New_York:20260901T184500
DTEND;TZID=America/New_York:20260901T193000
DTSTAMP:20260423T202717
CREATED:20260124T191134Z
LAST-MODIFIED:20260124T191503Z
UID:10012901-1788288300-1788291000@wakefieldtemple.org
SUMMARY:House & Grounds Committee Meeting
DESCRIPTION:
URL:https://wakefieldtemple.org/event/house-grounds-committee-meeting-18/2026-09-01/
END:VEVENT
BEGIN:VEVENT
DTSTART;TZID=America/New_York:20260901T193000
DTEND;TZID=America/New_York:20260901T203000
DTSTAMP:20260423T202717
CREATED:20260124T194711Z
LAST-MODIFIED:20260124T202743Z
UID:10012954-1788291000-1788294600@wakefieldtemple.org
SUMMARY:Ritual Committee Meeting
DESCRIPTION:
URL:https://wakefieldtemple.org/event/ritual-committee-meeting-25/2026-09-01/
END:VEVENT
BEGIN:VEVENT
DTSTART;TZID=America/New_York:20260906T093000
DTEND;TZID=America/New_York:20260906T113000
DTSTAMP:20260423T202717
CREATED:20260124T180948Z
LAST-MODIFIED:20260124T180950Z
UID:10012847-1788687000-1788694200@wakefieldtemple.org
SUMMARY:Set Up Sanctuary for the High Holidays/ Machzorim Pick-up
DESCRIPTION:
URL:https://wakefieldtemple.org/event/set-up-sanctuary-for-the-high-holidays-machzorim-pick-up-2/
END:VEVENT
BEGIN:VEVENT
DTSTART;TZID=America/New_York:20260907T193000
DTEND;TZID=America/New_York:20260907T203000
DTSTAMP:20260423T202717
CREATED:20260124T190522Z
LAST-MODIFIED:20260124T191847Z
UID:10012875-1788809400-1788813000@wakefieldtemple.org
SUMMARY:Membership Committee Meeting
DESCRIPTION:
URL:https://wakefieldtemple.org/event/membership-committee-meeting-20/2026-09-07/
END:VEVENT
BEGIN:VEVENT
DTSTART;TZID=America/New_York:20260908T100000
DTEND;TZID=America/New_York:20260908T120000
DTSTAMP:20260423T202717
CREATED:20251107T130536Z
LAST-MODIFIED:20251107T130536Z
UID:10012783-1788861600-1788868800@wakefieldtemple.org
SUMMARY:Visiting Moms Group
DESCRIPTION:
URL:https://wakefieldtemple.org/event/visiting-moms-group/2026-09-08/
END:VEVENT
BEGIN:VEVENT
DTSTART;TZID=America/New_York:20260908T193000
DTEND;TZID=America/New_York:20260908T210000
DTSTAMP:20260423T202717
CREATED:20260124T190728Z
LAST-MODIFIED:20260124T191952Z
UID:10012888-1788895800-1788901200@wakefieldtemple.org
SUMMARY:Temple Board Meeting
DESCRIPTION:
URL:https://wakefieldtemple.org/event/temple-board-meeting-18/2026-09-08/
END:VEVENT
BEGIN:VEVENT
DTSTART;TZID=America/New_York:20260909T153000
DTEND;TZID=America/New_York:20260909T183000
DTSTAMP:20260423T202717
CREATED:20260124T185925Z
LAST-MODIFIED:20260124T190215Z
UID:10012865-1788967800-1788978600@wakefieldtemple.org
SUMMARY:Volunteer at Wakefield Community Dinners
DESCRIPTION:Mitzvah opportunity! Temple Emmanuel is now partnered with Wakefield Community Dinners. Held at Most Blessed Sacrament in Wakefield\, the Community Dinners happen the 2nd Wednesday of every month\, with the opportunity to feed 80+ neighbors and friends from Wakefield\, Stoneham\, Melrose and towns as far as Medford\, Salem and Norwood. \nVolunteer hours are 3:30-6:30 PM. Guests come as families or alone. Although many are experiencing food insecurity\, most are impacted with social isolation. We provide a hot meal\, salad\, bread\, desserts\, and most importantly\, camaraderie. \nIf you’d like to have fun\, share smiles\, and engage in holy work\, please sign up here. \nContact Bev Weiner if you have any questions: theweino@aol.com
URL:https://wakefieldtemple.org/event/volunteer-at-wakefield-community-dinners-3/2026-09-09/
END:VEVENT
BEGIN:VEVENT
DTSTART;TZID=America/New_York:20260911T193000
DTEND;TZID=America/New_York:20260911T210000
DTSTAMP:20260423T202718
CREATED:20260123T193059Z
LAST-MODIFIED:20260123T193101Z
UID:10012837-1789155000-1789160400@wakefieldtemple.org
SUMMARY:Erev Rosh Hashanah
DESCRIPTION:
URL:https://wakefieldtemple.org/event/erev-rosh-hashanah-5/
END:VEVENT
BEGIN:VEVENT
DTSTART;TZID=America/New_York:20260912T100000
DTEND;TZID=America/New_York:20260912T130000
DTSTAMP:20260423T202718
CREATED:20260123T193149Z
LAST-MODIFIED:20260123T193151Z
UID:10012838-1789207200-1789218000@wakefieldtemple.org
SUMMARY:Rosh Hashanah First Day
DESCRIPTION:
URL:https://wakefieldtemple.org/event/rosh-hashanah-first-day-2/
END:VEVENT
BEGIN:VEVENT
DTSTART;TZID=America/New_York:20260913T100000
DTEND;TZID=America/New_York:20260913T130000
DTSTAMP:20260423T202718
CREATED:20260123T193232Z
LAST-MODIFIED:20260123T193233Z
UID:10012839-1789293600-1789304400@wakefieldtemple.org
SUMMARY:Rosh Hashanah Second Day
DESCRIPTION:
URL:https://wakefieldtemple.org/event/rosh-hashanah-second-day-2/
END:VEVENT
BEGIN:VEVENT
DTSTART;TZID=America/New_York:20260915T193000
DTEND;TZID=America/New_York:20260915T203000
DTSTAMP:20260423T202718
CREATED:20260124T202453Z
LAST-MODIFIED:20260124T202455Z
UID:10012934-1789500600-1789504200@wakefieldtemple.org
SUMMARY:School Committee Meeting
DESCRIPTION:
URL:https://wakefieldtemple.org/event/school-committee-meeting-11/2026-09-15/
END:VEVENT
BEGIN:VEVENT
DTSTART;TZID=America/New_York:20260920T183000
DTEND;TZID=America/New_York:20260920T200000
DTSTAMP:20260423T202718
CREATED:20260123T193324Z
LAST-MODIFIED:20260124T181051Z
UID:10012840-1789929000-1789934400@wakefieldtemple.org
SUMMARY:Erev Yom Kippur\, Kol Nidre
DESCRIPTION:
URL:https://wakefieldtemple.org/event/erev-yom-kippur-2/
END:VEVENT
END:VCALENDAR