BEGIN:VCALENDAR
VERSION:2.0
PRODID:-//Temple Emmanuel of Wakefield - ECPv6.15.20//NONSGML v1.0//EN
CALSCALE:GREGORIAN
METHOD:PUBLISH
X-WR-CALNAME:Temple Emmanuel of Wakefield
X-ORIGINAL-URL:https://wakefieldtemple.org
X-WR-CALDESC:Events for Temple Emmanuel of Wakefield
REFRESH-INTERVAL;VALUE=DURATION:PT1H
X-Robots-Tag:noindex
X-PUBLISHED-TTL:PT1H
BEGIN:VTIMEZONE
TZID:America/New_York
BEGIN:DAYLIGHT
TZOFFSETFROM:-0500
TZOFFSETTO:-0400
TZNAME:EDT
DTSTART:20250309T070000
END:DAYLIGHT
BEGIN:STANDARD
TZOFFSETFROM:-0400
TZOFFSETTO:-0500
TZNAME:EST
DTSTART:20251102T060000
END:STANDARD
BEGIN:DAYLIGHT
TZOFFSETFROM:-0500
TZOFFSETTO:-0400
TZNAME:EDT
DTSTART:20260308T070000
END:DAYLIGHT
BEGIN:STANDARD
TZOFFSETFROM:-0400
TZOFFSETTO:-0500
TZNAME:EST
DTSTART:20261101T060000
END:STANDARD
BEGIN:DAYLIGHT
TZOFFSETFROM:-0500
TZOFFSETTO:-0400
TZNAME:EDT
DTSTART:20270314T070000
END:DAYLIGHT
BEGIN:STANDARD
TZOFFSETFROM:-0400
TZOFFSETTO:-0500
TZNAME:EST
DTSTART:20271107T060000
END:STANDARD
BEGIN:DAYLIGHT
TZOFFSETFROM:-0500
TZOFFSETTO:-0400
TZNAME:EDT
DTSTART:20280312T070000
END:DAYLIGHT
BEGIN:STANDARD
TZOFFSETFROM:-0400
TZOFFSETTO:-0500
TZNAME:EST
DTSTART:20281105T060000
END:STANDARD
END:VTIMEZONE
BEGIN:VEVENT
DTSTART;TZID=America/New_York:20261013T193000
DTEND;TZID=America/New_York:20261013T210000
DTSTAMP:20260424T012253
CREATED:20260124T190728Z
LAST-MODIFIED:20260124T191952Z
UID:10012889-1791919800-1791925200@wakefieldtemple.org
SUMMARY:Temple Board Meeting
DESCRIPTION:
URL:https://wakefieldtemple.org/event/temple-board-meeting-18/2026-10-13/
END:VEVENT
BEGIN:VEVENT
DTSTART;TZID=America/New_York:20261014T153000
DTEND;TZID=America/New_York:20261014T183000
DTSTAMP:20260424T012253
CREATED:20260124T185925Z
LAST-MODIFIED:20260124T190215Z
UID:10012866-1791991800-1792002600@wakefieldtemple.org
SUMMARY:Volunteer at Wakefield Community Dinners
DESCRIPTION:Mitzvah opportunity! Temple Emmanuel is now partnered with Wakefield Community Dinners. Held at Most Blessed Sacrament in Wakefield\, the Community Dinners happen the 2nd Wednesday of every month\, with the opportunity to feed 80+ neighbors and friends from Wakefield\, Stoneham\, Melrose and towns as far as Medford\, Salem and Norwood. \nVolunteer hours are 3:30-6:30 PM. Guests come as families or alone. Although many are experiencing food insecurity\, most are impacted with social isolation. We provide a hot meal\, salad\, bread\, desserts\, and most importantly\, camaraderie. \nIf you’d like to have fun\, share smiles\, and engage in holy work\, please sign up here. \nContact Bev Weiner if you have any questions: theweino@aol.com
URL:https://wakefieldtemple.org/event/volunteer-at-wakefield-community-dinners-3/2026-10-14/
END:VEVENT
BEGIN:VEVENT
DTSTART;TZID=America/New_York:20261018T140000
DTEND;TZID=America/New_York:20261018T160000
DTSTAMP:20260424T012253
CREATED:20250729T204649Z
LAST-MODIFIED:20250729T204649Z
UID:10012722-1792332000-1792339200@wakefieldtemple.org
SUMMARY:Linden Tree Concerts Presents: Singer Songwriter Greg Greenway
DESCRIPTION:
URL:https://wakefieldtemple.org/event/linden-tree-concerts-presents-singer-songwriter-greg-greenway/
END:VEVENT
BEGIN:VEVENT
DTSTART;TZID=America/New_York:20261019T193000
DTEND;TZID=America/New_York:20261019T203000
DTSTAMP:20260424T012253
CREATED:20260124T202343Z
LAST-MODIFIED:20260124T202344Z
UID:10012925-1792438200-1792441800@wakefieldtemple.org
SUMMARY:Ways & Means Committee Meeting
DESCRIPTION:
URL:https://wakefieldtemple.org/event/ways-means-committee-meeting-8/2026-10-19/
END:VEVENT
BEGIN:VEVENT
DTSTART;TZID=America/New_York:20261020T193000
DTEND;TZID=America/New_York:20261020T203000
DTSTAMP:20260424T012253
CREATED:20260124T202453Z
LAST-MODIFIED:20260124T202455Z
UID:10012935-1792524600-1792528200@wakefieldtemple.org
SUMMARY:School Committee Meeting
DESCRIPTION:
URL:https://wakefieldtemple.org/event/school-committee-meeting-11/2026-10-20/
END:VEVENT
BEGIN:VEVENT
DTSTART;TZID=America/New_York:20261027T100000
DTEND;TZID=America/New_York:20261027T120000
DTSTAMP:20260424T012253
CREATED:20251107T130536Z
LAST-MODIFIED:20251107T130536Z
UID:10012786-1793095200-1793102400@wakefieldtemple.org
SUMMARY:Visiting Moms Group
DESCRIPTION:
URL:https://wakefieldtemple.org/event/visiting-moms-group/2026-10-27/
END:VEVENT
BEGIN:VEVENT
DTSTART;TZID=America/New_York:20261027T193000
DTEND;TZID=America/New_York:20261027T203000
DTSTAMP:20260424T012253
CREATED:20260124T202605Z
LAST-MODIFIED:20260124T202607Z
UID:10012945-1793129400-1793133000@wakefieldtemple.org
SUMMARY:Continuing Education Committee Meeting
DESCRIPTION:
URL:https://wakefieldtemple.org/event/continuing-education-committee-meeting-3/2026-10-27/
END:VEVENT
BEGIN:VEVENT
DTSTART;TZID=America/New_York:20261102T193000
DTEND;TZID=America/New_York:20261102T203000
DTSTAMP:20260424T012253
CREATED:20260124T190522Z
LAST-MODIFIED:20260124T191847Z
UID:10012877-1793647800-1793651400@wakefieldtemple.org
SUMMARY:Membership Committee Meeting
DESCRIPTION:
URL:https://wakefieldtemple.org/event/membership-committee-meeting-20/2026-11-02/
END:VEVENT
BEGIN:VEVENT
DTSTART;TZID=America/New_York:20261103T184500
DTEND;TZID=America/New_York:20261103T193000
DTSTAMP:20260424T012253
CREATED:20260124T191134Z
LAST-MODIFIED:20260124T191503Z
UID:10012903-1793731500-1793734200@wakefieldtemple.org
SUMMARY:House & Grounds Committee Meeting
DESCRIPTION:
URL:https://wakefieldtemple.org/event/house-grounds-committee-meeting-18/2026-11-03/
END:VEVENT
BEGIN:VEVENT
DTSTART;TZID=America/New_York:20261103T193000
DTEND;TZID=America/New_York:20261103T203000
DTSTAMP:20260424T012253
CREATED:20260124T194711Z
LAST-MODIFIED:20260124T202743Z
UID:10012956-1793734200-1793737800@wakefieldtemple.org
SUMMARY:Ritual Committee Meeting
DESCRIPTION:
URL:https://wakefieldtemple.org/event/ritual-committee-meeting-25/2026-11-03/
END:VEVENT
BEGIN:VEVENT
DTSTART;TZID=America/New_York:20261110T100000
DTEND;TZID=America/New_York:20261110T120000
DTSTAMP:20260424T012253
CREATED:20251107T130536Z
LAST-MODIFIED:20251107T130536Z
UID:10012787-1794304800-1794312000@wakefieldtemple.org
SUMMARY:Visiting Moms Group
DESCRIPTION:
URL:https://wakefieldtemple.org/event/visiting-moms-group/2026-11-10/
END:VEVENT
BEGIN:VEVENT
DTSTART;TZID=America/New_York:20261110T193000
DTEND;TZID=America/New_York:20261110T210000
DTSTAMP:20260424T012253
CREATED:20260124T190728Z
LAST-MODIFIED:20260124T191952Z
UID:10012890-1794339000-1794344400@wakefieldtemple.org
SUMMARY:Temple Board Meeting
DESCRIPTION:
URL:https://wakefieldtemple.org/event/temple-board-meeting-18/2026-11-10/
END:VEVENT
BEGIN:VEVENT
DTSTART;TZID=America/New_York:20261111T153000
DTEND;TZID=America/New_York:20261111T183000
DTSTAMP:20260424T012253
CREATED:20260124T185925Z
LAST-MODIFIED:20260124T190215Z
UID:10012867-1794411000-1794421800@wakefieldtemple.org
SUMMARY:Volunteer at Wakefield Community Dinners
DESCRIPTION:Mitzvah opportunity! Temple Emmanuel is now partnered with Wakefield Community Dinners. Held at Most Blessed Sacrament in Wakefield\, the Community Dinners happen the 2nd Wednesday of every month\, with the opportunity to feed 80+ neighbors and friends from Wakefield\, Stoneham\, Melrose and towns as far as Medford\, Salem and Norwood. \nVolunteer hours are 3:30-6:30 PM. Guests come as families or alone. Although many are experiencing food insecurity\, most are impacted with social isolation. We provide a hot meal\, salad\, bread\, desserts\, and most importantly\, camaraderie. \nIf you’d like to have fun\, share smiles\, and engage in holy work\, please sign up here. \nContact Bev Weiner if you have any questions: theweino@aol.com
URL:https://wakefieldtemple.org/event/volunteer-at-wakefield-community-dinners-3/2026-11-11/
END:VEVENT
BEGIN:VEVENT
DTSTART;TZID=America/New_York:20261115T140000
DTEND;TZID=America/New_York:20261115T160000
DTSTAMP:20260424T012253
CREATED:20260407T002539Z
LAST-MODIFIED:20260407T002539Z
UID:10012974-1794751200-1794758400@wakefieldtemple.org
SUMMARY:Linden Tree Concert - more info to follow
DESCRIPTION:
URL:https://wakefieldtemple.org/event/linden-tree-concert-more-info-to-follow/
END:VEVENT
BEGIN:VEVENT
DTSTART;TZID=America/New_York:20261116T193000
DTEND;TZID=America/New_York:20261116T203000
DTSTAMP:20260424T012253
CREATED:20260124T202343Z
LAST-MODIFIED:20260124T202344Z
UID:10012926-1794857400-1794861000@wakefieldtemple.org
SUMMARY:Ways & Means Committee Meeting
DESCRIPTION:
URL:https://wakefieldtemple.org/event/ways-means-committee-meeting-8/2026-11-16/
END:VEVENT
BEGIN:VEVENT
DTSTART;TZID=America/New_York:20261117T193000
DTEND;TZID=America/New_York:20261117T203000
DTSTAMP:20260424T012253
CREATED:20260124T202453Z
LAST-MODIFIED:20260124T202455Z
UID:10012936-1794943800-1794947400@wakefieldtemple.org
SUMMARY:School Committee Meeting
DESCRIPTION:
URL:https://wakefieldtemple.org/event/school-committee-meeting-11/2026-11-17/
END:VEVENT
BEGIN:VEVENT
DTSTART;TZID=America/New_York:20261124T100000
DTEND;TZID=America/New_York:20261124T120000
DTSTAMP:20260424T012253
CREATED:20251107T130536Z
LAST-MODIFIED:20251107T130536Z
UID:10012788-1795514400-1795521600@wakefieldtemple.org
SUMMARY:Visiting Moms Group
DESCRIPTION:
URL:https://wakefieldtemple.org/event/visiting-moms-group/2026-11-24/
END:VEVENT
BEGIN:VEVENT
DTSTART;TZID=America/New_York:20261124T193000
DTEND;TZID=America/New_York:20261124T203000
DTSTAMP:20260424T012253
CREATED:20260124T202605Z
LAST-MODIFIED:20260124T202607Z
UID:10012946-1795548600-1795552200@wakefieldtemple.org
SUMMARY:Continuing Education Committee Meeting
DESCRIPTION:
URL:https://wakefieldtemple.org/event/continuing-education-committee-meeting-3/2026-11-24/
END:VEVENT
BEGIN:VEVENT
DTSTART;TZID=America/New_York:20261201T184500
DTEND;TZID=America/New_York:20261201T193000
DTSTAMP:20260424T012253
CREATED:20260124T191134Z
LAST-MODIFIED:20260124T191503Z
UID:10012904-1796150700-1796153400@wakefieldtemple.org
SUMMARY:House & Grounds Committee Meeting
DESCRIPTION:
URL:https://wakefieldtemple.org/event/house-grounds-committee-meeting-18/2026-12-01/
END:VEVENT
BEGIN:VEVENT
DTSTART;TZID=America/New_York:20261201T193000
DTEND;TZID=America/New_York:20261201T203000
DTSTAMP:20260424T012253
CREATED:20260124T194711Z
LAST-MODIFIED:20260124T202743Z
UID:10012957-1796153400-1796157000@wakefieldtemple.org
SUMMARY:Ritual Committee Meeting
DESCRIPTION:
URL:https://wakefieldtemple.org/event/ritual-committee-meeting-25/2026-12-01/
END:VEVENT
BEGIN:VEVENT
DTSTART;TZID=America/New_York:20261204T193000
DTEND;TZID=America/New_York:20261204T210000
DTSTAMP:20260424T012253
CREATED:20260124T182440Z
LAST-MODIFIED:20260124T182442Z
UID:10012850-1796412600-1796418000@wakefieldtemple.org
SUMMARY:First Night of Chanukah & Erev Shabbat Celebration
DESCRIPTION:
URL:https://wakefieldtemple.org/event/first-night-of-chanukah-erev-shabbat-celebration/
END:VEVENT
BEGIN:VEVENT
DTSTART;TZID=America/New_York:20261207T193000
DTEND;TZID=America/New_York:20261207T203000
DTSTAMP:20260424T012253
CREATED:20260124T190522Z
LAST-MODIFIED:20260124T191847Z
UID:10012878-1796671800-1796675400@wakefieldtemple.org
SUMMARY:Membership Committee Meeting
DESCRIPTION:
URL:https://wakefieldtemple.org/event/membership-committee-meeting-20/2026-12-07/
END:VEVENT
BEGIN:VEVENT
DTSTART;TZID=America/New_York:20261208T193000
DTEND;TZID=America/New_York:20261208T210000
DTSTAMP:20260424T012253
CREATED:20260124T190728Z
LAST-MODIFIED:20260124T191952Z
UID:10012891-1796758200-1796763600@wakefieldtemple.org
SUMMARY:Temple Board Meeting
DESCRIPTION:
URL:https://wakefieldtemple.org/event/temple-board-meeting-18/2026-12-08/
END:VEVENT
BEGIN:VEVENT
DTSTART;TZID=America/New_York:20261209T153000
DTEND;TZID=America/New_York:20261209T183000
DTSTAMP:20260424T012253
CREATED:20260124T185925Z
LAST-MODIFIED:20260124T190215Z
UID:10012868-1796830200-1796841000@wakefieldtemple.org
SUMMARY:Volunteer at Wakefield Community Dinners
DESCRIPTION:Mitzvah opportunity! Temple Emmanuel is now partnered with Wakefield Community Dinners. Held at Most Blessed Sacrament in Wakefield\, the Community Dinners happen the 2nd Wednesday of every month\, with the opportunity to feed 80+ neighbors and friends from Wakefield\, Stoneham\, Melrose and towns as far as Medford\, Salem and Norwood. \nVolunteer hours are 3:30-6:30 PM. Guests come as families or alone. Although many are experiencing food insecurity\, most are impacted with social isolation. We provide a hot meal\, salad\, bread\, desserts\, and most importantly\, camaraderie. \nIf you’d like to have fun\, share smiles\, and engage in holy work\, please sign up here. \nContact Bev Weiner if you have any questions: theweino@aol.com
URL:https://wakefieldtemple.org/event/volunteer-at-wakefield-community-dinners-3/2026-12-09/
END:VEVENT
BEGIN:VEVENT
DTSTART;TZID=America/New_York:20261215T100000
DTEND;TZID=America/New_York:20261215T120000
DTSTAMP:20260424T012253
CREATED:20251107T130536Z
LAST-MODIFIED:20251107T130536Z
UID:10012789-1797328800-1797336000@wakefieldtemple.org
SUMMARY:Visiting Moms Group
DESCRIPTION:
URL:https://wakefieldtemple.org/event/visiting-moms-group/2026-12-15/
END:VEVENT
BEGIN:VEVENT
DTSTART;TZID=America/New_York:20261215T193000
DTEND;TZID=America/New_York:20261215T203000
DTSTAMP:20260424T012253
CREATED:20260124T202453Z
LAST-MODIFIED:20260124T202455Z
UID:10012937-1797363000-1797366600@wakefieldtemple.org
SUMMARY:School Committee Meeting
DESCRIPTION:
URL:https://wakefieldtemple.org/event/school-committee-meeting-11/2026-12-15/
END:VEVENT
BEGIN:VEVENT
DTSTART;TZID=America/New_York:20261221T193000
DTEND;TZID=America/New_York:20261221T203000
DTSTAMP:20260424T012253
CREATED:20260124T202343Z
LAST-MODIFIED:20260124T202344Z
UID:10012927-1797881400-1797885000@wakefieldtemple.org
SUMMARY:Ways & Means Committee Meeting
DESCRIPTION:
URL:https://wakefieldtemple.org/event/ways-means-committee-meeting-8/2026-12-21/
END:VEVENT
BEGIN:VEVENT
DTSTART;TZID=America/New_York:20261222T193000
DTEND;TZID=America/New_York:20261222T203000
DTSTAMP:20260424T012253
CREATED:20260124T202605Z
LAST-MODIFIED:20260124T202607Z
UID:10012947-1797967800-1797971400@wakefieldtemple.org
SUMMARY:Continuing Education Committee Meeting
DESCRIPTION:
URL:https://wakefieldtemple.org/event/continuing-education-committee-meeting-3/2026-12-22/
END:VEVENT
BEGIN:VEVENT
DTSTART;TZID=America/New_York:20270104T193000
DTEND;TZID=America/New_York:20270104T203000
DTSTAMP:20260424T012253
CREATED:20260124T190522Z
LAST-MODIFIED:20260124T191847Z
UID:10012879-1799091000-1799094600@wakefieldtemple.org
SUMMARY:Membership Committee Meeting
DESCRIPTION:
URL:https://wakefieldtemple.org/event/membership-committee-meeting-20/2027-01-04/
END:VEVENT
BEGIN:VEVENT
DTSTART;TZID=America/New_York:20270105T184500
DTEND;TZID=America/New_York:20270105T193000
DTSTAMP:20260424T012253
CREATED:20260124T191134Z
LAST-MODIFIED:20260124T191503Z
UID:10012905-1799174700-1799177400@wakefieldtemple.org
SUMMARY:House & Grounds Committee Meeting
DESCRIPTION:
URL:https://wakefieldtemple.org/event/house-grounds-committee-meeting-18/2027-01-05/
END:VEVENT
END:VCALENDAR