BEGIN:VCALENDAR
VERSION:2.0
PRODID:-//Temple Emmanuel of Wakefield - ECPv6.15.20//NONSGML v1.0//EN
CALSCALE:GREGORIAN
METHOD:PUBLISH
X-WR-CALNAME:Temple Emmanuel of Wakefield
X-ORIGINAL-URL:https://wakefieldtemple.org
X-WR-CALDESC:Events for Temple Emmanuel of Wakefield
REFRESH-INTERVAL;VALUE=DURATION:PT1H
X-Robots-Tag:noindex
X-PUBLISHED-TTL:PT1H
BEGIN:VTIMEZONE
TZID:America/New_York
BEGIN:DAYLIGHT
TZOFFSETFROM:-0500
TZOFFSETTO:-0400
TZNAME:EDT
DTSTART:20230312T070000
END:DAYLIGHT
BEGIN:STANDARD
TZOFFSETFROM:-0400
TZOFFSETTO:-0500
TZNAME:EST
DTSTART:20231105T060000
END:STANDARD
BEGIN:DAYLIGHT
TZOFFSETFROM:-0500
TZOFFSETTO:-0400
TZNAME:EDT
DTSTART:20240310T070000
END:DAYLIGHT
BEGIN:STANDARD
TZOFFSETFROM:-0400
TZOFFSETTO:-0500
TZNAME:EST
DTSTART:20241103T060000
END:STANDARD
BEGIN:DAYLIGHT
TZOFFSETFROM:-0500
TZOFFSETTO:-0400
TZNAME:EDT
DTSTART:20250309T070000
END:DAYLIGHT
BEGIN:STANDARD
TZOFFSETFROM:-0400
TZOFFSETTO:-0500
TZNAME:EST
DTSTART:20251102T060000
END:STANDARD
END:VTIMEZONE
BEGIN:VEVENT
DTSTART;TZID=America/New_York:20241024T093000
DTEND;TZID=America/New_York:20241024T113000
DTSTAMP:20260425T215732
CREATED:20240518T000015Z
LAST-MODIFIED:20240518T000015Z
UID:10012088-1729762200-1729769400@wakefieldtemple.org
SUMMARY:Shemini Atzeret Service\, with Yizkor
DESCRIPTION:
URL:https://wakefieldtemple.org/event/shemini-atzeret-service-with-yizkor-3/
END:VEVENT
BEGIN:VEVENT
DTSTART;VALUE=DATE:20241023
DTEND;VALUE=DATE:20241024
DTSTAMP:20260425T215732
CREATED:20240517T235905Z
LAST-MODIFIED:20240517T235905Z
UID:10012087-1729641600-1729727999@wakefieldtemple.org
SUMMARY:Erev Shemini Atzeret (No Services)
DESCRIPTION:
URL:https://wakefieldtemple.org/event/erev-shemini-atzeret-no-services/
END:VEVENT
BEGIN:VEVENT
DTSTART;TZID=America/New_York:20241022T193000
DTEND;TZID=America/New_York:20241022T210000
DTSTAMP:20260425T215732
CREATED:20240518T231657Z
LAST-MODIFIED:20240819T121336Z
UID:10012238-1729625400-1729630800@wakefieldtemple.org
SUMMARY:Continuing Education Committee Meeting
DESCRIPTION:
URL:https://wakefieldtemple.org/event/continuing-education-committee-meeting-2/2024-10-22/
END:VEVENT
BEGIN:VEVENT
DTSTART;TZID=America/New_York:20241019T093000
DTEND;TZID=America/New_York:20241019T110000
DTSTAMP:20260425T215732
CREATED:20240904T000830Z
LAST-MODIFIED:20240904T000832Z
UID:10012289-1729330200-1729335600@wakefieldtemple.org
SUMMARY:Lay-Lead Shabbat Morning Celebration
DESCRIPTION:
URL:https://wakefieldtemple.org/event/shabbat-morning-celebration-9-2/
END:VEVENT
BEGIN:VEVENT
DTSTART;TZID=America/New_York:20241018T193000
DTEND;TZID=America/New_York:20241018T203000
DTSTAMP:20260425T215732
CREATED:20240904T000706Z
LAST-MODIFIED:20240904T000709Z
UID:10012105-1729279800-1729283400@wakefieldtemple.org
SUMMARY:Jewish Meditation Circle-CANCELED
DESCRIPTION:
URL:https://wakefieldtemple.org/event/jewish-meditation-circle-13-2/
END:VEVENT
BEGIN:VEVENT
DTSTART;TZID=America/New_York:20241017T093000
DTEND;TZID=America/New_York:20241017T113000
DTSTAMP:20260425T215732
CREATED:20240517T235626Z
LAST-MODIFIED:20240518T114534Z
UID:10012086-1729157400-1729164600@wakefieldtemple.org
SUMMARY:Sukkot First Day Celebration
DESCRIPTION:
URL:https://wakefieldtemple.org/event/sukkot-first-day-celebration-5/
END:VEVENT
BEGIN:VEVENT
DTSTART;TZID=America/New_York:20241016T190000
DTEND;TZID=America/New_York:20241016T203000
DTSTAMP:20260425T215732
CREATED:20240517T235527Z
LAST-MODIFIED:20240517T235527Z
UID:10012085-1729105200-1729110600@wakefieldtemple.org
SUMMARY:Erev Sukkot Family Celebration followed by Wine & Cheese in the Sukkah
DESCRIPTION:
URL:https://wakefieldtemple.org/event/erev-sukkot-family-celebration-followed-by-wine-cheese-in-the-sukkah/
END:VEVENT
BEGIN:VEVENT
DTSTART;TZID=America/New_York:20241015T193000
DTEND;TZID=America/New_York:20241015T210000
DTSTAMP:20260425T215732
CREATED:20240518T194009Z
LAST-MODIFIED:20240518T194009Z
UID:10012228-1729020600-1729026000@wakefieldtemple.org
SUMMARY:School Committee Meeting
DESCRIPTION:
URL:https://wakefieldtemple.org/event/school-committee-meeting-8/2024-10-15/
END:VEVENT
BEGIN:VEVENT
DTSTART;TZID=America/New_York:20241013T110000
DTEND;TZID=America/New_York:20241013T120000
DTSTAMP:20260425T215732
CREATED:20240912T203919Z
LAST-MODIFIED:20241006T003942Z
UID:10012274-1728817200-1728820800@wakefieldtemple.org
SUMMARY:Sisterhood Sunday Walkers
DESCRIPTION:When: Sunday  October 13\, 2024  weather dependent\nTime: 11 AM\, see below for further information\nWhere: Temple Emmanuel Neighborhood\nMeeting location: Temple Emmanuel 120 Chestnut St\nParking:  Street parking\nRSVP: Please RSVP to Sue H 781-258-7760\nAdditional information:  The walk will start at 11\, but please consider coming early to help return the  sanctuary to pre RH/Yom Kippur status. Additionally\, the Succah will be set up. Good time to bring  a Succah decoration\, too. \n_______________________________________________\nSave the Date: November 3\, 2024 Trails and Soup at Susan Silbovitz’s 
URL:https://wakefieldtemple.org/event/sisterhood-sunday-walkers-11-2/
CATEGORIES:Sisterhood
END:VEVENT
BEGIN:VEVENT
DTSTART;TZID=America/New_York:20241013T093000
DTEND;TZID=America/New_York:20241013T113000
DTSTAMP:20260425T215732
CREATED:20240517T234300Z
LAST-MODIFIED:20240517T234537Z
UID:10012084-1728811800-1728819000@wakefieldtemple.org
SUMMARY:Return Sanctuary to Normal Use & Set Up Sukkah
DESCRIPTION:
URL:https://wakefieldtemple.org/event/return-sanctuary-to-normal-use-set-up-sukkah-2/
END:VEVENT
BEGIN:VEVENT
DTSTART;TZID=America/New_York:20241012T185000
DTEND;TZID=America/New_York:20241012T200000
DTSTAMP:20260425T215732
CREATED:20240517T234127Z
LAST-MODIFIED:20240605T100433Z
UID:10012083-1728759000-1728763200@wakefieldtemple.org
SUMMARY:Community Break Fast
DESCRIPTION:
URL:https://wakefieldtemple.org/event/community-break-fast/
END:VEVENT
BEGIN:VEVENT
DTSTART;TZID=America/New_York:20241012T173000
DTEND;TZID=America/New_York:20241012T184500
DTSTAMP:20260425T215732
CREATED:20240517T234023Z
LAST-MODIFIED:20240904T000606Z
UID:10012082-1728754200-1728758700@wakefieldtemple.org
SUMMARY:Mincha/Nei'ilah
DESCRIPTION:
URL:https://wakefieldtemple.org/event/mincha-neiilah-3/
END:VEVENT
BEGIN:VEVENT
DTSTART;TZID=America/New_York:20241012T093000
DTEND;TZID=America/New_York:20241012T130000
DTSTAMP:20260425T215732
CREATED:20240517T233629Z
LAST-MODIFIED:20240517T235220Z
UID:10012081-1728725400-1728738000@wakefieldtemple.org
SUMMARY:Yom Kippur Morning Service
DESCRIPTION:
URL:https://wakefieldtemple.org/event/yom-kippur-morning-service-2/
END:VEVENT
BEGIN:VEVENT
DTSTART;TZID=America/New_York:20241011T180000
DTEND;TZID=America/New_York:20241011T203000
DTSTAMP:20260425T215732
CREATED:20240517T233527Z
LAST-MODIFIED:20240904T000521Z
UID:10012080-1728669600-1728678600@wakefieldtemple.org
SUMMARY:Erev Yom Kippur\, Kol Nidre
DESCRIPTION:
URL:https://wakefieldtemple.org/event/erev-yom-kippur-kol-nidre-4/
END:VEVENT
BEGIN:VEVENT
DTSTART;TZID=America/New_York:20241009T153000
DTEND;TZID=America/New_York:20241009T183000
DTSTAMP:20260425T215732
CREATED:20231221T230232Z
LAST-MODIFIED:20241103T233918Z
UID:10012254-1728487800-1728498600@wakefieldtemple.org
SUMMARY:Volunteer at Wakefield Community Dinners
DESCRIPTION:Mitzvah opportunity! Temple Emmanuel is now partnered with Wakefield Community Dinners. Held at Most Blessed Sacrament in Wakefield\, the Community Dinners happen the 2nd Wednesday of every month\, with the opportunity to feed 80+ neighbors and friends from Wakefield\, Stoneham\, Melrose and towns as far as Medford\, Salem and Norwood. Volunteer hours are 3:30-6:30pm. Guests come as families or alone. Although many are experiencing food insecurity\, most are impacted with social isolation. We provide a hot meal\, salad\, bread\, desserts\, and most importantly\, camaraderie. If you’d like to have fun\, share smiles\, and engage in holy work with Rabbi Greg\, please sign up here.
URL:https://wakefieldtemple.org/event/volunteer-at-wakefield-community-dinners/2024-10-09/
END:VEVENT
BEGIN:VEVENT
DTSTART;TZID=America/New_York:20241008T193000
DTEND;TZID=America/New_York:20241008T210000
DTSTAMP:20260425T215732
CREATED:20240518T183820Z
LAST-MODIFIED:20240518T183820Z
UID:10012208-1728415800-1728421200@wakefieldtemple.org
SUMMARY:Temple Board Meeting
DESCRIPTION:
URL:https://wakefieldtemple.org/event/temple-board-meeting-16/2024-10-08/
END:VEVENT
BEGIN:VEVENT
DTSTART;TZID=America/New_York:20241007T193000
DTEND;TZID=America/New_York:20241007T210000
DTSTAMP:20260425T215732
CREATED:20240518T183134Z
LAST-MODIFIED:20240518T183134Z
UID:10012198-1728329400-1728334800@wakefieldtemple.org
SUMMARY:Membership Committee Meeting
DESCRIPTION:
URL:https://wakefieldtemple.org/event/membership-committee-meeting-17/2024-10-07/
END:VEVENT
BEGIN:VEVENT
DTSTART;TZID=America/New_York:20241006T100000
DTEND;TZID=America/New_York:20241006T120000
DTSTAMP:20260425T215732
CREATED:20240927T162810Z
LAST-MODIFIED:20251125T205018Z
UID:10012351-1728208800-1728216000@wakefieldtemple.org
SUMMARY:Bagels and Coffee Commemorating October 7
DESCRIPTION:On Sunday\, October 6th at 10am in our upstairs social hall\, our community will host Yuri’s nephews\, who served as reservists in Israel’s north and in Gaza in the last year. They’ll offer battlefield updates and respond to Q&A. The event will be HYBRID. Rabbi Greg will moderate the discussion\, and coffee and bagels will be available for in-person participants. Here is the Zoom link
URL:https://wakefieldtemple.org/event/bagels-and-coffee-commemorating-october-7/
END:VEVENT
BEGIN:VEVENT
DTSTART;TZID=America/New_York:20241005T093000
DTEND;TZID=America/New_York:20241005T113000
DTSTAMP:20260425T215732
CREATED:20231221T210321Z
LAST-MODIFIED:20240905T220852Z
UID:10012035-1728120600-1728127800@wakefieldtemple.org
SUMMARY:Shabbat Shuvah Morning Celebration including the Bat Mitzvah of Riley Bennett
DESCRIPTION:
URL:https://wakefieldtemple.org/event/shabbat-morning-celebration-including-the-bar-mitzvah-of-riley-bennett/
END:VEVENT
BEGIN:VEVENT
DTSTART;TZID=America/New_York:20241004T093000
DTEND;TZID=America/New_York:20241004T123000
DTSTAMP:20260425T215732
CREATED:20240517T233111Z
LAST-MODIFIED:20240517T235012Z
UID:10012077-1728034200-1728045000@wakefieldtemple.org
SUMMARY:Rosh Hashanah Second Day Service
DESCRIPTION:
URL:https://wakefieldtemple.org/event/rosh-hashanah-second-day-service-2/
END:VEVENT
BEGIN:VEVENT
DTSTART;TZID=America/New_York:20241003T093000
DTEND;TZID=America/New_York:20241003T123000
DTSTAMP:20260425T215732
CREATED:20240517T232937Z
LAST-MODIFIED:20240517T234949Z
UID:10012076-1727947800-1727958600@wakefieldtemple.org
SUMMARY:Rosh Hashanah First Day Service\, Tashlich immediately after at the lake
DESCRIPTION:
URL:https://wakefieldtemple.org/event/rosh-hashanah-first-day-service-tashlich-immediately-after-at-the-lake/
END:VEVENT
BEGIN:VEVENT
DTSTART;TZID=America/New_York:20241002T190000
DTEND;TZID=America/New_York:20241002T210000
DTSTAMP:20260425T215732
CREATED:20240517T232629Z
LAST-MODIFIED:20240517T234926Z
UID:10012075-1727895600-1727902800@wakefieldtemple.org
SUMMARY:Erev Rosh Hashanah
DESCRIPTION:
URL:https://wakefieldtemple.org/event/erev-rosh-hashanah-3/
END:VEVENT
BEGIN:VEVENT
DTSTART;TZID=America/New_York:20241001T193000
DTEND;TZID=America/New_York:20241001T210000
DTSTAMP:20260425T215732
CREATED:20240518T174856Z
LAST-MODIFIED:20240518T174856Z
UID:10012188-1727811000-1727816400@wakefieldtemple.org
SUMMARY:Ritual Committee Meeting
DESCRIPTION:
URL:https://wakefieldtemple.org/event/ritual-committee-meeting-21/2024-10-01/
END:VEVENT
BEGIN:VEVENT
DTSTART;TZID=America/New_York:20241001T184500
DTEND;TZID=America/New_York:20241001T193000
DTSTAMP:20260425T215732
CREATED:20240518T150907Z
LAST-MODIFIED:20240518T150907Z
UID:10012178-1727808300-1727811000@wakefieldtemple.org
SUMMARY:House & Grounds Committee Meeting
DESCRIPTION:
URL:https://wakefieldtemple.org/event/house-grounds-committee-meeting-15/2024-10-01/
END:VEVENT
BEGIN:VEVENT
DTSTART;TZID=America/New_York:20240929T093000
DTEND;TZID=America/New_York:20240929T113000
DTSTAMP:20260425T215732
CREATED:20240517T222947Z
LAST-MODIFIED:20240831T135932Z
UID:10012073-1727602200-1727609400@wakefieldtemple.org
SUMMARY:Set up Sanctuary for High Holidays & Machzorim Pick-up
DESCRIPTION:
URL:https://wakefieldtemple.org/event/set-up-sanctuary-for-high-holidays-6/
END:VEVENT
BEGIN:VEVENT
DTSTART;TZID=America/New_York:20240928T183000
DTEND;TZID=America/New_York:20240928T210000
DTSTAMP:20260425T215732
CREATED:20240517T222822Z
LAST-MODIFIED:20240925T193022Z
UID:10012072-1727548200-1727557200@wakefieldtemple.org
SUMMARY:Pot Luck/ Havdallah/Selichot
DESCRIPTION:6:30 PM:  Pot Luck\n~7:45 PM:  Havdalah\n~8:00 PM:  Selichot\nPOT LUCK!!\n\nBring a dish that we can all share\, such as:\n\nPasta (macaroni and cheese\, creamy broccoli Alfredo…)\nDairy (cheese & crackers\, cheese blintzes…)\nFish (salmon loaf\, tuna casserole…)\nVeggies (salad\, raw sticks with a dip…)\nBeans\, grains\, legumes (bean salad\, quinoa casserole…)\nNO MEAT \n\n\n Drinks & desserts will be provided\n\nPlease RSVP with what you will be bringing (10 mac ‘n cheese dishes would be awesome\, but…) – Susan at svitz9@gmail.com by 9/27
URL:https://wakefieldtemple.org/event/pot-luck-havdallah-selichot-open-house-social/
END:VEVENT
BEGIN:VEVENT
DTSTART;TZID=America/New_York:20240928T093000
DTEND;TZID=America/New_York:20240928T110000
DTSTAMP:20260425T215732
CREATED:20240927T124543Z
LAST-MODIFIED:20240927T133938Z
UID:10012169-1727515800-1727521200@wakefieldtemple.org
SUMMARY:Shabbat at Breakheart
DESCRIPTION:Jewish Wilderness Spirituality\nMeet with Rabbi Greg Saturday Morning at the Northeast Regional Vocational School\, 100 Hemlock Road\, Wakefield at 9:30 AM at the larger parking lot to the right of the Vocational School Building\nPlease click on the link below for directions\nhttps://goo.gl/maps/bntTRr8bd5x
URL:https://wakefieldtemple.org/event/shabbat-at-breakheart-6-2/
END:VEVENT
BEGIN:VEVENT
DTSTART;TZID=America/New_York:20240927T193000
DTEND;TZID=America/New_York:20240927T210000
DTSTAMP:20260425T215732
CREATED:20240518T115852Z
LAST-MODIFIED:20240518T142640Z
UID:10012097-1727465400-1727470800@wakefieldtemple.org
SUMMARY:Erev Shabbat Celebration
DESCRIPTION:
URL:https://wakefieldtemple.org/event/erev-shabbat-celebration-12/2024-09-27/
END:VEVENT
BEGIN:VEVENT
DTSTART;TZID=America/New_York:20240924T193000
DTEND;TZID=America/New_York:20240924T210000
DTSTAMP:20260425T215732
CREATED:20240518T231657Z
LAST-MODIFIED:20240819T121336Z
UID:10012312-1727206200-1727211600@wakefieldtemple.org
SUMMARY:Continuing Education Committee Meeting
DESCRIPTION:
URL:https://wakefieldtemple.org/event/continuing-education-committee-meeting-2/2024-09-24/
END:VEVENT
BEGIN:VEVENT
DTSTART;TZID=America/New_York:20240924T183000
DTEND;TZID=America/New_York:20240924T203000
DTSTAMP:20260425T215732
CREATED:20240819T120837Z
LAST-MODIFIED:20240819T120853Z
UID:10012311-1727202600-1727209800@wakefieldtemple.org
SUMMARY:CHAI School Open House for Parents
DESCRIPTION:
URL:https://wakefieldtemple.org/event/chai-school-open-house-for-parents/
CATEGORIES:Hebrew School
END:VEVENT
END:VCALENDAR