BEGIN:VCALENDAR
VERSION:2.0
PRODID:-//Temple Emmanuel of Wakefield - ECPv6.15.20//NONSGML v1.0//EN
CALSCALE:GREGORIAN
METHOD:PUBLISH
X-WR-CALNAME:Temple Emmanuel of Wakefield
X-ORIGINAL-URL:https://wakefieldtemple.org
X-WR-CALDESC:Events for Temple Emmanuel of Wakefield
REFRESH-INTERVAL;VALUE=DURATION:PT1H
X-Robots-Tag:noindex
X-PUBLISHED-TTL:PT1H
BEGIN:VTIMEZONE
TZID:America/New_York
BEGIN:DAYLIGHT
TZOFFSETFROM:-0500
TZOFFSETTO:-0400
TZNAME:EDT
DTSTART:20240310T070000
END:DAYLIGHT
BEGIN:STANDARD
TZOFFSETFROM:-0400
TZOFFSETTO:-0500
TZNAME:EST
DTSTART:20241103T060000
END:STANDARD
BEGIN:DAYLIGHT
TZOFFSETFROM:-0500
TZOFFSETTO:-0400
TZNAME:EDT
DTSTART:20250309T070000
END:DAYLIGHT
BEGIN:STANDARD
TZOFFSETFROM:-0400
TZOFFSETTO:-0500
TZNAME:EST
DTSTART:20251102T060000
END:STANDARD
BEGIN:DAYLIGHT
TZOFFSETFROM:-0500
TZOFFSETTO:-0400
TZNAME:EDT
DTSTART:20260308T070000
END:DAYLIGHT
BEGIN:STANDARD
TZOFFSETFROM:-0400
TZOFFSETTO:-0500
TZNAME:EST
DTSTART:20261101T060000
END:STANDARD
END:VTIMEZONE
BEGIN:VEVENT
DTSTART;TZID=America/New_York:20250304T184500
DTEND;TZID=America/New_York:20250304T193000
DTSTAMP:20260425T122350
CREATED:20240518T150907Z
LAST-MODIFIED:20240518T150907Z
UID:10012183-1741113900-1741116600@wakefieldtemple.org
SUMMARY:House & Grounds Committee Meeting
DESCRIPTION:
URL:https://wakefieldtemple.org/event/house-grounds-committee-meeting-15/2025-03-04/
END:VEVENT
BEGIN:VEVENT
DTSTART;TZID=America/New_York:20250303T193000
DTEND;TZID=America/New_York:20250303T210000
DTSTAMP:20260425T122350
CREATED:20240518T183134Z
LAST-MODIFIED:20240518T183134Z
UID:10012203-1741030200-1741035600@wakefieldtemple.org
SUMMARY:Membership Committee Meeting
DESCRIPTION:
URL:https://wakefieldtemple.org/event/membership-committee-meeting-17/2025-03-03/
END:VEVENT
BEGIN:VEVENT
DTSTART;VALUE=DATE:20250303
DTEND;VALUE=DATE:20250304
DTSTAMP:20260425T122350
CREATED:20250321T192840Z
LAST-MODIFIED:20250321T192841Z
UID:10012456-1740960000-1741046399@wakefieldtemple.org
SUMMARY:Purim
DESCRIPTION:
URL:https://wakefieldtemple.org/event/purim-3/
END:VEVENT
BEGIN:VEVENT
DTSTART;TZID=America/New_York:20250302T190000
DTEND;TZID=America/New_York:20250302T203000
DTSTAMP:20260425T122350
CREATED:20250321T192810Z
LAST-MODIFIED:20250321T192810Z
UID:10012455-1740942000-1740947400@wakefieldtemple.org
SUMMARY:Purim Evening Family Celebration
DESCRIPTION:
URL:https://wakefieldtemple.org/event/purim-evening-family-celebration-5/
END:VEVENT
BEGIN:VEVENT
DTSTART;TZID=America/New_York:20250302T140000
DTEND;TZID=America/New_York:20250302T160000
DTSTAMP:20260425T122350
CREATED:20240831T121147Z
LAST-MODIFIED:20250201T151343Z
UID:10012347-1740924000-1740931200@wakefieldtemple.org
SUMMARY:Women in World Jazz
DESCRIPTION:WOMEN IN WORLD JAZZ \n A tribute to women composers from the US and around the globe\nTemple Emmanuel\nMarch 2 at 2:00 PM\nWomen in World Jazz\, a performing 5 piece ensemble\, was founded by Tal Shalom-\nKobi in 2015. Women in World Jazz aims to expose audiences to different cultures\nthrough music\, with a variety of music backgrounds including jazz\, folk\, pop\, rock and\nblues.\nWIWJ director and Berklee college of music faculty\, Tal Shalom-Kobi\, has been active in the\nmusic history arena for the past 20 years\, researching and performing music written by women\nfrom the USA and around the world. The group Women in World Jazz features world music\ncomposed by women composers and lyricists past and present. From USA Blues and Jazz styles\,\nthe group ventures to Latin America\, Asia\, Africa and the Middle East to celebrate the\ndiversity and power of creativity. \nWomen In World Jazz brings together women of different nationalities with extensive\nexperience in performance and education. The music is easy to relate to\, diverse and engaging.\nAll members of the group are accomplished musicians playing a variety of music ranging from\nJazz to world/ethnic. For individual bios go to WIWJ website.\nWomeninworldjazz.net\nTo RSVP: Call the Temple at 781-245-1886 and select option 5\nTickets: \n18 and older $25\n13-17 $10\n 6-12 $5\n 5 and under\, free\n Cash or check made payable to Temple Emmanuel at the door\nThanks to partial support from:\nMass Cultural Council\, Wakefield Chapter and The Jewish Women’s Endowment Fund of the North Shore
URL:https://wakefieldtemple.org/event/women-in-world-jazz/
END:VEVENT
BEGIN:VEVENT
DTSTART;TZID=America/New_York:20250302T110000
DTEND;TZID=America/New_York:20250302T120000
DTSTAMP:20260425T122350
CREATED:20250216T125653Z
LAST-MODIFIED:20250216T125657Z
UID:10012279-1740913200-1740916800@wakefieldtemple.org
SUMMARY:Sisterhood Sunday Walkers
DESCRIPTION:When: Sunday March 2\, 2025 weather permitting\nTime: 11:00 AM\nWhere: Breakheart Reservation\nMeeting location: Northeast Regional High School 100 Hemlock Rd. Wakefield.\nParking:  Parking lot in front of the building. Please note that there is construction going on\, a new school\, but parking is still available\nRSVP: Sue Hochberg shochberg.sh@gmail.com. Please let me know if you are coming so we don’t leave without you.\nTrail information: 3 mile paved loop\, hilly in places\, rest area/bathroom 1/2 way.\nSue H’s Cell : 781-258-7760
URL:https://wakefieldtemple.org/event/sisterhood-sunday-walkers-11-7/
CATEGORIES:Sisterhood
END:VEVENT
BEGIN:VEVENT
DTSTART;TZID=America/New_York:20250301T093000
DTEND;TZID=America/New_York:20250301T103000
DTSTAMP:20260425T122350
CREATED:20241204T211317Z
LAST-MODIFIED:20241204T211319Z
UID:10012165-1740821400-1740825000@wakefieldtemple.org
SUMMARY:Tot Shabbat\, led by Rabbi Pam
DESCRIPTION:
URL:https://wakefieldtemple.org/event/tot-shabbat-7-4/
END:VEVENT
BEGIN:VEVENT
DTSTART;TZID=America/New_York:20250225T193000
DTEND;TZID=America/New_York:20250225T203000
DTSTAMP:20260425T122350
CREATED:20250224T131308Z
LAST-MODIFIED:20250224T131308Z
UID:10012240-1740511800-1740515400@wakefieldtemple.org
SUMMARY:Continuing Education Committee Meeting
DESCRIPTION:
URL:https://wakefieldtemple.org/event/continuing-education-committee-meeting-2-2/
END:VEVENT
BEGIN:VEVENT
DTSTART;TZID=America/New_York:20250222T093000
DTEND;TZID=America/New_York:20250222T103000
DTSTAMP:20260425T122350
CREATED:20240605T094158Z
LAST-MODIFIED:20250203T111837Z
UID:10012176-1740216600-1740220200@wakefieldtemple.org
SUMMARY:One Hour Family Shabbat Celebration\, led by Rabbi Pam
DESCRIPTION:Family Celebration\, Sat Feb 22\, 9:30-10:30am in the sanctuary. Adults\, Chai School students\, siblings and preschoolers are invited! Children who wish will be invited to stand on the Bima with Rabbi Pam at the beginning to sing Hinay Mah Tov\, and at the end to sing Bim Bam Shabbat Shalom. Parents and kids will also be invited to come up during the celebration to look inside the Torah! The celebration will be followed by Kiddush upstairs\, including a light snack.
URL:https://wakefieldtemple.org/event/one-hour-family-shabbat-celebration-with-rabbi-greg-3-3/
END:VEVENT
BEGIN:VEVENT
DTSTART;TZID=America/New_York:20250221T193000
DTEND;TZID=America/New_York:20250221T203000
DTSTAMP:20260425T122350
CREATED:20241122T150643Z
LAST-MODIFIED:20241204T210755Z
UID:10012421-1740166200-1740169800@wakefieldtemple.org
SUMMARY:Jewish Meditation Circle\, led by Rabbi Pam
DESCRIPTION:
URL:https://wakefieldtemple.org/event/jewish-meditation-circle-15/
END:VEVENT
BEGIN:VEVENT
DTSTART;TZID=America/New_York:20250218T193000
DTEND;TZID=America/New_York:20250218T210000
DTSTAMP:20260425T122350
CREATED:20240518T194009Z
LAST-MODIFIED:20240518T194009Z
UID:10012232-1739907000-1739912400@wakefieldtemple.org
SUMMARY:School Committee Meeting
DESCRIPTION:
URL:https://wakefieldtemple.org/event/school-committee-meeting-8/2025-02-18/
END:VEVENT
BEGIN:VEVENT
DTSTART;TZID=America/New_York:20250215T093000
DTEND;TZID=America/New_York:20250215T110000
DTSTAMP:20260425T122350
CREATED:20241204T210608Z
LAST-MODIFIED:20241204T210610Z
UID:10012293-1739611800-1739617200@wakefieldtemple.org
SUMMARY:Shabbat Morning Celebration\, Lay-led
DESCRIPTION:
URL:https://wakefieldtemple.org/event/shabbat-morning-celebration-9-5/
END:VEVENT
BEGIN:VEVENT
DTSTART;TZID=America/New_York:20250214T193000
DTEND;TZID=America/New_York:20250214T210000
DTSTAMP:20260425T122350
CREATED:20241204T210439Z
LAST-MODIFIED:20241204T210441Z
UID:10012136-1739561400-1739566800@wakefieldtemple.org
SUMMARY:Erev Shabbat Celebration\, led by Rabbi Pam
DESCRIPTION:
URL:https://wakefieldtemple.org/event/erev-shabbat-celebration-12-15/
END:VEVENT
BEGIN:VEVENT
DTSTART;VALUE=DATE:20250213
DTEND;VALUE=DATE:20250214
DTSTAMP:20260425T122350
CREATED:20240518T121103Z
LAST-MODIFIED:20240518T121103Z
UID:10012118-1739404800-1739491199@wakefieldtemple.org
SUMMARY:Tu B'Shevat
DESCRIPTION:
URL:https://wakefieldtemple.org/event/tu-bshevat-6/
END:VEVENT
BEGIN:VEVENT
DTSTART;TZID=America/New_York:20250212T153000
DTEND;TZID=America/New_York:20250212T183000
DTSTAMP:20260425T122350
CREATED:20231221T230232Z
LAST-MODIFIED:20241103T233918Z
UID:10012258-1739374200-1739385000@wakefieldtemple.org
SUMMARY:Volunteer at Wakefield Community Dinners
DESCRIPTION:Mitzvah opportunity! Temple Emmanuel is now partnered with Wakefield Community Dinners. Held at Most Blessed Sacrament in Wakefield\, the Community Dinners happen the 2nd Wednesday of every month\, with the opportunity to feed 80+ neighbors and friends from Wakefield\, Stoneham\, Melrose and towns as far as Medford\, Salem and Norwood. Volunteer hours are 3:30-6:30pm. Guests come as families or alone. Although many are experiencing food insecurity\, most are impacted with social isolation. We provide a hot meal\, salad\, bread\, desserts\, and most importantly\, camaraderie. If you’d like to have fun\, share smiles\, and engage in holy work with Rabbi Greg\, please sign up here.
URL:https://wakefieldtemple.org/event/volunteer-at-wakefield-community-dinners/2025-02-12/
END:VEVENT
BEGIN:VEVENT
DTSTART;TZID=America/New_York:20250211T193000
DTEND;TZID=America/New_York:20250211T210000
DTSTAMP:20260425T122350
CREATED:20240518T183820Z
LAST-MODIFIED:20240518T183820Z
UID:10012212-1739302200-1739307600@wakefieldtemple.org
SUMMARY:Temple Board Meeting
DESCRIPTION:
URL:https://wakefieldtemple.org/event/temple-board-meeting-16/2025-02-11/
END:VEVENT
BEGIN:VEVENT
DTSTART;TZID=America/New_York:20250209T110000
DTEND;TZID=America/New_York:20250209T120000
DTSTAMP:20260425T122350
CREATED:20250114T004953Z
LAST-MODIFIED:20250208T203857Z
UID:10012278-1739098800-1739102400@wakefieldtemple.org
SUMMARY:Sisterhood Sunday Walkers-CANCELLED due to snow
DESCRIPTION:When: Sunday\, February 9\, weather dependent\nTime: 11 AM\, see below for further information\nWhere: Temple Emmanuel Neighborhood\nMeeting location: Temple Emmanuel 120 Chestnut St\nParking:  Street parking\nRSVP: Please RSVP to Sue H 781-258-7760\nAdditional information:  The walk will start at 11\, but you are welcome to come at 10:30 for a Coffee & Chat!
URL:https://wakefieldtemple.org/event/sisterhood-sunday-walkers-11-6/
CATEGORIES:Sisterhood
END:VEVENT
BEGIN:VEVENT
DTSTART;TZID=America/New_York:20250209T103000
DTEND;TZID=America/New_York:20250209T110000
DTSTAMP:20260425T122350
CREATED:20250119T200515Z
LAST-MODIFIED:20250208T203804Z
UID:10012433-1739097000-1739098800@wakefieldtemple.org
SUMMARY:Sisterhood Coffee & Chat-CANCELLED due to snow
DESCRIPTION:
URL:https://wakefieldtemple.org/event/sisterhood-coffee-chat-followed-by-sunday-walkers/
END:VEVENT
BEGIN:VEVENT
DTSTART;TZID=America/New_York:20250208T183000
DTEND;TZID=America/New_York:20250208T213000
DTSTAMP:20260425T122350
CREATED:20240818T230933Z
LAST-MODIFIED:20250110T201259Z
UID:10012310-1739039400-1739050200@wakefieldtemple.org
SUMMARY:Game Night! Beerfest!
DESCRIPTION:                                            \nTEMPLE EMMANUEL’S ANNUAL GAME NIGHT & BEERFEST \nSaturday\, February 8\, 2025 at 6:30 pm\n(snow date Feb 23rd)  \nA social evening for Temple members\, family and friends over 21 \nKosher hotdog dinner with all the fixings\, munchies\,\nVegetarian Option\, too (let us know)\nBeverages: Beer\, Wine and Soda \nGames for grownups \nScrabble\, Trivial Pursuit\, Mexican Train\, Dominos\, Poker and more! Mahjong\, Western Style unless someone can bring an American set and players bring their official cards\n \nBring your favorite game! Something new! \nCost: $20 per person\n Pay at the door\, cash or check \nPlease RSVP by February 1st to ensure plenty of food\nSusan Hochberg shochberg.sh@gmail.com\n 
URL:https://wakefieldtemple.org/event/dame-night-beer-fest/
END:VEVENT
BEGIN:VEVENT
DTSTART;TZID=America/New_York:20250208T093000
DTEND;TZID=America/New_York:20250208T113000
DTSTAMP:20260425T122350
CREATED:20240607T013209Z
LAST-MODIFIED:20241204T210359Z
UID:10012113-1739007000-1739014200@wakefieldtemple.org
SUMMARY:Shabbat Morning Celebration\, Led by Rabbi Pam
DESCRIPTION:
URL:https://wakefieldtemple.org/event/shabbat-morning-celebration-including-torah-study-with-rabbi-greg-3-5/
END:VEVENT
BEGIN:VEVENT
DTSTART;TZID=America/New_York:20250207T193000
DTEND;TZID=America/New_York:20250207T210000
DTSTAMP:20260425T122350
CREATED:20241204T210149Z
LAST-MODIFIED:20241204T210151Z
UID:10012135-1738956600-1738962000@wakefieldtemple.org
SUMMARY:Erev Shabbat Celebration\, Lay-led
DESCRIPTION:
URL:https://wakefieldtemple.org/event/erev-shabbat-celebration-12-14/
END:VEVENT
BEGIN:VEVENT
DTSTART;TZID=America/New_York:20250204T193000
DTEND;TZID=America/New_York:20250204T210000
DTSTAMP:20260425T122350
CREATED:20240518T174856Z
LAST-MODIFIED:20240518T174856Z
UID:10012192-1738697400-1738702800@wakefieldtemple.org
SUMMARY:Ritual Committee Meeting
DESCRIPTION:
URL:https://wakefieldtemple.org/event/ritual-committee-meeting-21/2025-02-04/
END:VEVENT
BEGIN:VEVENT
DTSTART;TZID=America/New_York:20250204T184500
DTEND;TZID=America/New_York:20250204T193000
DTSTAMP:20260425T122350
CREATED:20240518T150907Z
LAST-MODIFIED:20240518T150907Z
UID:10012182-1738694700-1738697400@wakefieldtemple.org
SUMMARY:House & Grounds Committee Meeting
DESCRIPTION:
URL:https://wakefieldtemple.org/event/house-grounds-committee-meeting-15/2025-02-04/
END:VEVENT
BEGIN:VEVENT
DTSTART;TZID=America/New_York:20250203T193000
DTEND;TZID=America/New_York:20250203T210000
DTSTAMP:20260425T122350
CREATED:20240518T183134Z
LAST-MODIFIED:20240518T183134Z
UID:10012202-1738611000-1738616400@wakefieldtemple.org
SUMMARY:Membership Committee Meeting
DESCRIPTION:
URL:https://wakefieldtemple.org/event/membership-committee-meeting-17/2025-02-03/
END:VEVENT
BEGIN:VEVENT
DTSTART;TZID=America/New_York:20250202T130000
DTEND;TZID=America/New_York:20250202T160000
DTSTAMP:20260425T122350
CREATED:20240818T163415Z
LAST-MODIFIED:20250125T150101Z
UID:10012304-1738501200-1738512000@wakefieldtemple.org
SUMMARY:Pizza & Movie Afternoon
DESCRIPTION:The Sisterhood of Temple Emmanuel invites the\nTemple community\, family and friends \nto a\nPIZZA AND MOVIE EVENT \nWhat: Pizza lunch\, movie: Kiss Me Kosher\, a rom-com set in Israel\, followed by a discussion\nWhen: Sunday Feb 2\, 2025\nSnow Date: Feb 23\, 2025\nTime: 1:00 PM\nWhere: Temple Emmanuel\nCost: $10/pp Pizza\, salad\, beverages and dessert\nMovie only: Free\n  \nRSVP by 1/29/25 to Sue Hochberg shochberg.sh@gmail.com\nPlease mention if you will be having lunch
URL:https://wakefieldtemple.org/event/sisterhood-movie-pizza-night-2/
END:VEVENT
BEGIN:VEVENT
DTSTART;TZID=America/New_York:20250202T090000
DTEND;TZID=America/New_York:20250202T100000
DTSTAMP:20260425T122350
CREATED:20250115T151808Z
LAST-MODIFIED:20250116T003649Z
UID:10012432-1738486800-1738490400@wakefieldtemple.org
SUMMARY:4 Chaplains Event
DESCRIPTION:On Sunday\, February 2\, Temple Emmanuel will welcome Paul Cancelliere and the Wakefield Veterans Advisory Board to lead the annual “Four Chaplains” memorial service.  This event honors the Four Chaplains\, including Rabbi Alexander D. Goode\, who died rescuing civilian and military personnel as the American troop ship SS Dorchester sank on February 3\, 1943.  There is a memorial monument in front of the synagogue\, one of several in the country\, that commemorates the ultimate sacrifices made by these men of different faiths.  The service begins at 9:00 AM\, and it is open to the public.
URL:https://wakefieldtemple.org/event/4-chaplains-event/
END:VEVENT
BEGIN:VEVENT
DTSTART;TZID=America/New_York:20250201T093000
DTEND;TZID=America/New_York:20250201T103000
DTSTAMP:20260425T122350
CREATED:20241204T205501Z
LAST-MODIFIED:20250126T142012Z
UID:10012164-1738402200-1738405800@wakefieldtemple.org
SUMMARY:Tot Shabbat\, led by Rabbi Pam
DESCRIPTION:Children and parents are welcome to bring something to share relating to trees as we celebrate Tu B’Shvat. Leaf\, tree needle\, pine cone\, fruit that grows on a tree\, photo or drawing are some ideas.
URL:https://wakefieldtemple.org/event/tot-shabbat-7-3/
END:VEVENT
BEGIN:VEVENT
DTSTART;TZID=America/New_York:20250128T193000
DTEND;TZID=America/New_York:20250128T210000
DTSTAMP:20260425T122350
CREATED:20240518T231657Z
LAST-MODIFIED:20240819T121336Z
UID:10012239-1738092600-1738098000@wakefieldtemple.org
SUMMARY:Continuing Education Committee Meeting
DESCRIPTION:
URL:https://wakefieldtemple.org/event/continuing-education-committee-meeting-2/2025-01-28/
END:VEVENT
BEGIN:VEVENT
DTSTART;TZID=America/New_York:20250125T093000
DTEND;TZID=America/New_York:20250125T103000
DTSTAMP:20260425T122350
CREATED:20240605T094047Z
LAST-MODIFIED:20250118T230836Z
UID:10012175-1737797400-1737801000@wakefieldtemple.org
SUMMARY:One Hour Family Shabbat Celebration\, led by Rabbi Pam
DESCRIPTION:Temple Emmanuel Family Service\, Saturday January 25\n9:30-10:30 AM in the sanctuary\nPlease join us for singing\, praying and looking in the Torah. All adults\, CHAI School students\, and siblings are welcome! Children who wish will be invited to stand on the Bima with Rabbi Pam at the beginning of the service to sing Hinay Mah Tov\, and again at the end of the service to sing Bim Bam Shabbat Shalom. There will also be an opportunity to come up and look inside the Torah! The service will be followed by Kiddush upstairs that will include a light snack.
URL:https://wakefieldtemple.org/event/one-hour-family-shabbat-celebration-with-rabbi-greg-3-2/
END:VEVENT
BEGIN:VEVENT
DTSTART;TZID=America/New_York:20250124T193000
DTEND;TZID=America/New_York:20250124T210000
DTSTAMP:20260425T122350
CREATED:20241204T205346Z
LAST-MODIFIED:20241204T205348Z
UID:10012134-1737747000-1737752400@wakefieldtemple.org
SUMMARY:Erev Shabbat Celebration\, led by Rabbi Pam
DESCRIPTION:
URL:https://wakefieldtemple.org/event/erev-shabbat-celebration-12-13/
END:VEVENT
END:VCALENDAR