BEGIN:VCALENDAR
VERSION:2.0
PRODID:-//Temple Emmanuel of Wakefield - ECPv6.15.20//NONSGML v1.0//EN
CALSCALE:GREGORIAN
METHOD:PUBLISH
X-WR-CALNAME:Temple Emmanuel of Wakefield
X-ORIGINAL-URL:https://wakefieldtemple.org
X-WR-CALDESC:Events for Temple Emmanuel of Wakefield
REFRESH-INTERVAL;VALUE=DURATION:PT1H
X-Robots-Tag:noindex
X-PUBLISHED-TTL:PT1H
BEGIN:VTIMEZONE
TZID:America/New_York
BEGIN:DAYLIGHT
TZOFFSETFROM:-0500
TZOFFSETTO:-0400
TZNAME:EDT
DTSTART:20230312T070000
END:DAYLIGHT
BEGIN:STANDARD
TZOFFSETFROM:-0400
TZOFFSETTO:-0500
TZNAME:EST
DTSTART:20231105T060000
END:STANDARD
BEGIN:DAYLIGHT
TZOFFSETFROM:-0500
TZOFFSETTO:-0400
TZNAME:EDT
DTSTART:20240310T070000
END:DAYLIGHT
BEGIN:STANDARD
TZOFFSETFROM:-0400
TZOFFSETTO:-0500
TZNAME:EST
DTSTART:20241103T060000
END:STANDARD
BEGIN:DAYLIGHT
TZOFFSETFROM:-0500
TZOFFSETTO:-0400
TZNAME:EDT
DTSTART:20250309T070000
END:DAYLIGHT
BEGIN:STANDARD
TZOFFSETFROM:-0400
TZOFFSETTO:-0500
TZNAME:EST
DTSTART:20251102T060000
END:STANDARD
END:VTIMEZONE
BEGIN:VEVENT
DTSTART;TZID=America/New_York:20241203T184500
DTEND;TZID=America/New_York:20241203T193000
DTSTAMP:20260425T170121
CREATED:20240518T150907Z
LAST-MODIFIED:20240518T150907Z
UID:10012180-1733251500-1733254200@wakefieldtemple.org
SUMMARY:House & Grounds Committee Meeting
DESCRIPTION:
URL:https://wakefieldtemple.org/event/house-grounds-committee-meeting-15/2024-12-03/
END:VEVENT
BEGIN:VEVENT
DTSTART;VALUE=DATE:20241203
DTEND;VALUE=DATE:20241204
DTSTAMP:20260425T170121
CREATED:20241113T111114Z
LAST-MODIFIED:20241113T111114Z
UID:10012419-1733184000-1733270399@wakefieldtemple.org
SUMMARY:Giving Tuesday
DESCRIPTION:
URL:https://wakefieldtemple.org/event/giving-tuesday/
END:VEVENT
BEGIN:VEVENT
DTSTART;TZID=America/New_York:20241202T193000
DTEND;TZID=America/New_York:20241202T210000
DTSTAMP:20260425T170121
CREATED:20240518T183134Z
LAST-MODIFIED:20240518T183134Z
UID:10012200-1733167800-1733173200@wakefieldtemple.org
SUMMARY:Membership Committee Meeting
DESCRIPTION:
URL:https://wakefieldtemple.org/event/membership-committee-meeting-17/2024-12-02/
END:VEVENT
BEGIN:VEVENT
DTSTART;VALUE=DATE:20241128
DTEND;VALUE=DATE:20241129
DTSTAMP:20260425T170121
CREATED:20240518T114718Z
LAST-MODIFIED:20240518T114752Z
UID:10012092-1732752000-1732838399@wakefieldtemple.org
SUMMARY:Thanksgiving
DESCRIPTION:
URL:https://wakefieldtemple.org/event/thanksgiving-4/
END:VEVENT
BEGIN:VEVENT
DTSTART;TZID=America/New_York:20241126T190000
DTEND;TZID=America/New_York:20241126T210000
DTSTAMP:20260425T170121
CREATED:20240518T114900Z
LAST-MODIFIED:20241018T181236Z
UID:10012093-1732647600-1732654800@wakefieldtemple.org
SUMMARY:Thanksgiving Interfaith Service at First Baptist Church
DESCRIPTION:
URL:https://wakefieldtemple.org/event/thanksgiving-interfaith-service-4/
END:VEVENT
BEGIN:VEVENT
DTSTART;TZID=America/New_York:20241122T193000
DTEND;TZID=America/New_York:20241122T210000
DTSTAMP:20260425T170121
CREATED:20240518T115852Z
LAST-MODIFIED:20240518T142640Z
UID:10012101-1732303800-1732309200@wakefieldtemple.org
SUMMARY:Erev Shabbat Celebration
DESCRIPTION:
URL:https://wakefieldtemple.org/event/erev-shabbat-celebration-12/2024-11-22/
END:VEVENT
BEGIN:VEVENT
DTSTART;TZID=America/New_York:20241120T193000
DTEND;TZID=America/New_York:20241120T203000
DTSTAMP:20260425T170121
CREATED:20241101T213730Z
LAST-MODIFIED:20241101T213730Z
UID:10012417-1732131000-1732134600@wakefieldtemple.org
SUMMARY:Adult Education: Jewish American Comedians Course
DESCRIPTION:Two old Jewish men are on the Titanic. One of them starts sobbing\, and the other one says\, “What are you crying for? It’s not your boat!” From Groucho Marx to Jon Stewart\, Jewish American comedians have helped make light of hard situations and they’ve had a huge impact on our culture. This 3-session course will chart the history and notable personalities who created the genre of Jewish Humor. Our virtual (Zoom only) classes will meet at 7:30 PM on Wednesday nights in November – 11/6\, 11/13\, and 11/20. All are welcome to attend one session or all three!
URL:https://wakefieldtemple.org/event/adult-education-jewish-american-comedians-course-3/
END:VEVENT
BEGIN:VEVENT
DTSTART;TZID=America/New_York:20241119T193000
DTEND;TZID=America/New_York:20241119T210000
DTSTAMP:20260425T170121
CREATED:20240518T194009Z
LAST-MODIFIED:20240518T194009Z
UID:10012229-1732044600-1732050000@wakefieldtemple.org
SUMMARY:School Committee Meeting
DESCRIPTION:
URL:https://wakefieldtemple.org/event/school-committee-meeting-8/2024-11-19/
END:VEVENT
BEGIN:VEVENT
DTSTART;TZID=America/New_York:20241117T160000
DTEND;TZID=America/New_York:20241117T180000
DTSTAMP:20260425T170121
CREATED:20240831T134435Z
LAST-MODIFIED:20241107T214436Z
UID:10012348-1731859200-1731866400@wakefieldtemple.org
SUMMARY:Yoni Battat at Temple Ner Tamid
DESCRIPTION:
URL:https://wakefieldtemple.org/event/yoni-battat-at-temple-new-tamid/
END:VEVENT
BEGIN:VEVENT
DTSTART;TZID=America/New_York:20241116T093000
DTEND;TZID=America/New_York:20241116T110000
DTSTAMP:20260425T170121
CREATED:20240713T143529Z
LAST-MODIFIED:20240713T143529Z
UID:10012290-1731749400-1731754800@wakefieldtemple.org
SUMMARY:Shabbat Morning Celebration
DESCRIPTION:
URL:https://wakefieldtemple.org/event/shabbat-morning-celebration-9/2024-11-16/
END:VEVENT
BEGIN:VEVENT
DTSTART;TZID=America/New_York:20241115T193000
DTEND;TZID=America/New_York:20241115T203000
DTSTAMP:20260425T170121
CREATED:20240518T120201Z
LAST-MODIFIED:20240605T094534Z
UID:10012106-1731699000-1731702600@wakefieldtemple.org
SUMMARY:Jewish Meditation Circle
DESCRIPTION:
URL:https://wakefieldtemple.org/event/jewish-meditation-circle-13/2024-11-15/
END:VEVENT
BEGIN:VEVENT
DTSTART;TZID=America/New_York:20241113T193000
DTEND;TZID=America/New_York:20241113T203000
DTSTAMP:20260425T170121
CREATED:20241101T213623Z
LAST-MODIFIED:20241101T213623Z
UID:10012416-1731526200-1731529800@wakefieldtemple.org
SUMMARY:Adult Education: Jewish American Comedians Course
DESCRIPTION:Two old Jewish men are on the Titanic. One of them starts sobbing\, and the other one says\, “What are you crying for? It’s not your boat!” From Groucho Marx to Jon Stewart\, Jewish American comedians have helped make light of hard situations and they’ve had a huge impact on our culture. This 3-session course will chart the history and notable personalities who created the genre of Jewish Humor. Our virtual (Zoom only) classes will meet at 7:30 PM on Wednesday nights in November – 11/6\, 11/13\, and 11/20. All are welcome to attend one session or all three!
URL:https://wakefieldtemple.org/event/adult-education-jewish-american-comedians-course-2/
END:VEVENT
BEGIN:VEVENT
DTSTART;TZID=America/New_York:20241113T153000
DTEND;TZID=America/New_York:20241113T183000
DTSTAMP:20260425T170121
CREATED:20231221T230232Z
LAST-MODIFIED:20241103T233918Z
UID:10012255-1731511800-1731522600@wakefieldtemple.org
SUMMARY:Volunteer at Wakefield Community Dinners
DESCRIPTION:Mitzvah opportunity! Temple Emmanuel is now partnered with Wakefield Community Dinners. Held at Most Blessed Sacrament in Wakefield\, the Community Dinners happen the 2nd Wednesday of every month\, with the opportunity to feed 80+ neighbors and friends from Wakefield\, Stoneham\, Melrose and towns as far as Medford\, Salem and Norwood. Volunteer hours are 3:30-6:30pm. Guests come as families or alone. Although many are experiencing food insecurity\, most are impacted with social isolation. We provide a hot meal\, salad\, bread\, desserts\, and most importantly\, camaraderie. If you’d like to have fun\, share smiles\, and engage in holy work with Rabbi Greg\, please sign up here.
URL:https://wakefieldtemple.org/event/volunteer-at-wakefield-community-dinners/2024-11-13/
END:VEVENT
BEGIN:VEVENT
DTSTART;TZID=America/New_York:20241112T193000
DTEND;TZID=America/New_York:20241112T210000
DTSTAMP:20260425T170121
CREATED:20240518T183820Z
LAST-MODIFIED:20240518T183820Z
UID:10012209-1731439800-1731445200@wakefieldtemple.org
SUMMARY:Temple Board Meeting
DESCRIPTION:
URL:https://wakefieldtemple.org/event/temple-board-meeting-16/2024-11-12/
END:VEVENT
BEGIN:VEVENT
DTSTART;TZID=America/New_York:20241110T130000
DTEND;TZID=America/New_York:20241110T150000
DTSTAMP:20260425T170121
CREATED:20240818T163012Z
LAST-MODIFIED:20241018T213216Z
UID:10012303-1731243600-1731250800@wakefieldtemple.org
SUMMARY:Sisterhood Arts & Crafts Program
DESCRIPTION:HAMSA OR FLOWER MAKING EVENT\n\nThis clay hand-building workshop is for all who are interested in working with their hands to make a decorative Hamsa or flower wall hanging. Join Claudia Arnoff\, co-owner of Ceramica Paint Studio\, in creating a beautiful ceramic piece of your own!\nClaudia will teach the technique of hand-building with clay. Participants will create the elements for their wall hangings from slabs of clay. Working with slabs is as easy as making cookies!  \nAll tools and glazes will be provided. \nPieces will be fired and available to assemble within ten days.\n Sisterhood members and non-members are invited to attend.\n \nDate: Sunday Nov 10th —– Time: 1-3 PM\nLocation: Ceramica Paint Studio – 380 Main St Stoneham (on street parking)\nRSVP: Sue Hochberg: shochberg.sh@gmail.com \, by Nov 1st\nCost: $40 pp\nPayment: at the door\, cash or check\n\nSnacks/beverages: will be provided
URL:https://wakefieldtemple.org/event/sisterhood-arts-crafts-program/
CATEGORIES:Sisterhood
END:VEVENT
BEGIN:VEVENT
DTSTART;TZID=America/New_York:20241109T093000
DTEND;TZID=America/New_York:20241109T113000
DTSTAMP:20260425T170121
CREATED:20240605T011027Z
LAST-MODIFIED:20240607T013049Z
UID:10012110-1731144600-1731151800@wakefieldtemple.org
SUMMARY:Shabbat Morning Celebration including Torah Study with Rabbi Greg
DESCRIPTION:
URL:https://wakefieldtemple.org/event/shabbat-morning-celebration-including-torah-study-with-rabbi-greg-3-2/
END:VEVENT
BEGIN:VEVENT
DTSTART;TZID=America/New_York:20241108T193000
DTEND;TZID=America/New_York:20241108T210000
DTSTAMP:20260425T170121
CREATED:20240518T115852Z
LAST-MODIFIED:20240518T142640Z
UID:10012100-1731094200-1731099600@wakefieldtemple.org
SUMMARY:Erev Shabbat Celebration
DESCRIPTION:
URL:https://wakefieldtemple.org/event/erev-shabbat-celebration-12/2024-11-08/
END:VEVENT
BEGIN:VEVENT
DTSTART;TZID=America/New_York:20241106T193000
DTEND;TZID=America/New_York:20241106T203000
DTSTAMP:20260425T170121
CREATED:20241031T233114Z
LAST-MODIFIED:20241101T213504Z
UID:10012359-1730921400-1730925000@wakefieldtemple.org
SUMMARY:Adult Education: Jewish American Comedians Course
DESCRIPTION:Two old Jewish men are on the Titanic. One of them starts sobbing\, and the other one says\, “What are you crying for? It’s not your boat!” From Groucho Marx to Jon Stewart\, Jewish American comedians have helped make light of hard situations and they’ve had a huge impact on our culture. This 3-session course will chart the history and notable personalities who created the genre of Jewish Humor. Our virtual (Zoom only) classes will meet at 7:30 PM on Wednesday nights in November – 11/6\, 11/13\, and 11/20. All are welcome to attend one session or all three!
URL:https://wakefieldtemple.org/event/adult-education-jewish-american-comedians-course/
END:VEVENT
BEGIN:VEVENT
DTSTART;TZID=America/New_York:20241105T193000
DTEND;TZID=America/New_York:20241105T210000
DTSTAMP:20260425T170121
CREATED:20240518T174856Z
LAST-MODIFIED:20240518T174856Z
UID:10012189-1730835000-1730840400@wakefieldtemple.org
SUMMARY:Ritual Committee Meeting
DESCRIPTION:
URL:https://wakefieldtemple.org/event/ritual-committee-meeting-21/2024-11-05/
END:VEVENT
BEGIN:VEVENT
DTSTART;TZID=America/New_York:20241105T184500
DTEND;TZID=America/New_York:20241105T193000
DTSTAMP:20260425T170121
CREATED:20240518T150907Z
LAST-MODIFIED:20240518T150907Z
UID:10012179-1730832300-1730835000@wakefieldtemple.org
SUMMARY:House & Grounds Committee Meeting
DESCRIPTION:
URL:https://wakefieldtemple.org/event/house-grounds-committee-meeting-15/2024-11-05/
END:VEVENT
BEGIN:VEVENT
DTSTART;TZID=America/New_York:20241104T193000
DTEND;TZID=America/New_York:20241104T210000
DTSTAMP:20260425T170121
CREATED:20240518T183134Z
LAST-MODIFIED:20240518T183134Z
UID:10012199-1730748600-1730754000@wakefieldtemple.org
SUMMARY:Membership Committee Meeting
DESCRIPTION:
URL:https://wakefieldtemple.org/event/membership-committee-meeting-17/2024-11-04/
END:VEVENT
BEGIN:VEVENT
DTSTART;TZID=America/New_York:20241104T190000
DTEND;TZID=America/New_York:20241104T213000
DTSTAMP:20260425T170121
CREATED:20241023T131005Z
LAST-MODIFIED:20241023T131005Z
UID:10012355-1730746800-1730755800@wakefieldtemple.org
SUMMARY:The Forgotten Refugees Screening
DESCRIPTION:
URL:https://wakefieldtemple.org/event/the-forgotten-refugees-screening/
END:VEVENT
BEGIN:VEVENT
DTSTART;TZID=America/New_York:20241103T190000
DTEND;TZID=America/New_York:20241103T210000
DTSTAMP:20260425T170121
CREATED:20240912T203030Z
LAST-MODIFIED:20240913T174712Z
UID:10012350-1730660400-1730667600@wakefieldtemple.org
SUMMARY:Temple Reads: Waking Lions by Ayelet Gundar-Goshen
DESCRIPTION:Waking Lions by Ayelet Gundar-Goshen\nSunday November 3 at 7:00 PM via Zoom\nJoin Temple Reads\nhttps://us02web.zoom.us/j/89137678791?pwd=kcb3bEb5gstSSSw6rhFUtAJbzjn2r8.1\nMeeting ID: 891 3767 8791\nPasscode: 017037\nAfter one night’s deadly mistake\, a man will go to any lengths to save his family and his reputation. \nNeurosurgeon Eitan Green has the perfect life — married to a beautiful police officer and father of two young boys. Then\, speeding along a deserted moonlit road after an exhausting hospital shift\, he hits someone. Seeing that the man\, an African migrant\, is beyond help\, he flees the scene. \nWhen the victim’s widow knocks at Eitan’s door the next day\, holding his wallet and divulging that she knows what happened\, Eitan discovers that her price for silence is not money. It is something else entirely\, something that will shatter Eitan’s safe existence and take him into a world of secrets and lies he could never have anticipated. \nWaking Lions is a gripping\, suspenseful\, and morally devastating drama of guilt and survival\, shame and desire from a remarkable young author on the rise. (Amazon)\nVersion 1.0.0 \n 
URL:https://wakefieldtemple.org/event/temple-reads-waking-lions-by-ayelet-gundar-goshen-2/
CATEGORIES:Book Club
END:VEVENT
BEGIN:VEVENT
DTSTART;TZID=America/New_York:20241103T110000
DTEND;TZID=America/New_York:20241103T120000
DTSTAMP:20260425T170121
CREATED:20241027T094639Z
LAST-MODIFIED:20241027T094946Z
UID:10012275-1730631600-1730635200@wakefieldtemple.org
SUMMARY:Sisterhood Sunday Walkers
DESCRIPTION:When: Sunday  November 3\, 2024  weather dependent\nTime: 11 AM\nWhere: Woods/trails behind Susan Silbovitz’s home \nMeeting location: 9 Vine Brook Way\, Woburn\nParking: Spaces in lot at meeting location\nRSVP: Please RSVP to Sue H 781-258-7760\nMISC: Approximately a 45 minute walk\, dress for walking on trails in the woods. Recommend sturdy\, waterproof footwear and a walking stick if you have them. After the walk\, Susan will have a pot of hot vegetarian soup and bread ready for us to warm up.\n \nSue H’s Cell for day of the walk: 781-258-77
URL:https://wakefieldtemple.org/event/sisterhood-sunday-walkers-11-3/
CATEGORIES:Sisterhood
END:VEVENT
BEGIN:VEVENT
DTSTART;TZID=America/New_York:20241102T093000
DTEND;TZID=America/New_York:20241102T103000
DTSTAMP:20260425T170121
CREATED:20240518T144522Z
LAST-MODIFIED:20240518T144522Z
UID:10012161-1730539800-1730543400@wakefieldtemple.org
SUMMARY:Tot Shabbat
DESCRIPTION:
URL:https://wakefieldtemple.org/event/tot-shabbat-7/2024-11-02/
END:VEVENT
BEGIN:VEVENT
DTSTART;TZID=America/New_York:20241101T190000
DTEND;TZID=America/New_York:20241101T203000
DTSTAMP:20260425T170121
CREATED:20240605T095404Z
LAST-MODIFIED:20240605T095405Z
UID:10012099-1730487600-1730493000@wakefieldtemple.org
SUMMARY:Erev Shabbat Celebration including CHAI School Participation
DESCRIPTION:
URL:https://wakefieldtemple.org/event/erev-shabbat-celebration-12-3/
END:VEVENT
BEGIN:VEVENT
DTSTART;TZID=America/New_York:20241027T093000
DTEND;TZID=America/New_York:20241027T103000
DTSTAMP:20260425T170121
CREATED:20240518T000223Z
LAST-MODIFIED:20240518T000223Z
UID:10012090-1730021400-1730025000@wakefieldtemple.org
SUMMARY:Dismantle Sukkah
DESCRIPTION:
URL:https://wakefieldtemple.org/event/dismantle-sukkah-5/
END:VEVENT
BEGIN:VEVENT
DTSTART;TZID=America/New_York:20241026T093000
DTEND;TZID=America/New_York:20241026T110000
DTSTAMP:20260425T170121
CREATED:20240518T145435Z
LAST-MODIFIED:20240927T133203Z
UID:10012170-1729935000-1729940400@wakefieldtemple.org
SUMMARY:Shabbat at Breakheart
DESCRIPTION:Jewish Wilderness Spirituality\nMeet with Rabbi Greg Saturday Morning at the Northeast Regional Vocational School\, 100 Hemlock Road\, Wakefield at 9:30 AM at the larger parking lot to the right of the Vocational School Building\nPlease click on the link below for directions\nhttps://goo.gl/maps/bntTRr8bd5x
URL:https://wakefieldtemple.org/event/shabbat-at-breakheart-6/2024-10-26/
END:VEVENT
BEGIN:VEVENT
DTSTART;TZID=America/New_York:20241025T193000
DTEND;TZID=America/New_York:20241025T210000
DTSTAMP:20260425T170121
CREATED:20240518T115852Z
LAST-MODIFIED:20240518T142640Z
UID:10012098-1729884600-1729890000@wakefieldtemple.org
SUMMARY:Erev Shabbat Celebration
DESCRIPTION:
URL:https://wakefieldtemple.org/event/erev-shabbat-celebration-12/2024-10-25/
END:VEVENT
BEGIN:VEVENT
DTSTART;TZID=America/New_York:20241024T190000
DTEND;TZID=America/New_York:20241024T203000
DTSTAMP:20260425T170121
CREATED:20240518T000132Z
LAST-MODIFIED:20240518T000132Z
UID:10012089-1729796400-1729801800@wakefieldtemple.org
SUMMARY:Simcha Torah Family Celebration
DESCRIPTION:
URL:https://wakefieldtemple.org/event/simcha-torah-family-celebration-5/
END:VEVENT
END:VCALENDAR