BEGIN:VCALENDAR
VERSION:2.0
PRODID:-//Temple Emmanuel of Wakefield - ECPv6.15.20//NONSGML v1.0//EN
CALSCALE:GREGORIAN
METHOD:PUBLISH
X-ORIGINAL-URL:https://wakefieldtemple.org
X-WR-CALDESC:Events for Temple Emmanuel of Wakefield
REFRESH-INTERVAL;VALUE=DURATION:PT1H
X-Robots-Tag:noindex
X-PUBLISHED-TTL:PT1H
BEGIN:VTIMEZONE
TZID:America/New_York
BEGIN:DAYLIGHT
TZOFFSETFROM:-0500
TZOFFSETTO:-0400
TZNAME:EDT
DTSTART:20260308T070000
END:DAYLIGHT
BEGIN:STANDARD
TZOFFSETFROM:-0400
TZOFFSETTO:-0500
TZNAME:EST
DTSTART:20261101T060000
END:STANDARD
BEGIN:DAYLIGHT
TZOFFSETFROM:-0500
TZOFFSETTO:-0400
TZNAME:EDT
DTSTART:20270314T070000
END:DAYLIGHT
BEGIN:STANDARD
TZOFFSETFROM:-0400
TZOFFSETTO:-0500
TZNAME:EST
DTSTART:20271107T060000
END:STANDARD
BEGIN:DAYLIGHT
TZOFFSETFROM:-0500
TZOFFSETTO:-0400
TZNAME:EDT
DTSTART:20280312T070000
END:DAYLIGHT
BEGIN:STANDARD
TZOFFSETFROM:-0400
TZOFFSETTO:-0500
TZNAME:EST
DTSTART:20281105T060000
END:STANDARD
END:VTIMEZONE
BEGIN:VEVENT
DTSTART;TZID=America/New_York:20270610T180000
DTEND;TZID=America/New_York:20270610T200000
DTSTAMP:20260425T094538
CREATED:20260124T184433Z
LAST-MODIFIED:20260124T184515Z
UID:10012859-1812650400-1812657600@wakefieldtemple.org
SUMMARY:Erev Shavuot Celebration with Flower Crown Decoration and Tikkun Leil Study
DESCRIPTION:
URL:https://wakefieldtemple.org/event/erev-shavuot-celebration-with-flower-crown-decoration-and-tikkun-leil-study-2/
END:VEVENT
BEGIN:VEVENT
DTSTART;TZID=America/New_York:20270611T100000
DTEND;TZID=America/New_York:20270611T113000
DTSTAMP:20260425T094538
CREATED:20260124T184558Z
LAST-MODIFIED:20260124T184600Z
UID:10012860-1812708000-1812713400@wakefieldtemple.org
SUMMARY:Shavuot First Day Service with Yizkor
DESCRIPTION:
URL:https://wakefieldtemple.org/event/shavuot-first-day-service-with-yizkor-2/
END:VEVENT
BEGIN:VEVENT
DTSTART;TZID=America/New_York:20270615T193000
DTEND;TZID=America/New_York:20270615T203000
DTSTAMP:20260425T094538
CREATED:20260124T202453Z
LAST-MODIFIED:20260124T202455Z
UID:10012943-1813087800-1813091400@wakefieldtemple.org
SUMMARY:School Committee Meeting
DESCRIPTION:
URL:https://wakefieldtemple.org/event/school-committee-meeting-11/2027-06-15/
END:VEVENT
BEGIN:VEVENT
DTSTART;TZID=America/New_York:20270621T193000
DTEND;TZID=America/New_York:20270621T203000
DTSTAMP:20260425T094538
CREATED:20260124T202343Z
LAST-MODIFIED:20260124T202344Z
UID:10012933-1813606200-1813609800@wakefieldtemple.org
SUMMARY:Ways & Means Committee Meeting
DESCRIPTION:
URL:https://wakefieldtemple.org/event/ways-means-committee-meeting-8/2027-06-21/
END:VEVENT
BEGIN:VEVENT
DTSTART;TZID=America/New_York:20270622T193000
DTEND;TZID=America/New_York:20270622T203000
DTSTAMP:20260425T094538
CREATED:20260124T202605Z
LAST-MODIFIED:20260124T202607Z
UID:10012953-1813692600-1813696200@wakefieldtemple.org
SUMMARY:Continuing Education Committee Meeting
DESCRIPTION:
URL:https://wakefieldtemple.org/event/continuing-education-committee-meeting-3/2027-06-22/
END:VEVENT
BEGIN:VEVENT
DTSTART;VALUE=DATE:20270812
DTEND;VALUE=DATE:20270813
DTSTAMP:20260425T094538
CREATED:20260124T184838Z
LAST-MODIFIED:20260124T184839Z
UID:10012861-1818028800-1818115199@wakefieldtemple.org
SUMMARY:Tish'a  B'Av
DESCRIPTION:
URL:https://wakefieldtemple.org/event/tisha-bav-2/
END:VEVENT
BEGIN:VEVENT
DTSTART;TZID=America/New_York:20270926T100000
DTEND;TZID=America/New_York:20270926T233000
DTSTAMP:20260425T094538
CREATED:20260123T194049Z
LAST-MODIFIED:20260123T194206Z
UID:10012845-1821952800-1822001400@wakefieldtemple.org
SUMMARY:First Day Sukkot Celebration
DESCRIPTION:
URL:https://wakefieldtemple.org/event/first-day-sukkot-celebration/
END:VEVENT
END:VCALENDAR