BEGIN:VCALENDAR
VERSION:2.0
PRODID:-//Temple Emmanuel of Wakefield - ECPv6.15.20//NONSGML v1.0//EN
CALSCALE:GREGORIAN
METHOD:PUBLISH
X-WR-CALNAME:Temple Emmanuel of Wakefield
X-ORIGINAL-URL:https://wakefieldtemple.org
X-WR-CALDESC:Events for Temple Emmanuel of Wakefield
REFRESH-INTERVAL;VALUE=DURATION:PT1H
X-Robots-Tag:noindex
X-PUBLISHED-TTL:PT1H
BEGIN:VTIMEZONE
TZID:America/New_York
BEGIN:DAYLIGHT
TZOFFSETFROM:-0500
TZOFFSETTO:-0400
TZNAME:EDT
DTSTART:20240310T070000
END:DAYLIGHT
BEGIN:STANDARD
TZOFFSETFROM:-0400
TZOFFSETTO:-0500
TZNAME:EST
DTSTART:20241103T060000
END:STANDARD
BEGIN:DAYLIGHT
TZOFFSETFROM:-0500
TZOFFSETTO:-0400
TZNAME:EDT
DTSTART:20250309T070000
END:DAYLIGHT
BEGIN:STANDARD
TZOFFSETFROM:-0400
TZOFFSETTO:-0500
TZNAME:EST
DTSTART:20251102T060000
END:STANDARD
BEGIN:DAYLIGHT
TZOFFSETFROM:-0500
TZOFFSETTO:-0400
TZNAME:EDT
DTSTART:20260308T070000
END:DAYLIGHT
BEGIN:STANDARD
TZOFFSETFROM:-0400
TZOFFSETTO:-0500
TZNAME:EST
DTSTART:20261101T060000
END:STANDARD
END:VTIMEZONE
BEGIN:VEVENT
DTSTART;TZID=America/New_York:20250909T193000
DTEND;TZID=America/New_York:20250909T210000
DTSTAMP:20260425T083716
CREATED:20250321T205615Z
LAST-MODIFIED:20250321T205616Z
UID:10012464-1757446200-1757451600@wakefieldtemple.org
SUMMARY:Temple Board Meeting
DESCRIPTION:
URL:https://wakefieldtemple.org/event/temple-board-meeting-17/2025-09-09/
END:VEVENT
BEGIN:VEVENT
DTSTART;TZID=America/New_York:20250907T103000
DTEND;TZID=America/New_York:20250907T130000
DTSTAMP:20260425T083716
CREATED:20250707T203950Z
LAST-MODIFIED:20250822T200845Z
UID:10012692-1757241000-1757250000@wakefieldtemple.org
SUMMARY:Open House Celebration!
DESCRIPTION:
URL:https://wakefieldtemple.org/event/open-house-celebration/
END:VEVENT
BEGIN:VEVENT
DTSTART;TZID=America/New_York:20250906T130000
DTEND;TZID=America/New_York:20250906T170000
DTSTAMP:20260425T083716
CREATED:20250625T143524Z
LAST-MODIFIED:20250828T200122Z
UID:10012684-1757163600-1757178000@wakefieldtemple.org
SUMMARY:Porchfest at Temple Emmanuel
DESCRIPTION:Linden Tree Concerts kicks off its 41st season with a new home\, Temple Emmanuel\, Wakefield. \nOur first offering for the season will be as part of Porchfest Wakefield on Saturday September 6\,\nAs such\, this is a free concert which will be on the lawn at the temple so bring chairs or blankets. \nAt 1PM our first performers will be Linden Tree sound man extraordinaire\, Eddie Dee\, with Logan Defranco.  \n \nEddie Dee is a powerful singer\, who accompanies himself on piano in a variety of styles. He has a long history in Folk Music\, Popular Music\, and Musical Theatre. He will include a selection of familiar “oldies” in this show.\nLogan DeFranco is originally from Florida but came to Boston to study guitar at Berklee College. He will provide the extra touch to make the music more exciting. He is also the manager at the Reading Marathon Sports store. \n2:00 PM:  Andy and Judy Sing! \n \nAndy and Judy Daigle are a New England folk singing married couple who have recorded over 80 songs and produced 8 albums. Andy & Judy do a masterful job of involving the audience in their performances. Sing-a-longs and smiles are the norm at one of their concerts. As Steve Ide\, the Artistic Director of the Rose Garden Coffeehouse in Mansfield\, MA\, said “They put the fun back in folk music.”  Andy & Judy have deepened their sound through the addition of mandolin\, banjo\, piano\, harmonica\, ukulele\, and with support musicians\, bass\, violin and percussion.\n\n\n3:30 PM: Squeezebox Stompers  \n \nFor over 25 years\, The Squeezebox Stompers have brought the vibrant sounds of Cajun\, zydeco\, blues\, folk\, and original music to New England\, earning Boston Music Awards and songwriting accolades along the way. Their lively and eclectic performances are guaranteed to get you on your feet and having a blast!\nWith a rich blend of instruments—including accordion\, fiddle\, mandolin\, saxophone\, harmonica\, guitar\, bass\, and drums—they create a unique live music experience. You can’t be sad when tapping and clapping to the Squeezebox Stompers. \nThe remainder of the season will be indoors on Sunday afternoons 2-4pm at Temple Emmanuel.\nThe temple is handicap accessible.\nAdmission is $25 (under18\, $10)\nFor reservations call 978- 326 7905.\nwww.LindenTreeCoffeehouse.org
URL:https://wakefieldtemple.org/event/porchfest-at-temple-emmanuel-2/
END:VEVENT
BEGIN:VEVENT
DTSTART;TZID=America/New_York:20250906T093000
DTEND;TZID=America/New_York:20250906T103000
DTSTAMP:20260425T083716
CREATED:20250507T212944Z
LAST-MODIFIED:20250507T212944Z
UID:10012637-1757151000-1757154600@wakefieldtemple.org
SUMMARY:Tot Shabbat
DESCRIPTION:
URL:https://wakefieldtemple.org/event/tot-shabbat-8/2025-09-06/
END:VEVENT
BEGIN:VEVENT
DTSTART;TZID=America/New_York:20250905T193000
DTEND;TZID=America/New_York:20250905T210000
DTSTAMP:20260425T083716
CREATED:20250730T004605Z
LAST-MODIFIED:20250730T134747Z
UID:10012579-1757100600-1757106000@wakefieldtemple.org
SUMMARY:Erev Shabbat Celebration & Welcome to Rabbi Micah with a Special Oneg Shabbat
DESCRIPTION:
URL:https://wakefieldtemple.org/event/erev-shabbat-celebration-16-3/
END:VEVENT
BEGIN:VEVENT
DTSTART;TZID=America/New_York:20250902T193000
DTEND;TZID=America/New_York:20250902T210000
DTSTAMP:20260425T083716
CREATED:20250322T134903Z
LAST-MODIFIED:20250322T135225Z
UID:10012508-1756841400-1756846800@wakefieldtemple.org
SUMMARY:Ritual Committee Meeting
DESCRIPTION:
URL:https://wakefieldtemple.org/event/ritual-committee-meeting-23/2025-09-02/
END:VEVENT
BEGIN:VEVENT
DTSTART;TZID=America/New_York:20250902T184500
DTEND;TZID=America/New_York:20250902T193000
DTSTAMP:20260425T083716
CREATED:20250322T134417Z
LAST-MODIFIED:20250322T134418Z
UID:10012497-1756838700-1756841400@wakefieldtemple.org
SUMMARY:House & Grounds Committee Meeting
DESCRIPTION:
URL:https://wakefieldtemple.org/event/house-grounds-committee-meeting-16/2025-09-02/
END:VEVENT
BEGIN:VEVENT
DTSTART;TZID=America/New_York:20250901T193000
DTEND;TZID=America/New_York:20250901T210000
DTSTAMP:20260425T083716
CREATED:20250322T133059Z
LAST-MODIFIED:20250322T133822Z
UID:10012486-1756755000-1756760400@wakefieldtemple.org
SUMMARY:Membership Committee Meeting
DESCRIPTION:
URL:https://wakefieldtemple.org/event/membership-committee-meeting-18/2025-09-01/
END:VEVENT
BEGIN:VEVENT
DTSTART;TZID=America/New_York:20250825T193000
DTEND;TZID=America/New_York:20250825T210000
DTSTAMP:20260425T083716
CREATED:20250622T125440Z
LAST-MODIFIED:20250825T125310Z
UID:10012676-1756150200-1756155600@wakefieldtemple.org
SUMMARY:Ways & Means Committee Meeting CANCELLED
DESCRIPTION:
URL:https://wakefieldtemple.org/event/ways-means-committee-meeting-7/
END:VEVENT
BEGIN:VEVENT
DTSTART;TZID=America/New_York:20250813T153000
DTEND;TZID=America/New_York:20250813T183000
DTSTAMP:20260425T083716
CREATED:20250322T180257Z
LAST-MODIFIED:20250322T180257Z
UID:10012550-1755099000-1755109800@wakefieldtemple.org
SUMMARY:Volunteer at Wakefield Community Dinners
DESCRIPTION:
URL:https://wakefieldtemple.org/event/volunteer-at-wakefield-community-dinners-2/2025-08-13/
END:VEVENT
BEGIN:VEVENT
DTSTART;TZID=America/New_York:20250812T193000
DTEND;TZID=America/New_York:20250812T210000
DTSTAMP:20260425T083716
CREATED:20250606T155035Z
LAST-MODIFIED:20250606T155036Z
UID:10012674-1755027000-1755032400@wakefieldtemple.org
SUMMARY:Ritual Committee Meeting
DESCRIPTION:
URL:https://wakefieldtemple.org/event/ritual-committee-meeting-24/
END:VEVENT
BEGIN:VEVENT
DTSTART;TZID=America/New_York:20250812T184500
DTEND;TZID=America/New_York:20250812T193000
DTSTAMP:20260425T083716
CREATED:20250622T125356Z
LAST-MODIFIED:20250622T125356Z
UID:10012675-1755024300-1755027000@wakefieldtemple.org
SUMMARY:House & Grounds Committee Meeting
DESCRIPTION:
URL:https://wakefieldtemple.org/event/house-grounds-committee-meeting-17/
END:VEVENT
BEGIN:VEVENT
DTSTART;TZID=America/New_York:20250809T093000
DTEND;TZID=America/New_York:20250809T103000
DTSTAMP:20260425T083716
CREATED:20250512T130356Z
LAST-MODIFIED:20250702T115821Z
UID:10012575-1754731800-1754735400@wakefieldtemple.org
SUMMARY:Family Picnic on the Temple Lawn
DESCRIPTION:
URL:https://wakefieldtemple.org/event/family-picnic-on-lawn-at-temple-emmanuel-2/
END:VEVENT
BEGIN:VEVENT
DTSTART;TZID=America/New_York:20250803T110000
DTEND;TZID=America/New_York:20250803T120000
DTSTAMP:20260425T083716
CREATED:20240621T153118Z
LAST-MODIFIED:20250723T224906Z
UID:10012696-1754218800-1754222400@wakefieldtemple.org
SUMMARY:Sisterhood Sunday Walkers CANCELLED
DESCRIPTION:
URL:https://wakefieldtemple.org/event/sisterhood-sunday-walkers-11/
CATEGORIES:Sisterhood
END:VEVENT
BEGIN:VEVENT
DTSTART;TZID=America/New_York:20250729T193000
DTEND;TZID=America/New_York:20250729T203000
DTSTAMP:20260425T083716
CREATED:20250717T160423Z
LAST-MODIFIED:20250717T160423Z
UID:10012721-1753817400-1753821000@wakefieldtemple.org
SUMMARY:Sisterhood Board Meeting
DESCRIPTION:
URL:https://wakefieldtemple.org/event/sisterhood-board-meeting-12/
END:VEVENT
BEGIN:VEVENT
DTSTART;TZID=America/New_York:20250713T193000
DTEND;TZID=America/New_York:20250713T210000
DTSTAMP:20260425T083716
CREATED:20250505T203431Z
LAST-MODIFIED:20250507T202723Z
UID:10012577-1752435000-1752440400@wakefieldtemple.org
SUMMARY:Temple Reads: Going Home by Tom Lamont
DESCRIPTION:Going Home \nby \nTom Lamont\nSunday July 13 at 7:30 PM\nGoing Home is a sparkling\, funny\, bighearted story of family and what happens when three men—all of whom are completely ill-suited for fatherhood—take charge of a toddler following an unexpected loss.\nTéo Erskine\, now in his thirties\, has moved on from childish things: He has a good job\, a slick apartment in London\, and when he heads back to the suburbs on the occasional weekend to visit his old friends\, he makes sure everyone knows he can afford to pick up the tab. So what if he asks a few too many questions about Lia\, the girl of their group\, wondering if she will come out\, if she’s seeing anyone\, if she might give him another shot? Téo is hazily aware that something possibly happened between Lia and Ben Mossam\, Téo’s closest friend and his greatest annoyance\, but he can’t bring himself to ask. Lia\, meanwhile\, has no time to indulge their rivalry. She’s now the single mother of a toddler son\, a kid named Joel that Téo occasionally (and halfheartedly) offers to babysit. \nTéo is home for one such weekend when the unthinkable happens—a tragedy in the heart of their group—and he suddenly finds himself the unlikely guardian for little Joel. Together with his father\, Vic\, Ben Mossam\, and Sybil\, Lia’s beguiling rabbi\, they bide time until they can find a proper home for Joel\, teaching him to play video games\, plying him with chicken nuggets and waffles\, and learning to sing him lullabies at night. But when a juvenile mistake leads to a terrible betrayal\, Téo must decide what kind of man he wants to be. Wise\, relatable\, and blissfully laugh-out-loud funny\, Going Home is a captivating first novel that explores the mysterious ways children can force us to grow up fast while simultaneously keeping us young forever.
URL:https://wakefieldtemple.org/event/temple-reads-going-home-by-tom-lamont/
END:VEVENT
BEGIN:VEVENT
DTSTART;TZID=America/New_York:20250713T093000
DTEND;TZID=America/New_York:20250713T103000
DTSTAMP:20260425T083716
CREATED:20250427T215251Z
LAST-MODIFIED:20250702T115720Z
UID:10012670-1752399000-1752402600@wakefieldtemple.org
SUMMARY:Family Picnic on the Temple Lawn
DESCRIPTION:
URL:https://wakefieldtemple.org/event/family-picnic-on-lawn-at-temple-emmanuel/
END:VEVENT
BEGIN:VEVENT
DTSTART;TZID=America/New_York:20250709T153000
DTEND;TZID=America/New_York:20250709T183000
DTSTAMP:20260425T083716
CREATED:20250322T180257Z
LAST-MODIFIED:20250322T180257Z
UID:10012549-1752075000-1752085800@wakefieldtemple.org
SUMMARY:Volunteer at Wakefield Community Dinners
DESCRIPTION:
URL:https://wakefieldtemple.org/event/volunteer-at-wakefield-community-dinners-2/2025-07-09/
END:VEVENT
BEGIN:VEVENT
DTSTART;TZID=America/New_York:20250706T110000
DTEND;TZID=America/New_York:20250706T120000
DTSTAMP:20260425T083716
CREATED:20250630T163406Z
LAST-MODIFIED:20250630T163407Z
UID:10012283-1751799600-1751803200@wakefieldtemple.org
SUMMARY:Sisterhood Sunday Walkers CANCELLED
DESCRIPTION:
URL:https://wakefieldtemple.org/event/sisterhood-sunday-walkers-11-10/
CATEGORIES:Sisterhood
END:VEVENT
BEGIN:VEVENT
DTSTART;TZID=America/New_York:20250628T093000
DTEND;TZID=America/New_York:20250628T113000
DTSTAMP:20260425T083716
CREATED:20241211T172024Z
LAST-MODIFIED:20241211T172024Z
UID:10012425-1751103000-1751110200@wakefieldtemple.org
SUMMARY:Shabbat Morning Celebration including the Bar Mitzvah of Matthew Meahl
DESCRIPTION:
URL:https://wakefieldtemple.org/event/shabbat-morning-celebration-including-the-bar-mitzvah-of-matthew-meahl/
END:VEVENT
BEGIN:VEVENT
DTSTART;TZID=America/New_York:20250627T193000
DTEND;TZID=America/New_York:20250627T210000
DTSTAMP:20260425T083716
CREATED:20240518T115852Z
LAST-MODIFIED:20240518T142640Z
UID:10012149-1751052600-1751058000@wakefieldtemple.org
SUMMARY:Erev Shabbat Celebration
DESCRIPTION:
URL:https://wakefieldtemple.org/event/erev-shabbat-celebration-12/2025-06-27/
END:VEVENT
BEGIN:VEVENT
DTSTART;TZID=America/New_York:20250623T193000
DTEND;TZID=America/New_York:20250623T210000
DTSTAMP:20260425T083716
CREATED:20240818T182306Z
LAST-MODIFIED:20250616T173154Z
UID:10012308-1750707000-1750712400@wakefieldtemple.org
SUMMARY:Sisterhood Board Meeting HAS BEEN CANCELED
DESCRIPTION:
URL:https://wakefieldtemple.org/event/sisterhood-board-meeting-9/
CATEGORIES:Sisterhood
END:VEVENT
BEGIN:VEVENT
DTSTART;TZID=America/New_York:20250622T113000
DTEND;TZID=America/New_York:20250622T133000
DTSTAMP:20260425T083716
CREATED:20250322T181116Z
LAST-MODIFIED:20250531T144855Z
UID:10012561-1750591800-1750599000@wakefieldtemple.org
SUMMARY:Brunch in Honor of Rabbi Greg
DESCRIPTION:BRUNCH IN HONOR OF RABBI GREG HERSH\n\nSunday June 22 at 11:30 AM\nRSVP Susan: svitz9@gmail.com by 6/20/25\nJoin us as we celebrate and thank Rabbi Greg for the last nine wonderful years and wish him the best in his future endeavors.\n \n 
URL:https://wakefieldtemple.org/event/special-event/
END:VEVENT
BEGIN:VEVENT
DTSTART;TZID=America/New_York:20250621T093000
DTEND;TZID=America/New_York:20250621T103000
DTSTAMP:20260425T083716
CREATED:20241211T174642Z
LAST-MODIFIED:20241211T174845Z
UID:10012174-1750498200-1750501800@wakefieldtemple.org
SUMMARY:Shabbat at Breakheart
DESCRIPTION:Jewish Wilderness Spirituality\nMeet with Rabbi Greg Saturday Morning at the Northeast Regional Vocational School\, 100 Hemlock Road\, Wakefield at 9:30 AM at the larger parking lot to the right of the Vocational School Building\nPlease click on the link below for directions\nhttps://goo.gl/maps/bntTRr8bd5x
URL:https://wakefieldtemple.org/event/shabbat-at-breakheart-6-3/
END:VEVENT
BEGIN:VEVENT
DTSTART;TZID=America/New_York:20250620T193000
DTEND;TZID=America/New_York:20250620T203000
DTSTAMP:20260425T083716
CREATED:20240518T120201Z
LAST-MODIFIED:20240605T094534Z
UID:10012131-1750447800-1750451400@wakefieldtemple.org
SUMMARY:Jewish Meditation Circle
DESCRIPTION:
URL:https://wakefieldtemple.org/event/jewish-meditation-circle-13/2025-06-20/
END:VEVENT
BEGIN:VEVENT
DTSTART;TZID=America/New_York:20250617T193000
DTEND;TZID=America/New_York:20250617T210000
DTSTAMP:20260425T083716
CREATED:20240518T194009Z
LAST-MODIFIED:20240518T194009Z
UID:10012236-1750188600-1750194000@wakefieldtemple.org
SUMMARY:School Committee Meeting
DESCRIPTION:
URL:https://wakefieldtemple.org/event/school-committee-meeting-8/2025-06-17/
END:VEVENT
BEGIN:VEVENT
DTSTART;TZID=America/New_York:20250614T183000
DTEND;TZID=America/New_York:20250614T210000
DTSTAMP:20260425T083716
CREATED:20250601T173625Z
LAST-MODIFIED:20250601T173704Z
UID:10012673-1749925800-1749934800@wakefieldtemple.org
SUMMARY:Game Night
DESCRIPTION:Bring a favorite board game or learn a new one. All ages welcome. Beverages and light snacks will be provided.
URL:https://wakefieldtemple.org/event/game-night-3/
END:VEVENT
BEGIN:VEVENT
DTSTART;TZID=America/New_York:20250614T093000
DTEND;TZID=America/New_York:20250614T103000
DTSTAMP:20260425T083716
CREATED:20241211T174519Z
LAST-MODIFIED:20241211T174816Z
UID:10012168-1749893400-1749897000@wakefieldtemple.org
SUMMARY:Tot Shabbat
DESCRIPTION:
URL:https://wakefieldtemple.org/event/tot-shabbat-7-5/
END:VEVENT
BEGIN:VEVENT
DTSTART;TZID=America/New_York:20250613T193000
DTEND;TZID=America/New_York:20250613T210000
DTSTAMP:20260425T083716
CREATED:20240518T233038Z
LAST-MODIFIED:20250531T141536Z
UID:10012147-1749843000-1749848400@wakefieldtemple.org
SUMMARY:Erev Shabbat Celebration including Installation of Temple Board Members and Sisterhood Officers & Board Members
DESCRIPTION:
URL:https://wakefieldtemple.org/event/erev-shabbat-celebration-12-2/
END:VEVENT
BEGIN:VEVENT
DTSTART;TZID=America/New_York:20250611T153000
DTEND;TZID=America/New_York:20250611T183000
DTSTAMP:20260425T083716
CREATED:20231221T230232Z
LAST-MODIFIED:20241103T233918Z
UID:10012262-1749655800-1749666600@wakefieldtemple.org
SUMMARY:Volunteer at Wakefield Community Dinners
DESCRIPTION:Mitzvah opportunity! Temple Emmanuel is now partnered with Wakefield Community Dinners. Held at Most Blessed Sacrament in Wakefield\, the Community Dinners happen the 2nd Wednesday of every month\, with the opportunity to feed 80+ neighbors and friends from Wakefield\, Stoneham\, Melrose and towns as far as Medford\, Salem and Norwood. Volunteer hours are 3:30-6:30pm. Guests come as families or alone. Although many are experiencing food insecurity\, most are impacted with social isolation. We provide a hot meal\, salad\, bread\, desserts\, and most importantly\, camaraderie. If you’d like to have fun\, share smiles\, and engage in holy work with Rabbi Greg\, please sign up here.
URL:https://wakefieldtemple.org/event/volunteer-at-wakefield-community-dinners/2025-06-11/
END:VEVENT
END:VCALENDAR