BEGIN:VCALENDAR
VERSION:2.0
PRODID:-//Temple Emmanuel of Wakefield - ECPv6.15.20//NONSGML v1.0//EN
CALSCALE:GREGORIAN
METHOD:PUBLISH
X-WR-CALNAME:Temple Emmanuel of Wakefield
X-ORIGINAL-URL:https://wakefieldtemple.org
X-WR-CALDESC:Events for Temple Emmanuel of Wakefield
REFRESH-INTERVAL;VALUE=DURATION:PT1H
X-Robots-Tag:noindex
X-PUBLISHED-TTL:PT1H
BEGIN:VTIMEZONE
TZID:America/New_York
BEGIN:DAYLIGHT
TZOFFSETFROM:-0500
TZOFFSETTO:-0400
TZNAME:EDT
DTSTART:20240310T070000
END:DAYLIGHT
BEGIN:STANDARD
TZOFFSETFROM:-0400
TZOFFSETTO:-0500
TZNAME:EST
DTSTART:20241103T060000
END:STANDARD
BEGIN:DAYLIGHT
TZOFFSETFROM:-0500
TZOFFSETTO:-0400
TZNAME:EDT
DTSTART:20250309T070000
END:DAYLIGHT
BEGIN:STANDARD
TZOFFSETFROM:-0400
TZOFFSETTO:-0500
TZNAME:EST
DTSTART:20251102T060000
END:STANDARD
BEGIN:DAYLIGHT
TZOFFSETFROM:-0500
TZOFFSETTO:-0400
TZNAME:EDT
DTSTART:20260308T070000
END:DAYLIGHT
BEGIN:STANDARD
TZOFFSETFROM:-0400
TZOFFSETTO:-0500
TZNAME:EST
DTSTART:20261101T060000
END:STANDARD
END:VTIMEZONE
BEGIN:VEVENT
DTSTART;TZID=America/New_York:20250507T193000
DTEND;TZID=America/New_York:20250507T203000
DTSTAMP:20260425T080145
CREATED:20250401T212949Z
LAST-MODIFIED:20250402T153314Z
UID:10012566-1746646200-1746649800@wakefieldtemple.org
SUMMARY:Continuing Education: Trailblazing American Jewish Musicians
DESCRIPTION:This course is open to anyone who enjoys music! We’ll explore different eras and genres of 20th century music\, where American Jews have had outsized impact. All are welcome to learn some of the ways that Jewish people have been pioneers and influencers over the last 100 years to help make music what it is today.\nJoin Class\nhttps://us02web.zoom.us/j/83198856281?pwd=4kDQ9xWi4bQoKPGPBEXgLB0M2TstPg.1\nMeeting ID: 831 9885 6281\nPasscode: 662309\n 
URL:https://wakefieldtemple.org/event/continuing-education-trailblazing-american-jewish-musicians/2025-05-07/
END:VEVENT
BEGIN:VEVENT
DTSTART;TZID=America/New_York:20250506T193000
DTEND;TZID=America/New_York:20250506T210000
DTSTAMP:20260425T080145
CREATED:20240518T174856Z
LAST-MODIFIED:20240518T174856Z
UID:10012195-1746559800-1746565200@wakefieldtemple.org
SUMMARY:Ritual Committee Meeting
DESCRIPTION:
URL:https://wakefieldtemple.org/event/ritual-committee-meeting-21/2025-05-06/
END:VEVENT
BEGIN:VEVENT
DTSTART;TZID=America/New_York:20250506T184500
DTEND;TZID=America/New_York:20250506T193000
DTSTAMP:20260425T080145
CREATED:20240518T150907Z
LAST-MODIFIED:20240518T150907Z
UID:10012185-1746557100-1746559800@wakefieldtemple.org
SUMMARY:House & Grounds Committee Meeting
DESCRIPTION:
URL:https://wakefieldtemple.org/event/house-grounds-committee-meeting-15/2025-05-06/
END:VEVENT
BEGIN:VEVENT
DTSTART;TZID=America/New_York:20250505T193000
DTEND;TZID=America/New_York:20250505T210000
DTSTAMP:20260425T080145
CREATED:20240518T183134Z
LAST-MODIFIED:20240518T183134Z
UID:10012205-1746473400-1746478800@wakefieldtemple.org
SUMMARY:Membership Committee Meeting
DESCRIPTION:
URL:https://wakefieldtemple.org/event/membership-committee-meeting-17/2025-05-05/
END:VEVENT
BEGIN:VEVENT
DTSTART;TZID=America/New_York:20250504T180000
DTEND;TZID=America/New_York:20250504T203000
DTSTAMP:20260425T080145
CREATED:20250317T134533Z
LAST-MODIFIED:20250417T170029Z
UID:10012439-1746381600-1746390600@wakefieldtemple.org
SUMMARY:Temple Reads & Dinner: Once We Were Home by Jennifer Rosner
DESCRIPTION:Once We Were Home\nby Jennifer Rosner\nWhen: Sunday 5/4/2025\nTime: 6 PM Dinner in person\n          7 PM Book Discussion : Hybrid\nWhere: Home of Alissa Onigman\nAddress/Parking: To be provided after you RSVP\nMenu: Pizza/beverages (cost to be shared by attendees)\n           Potluck for Dessert and Salad\nRSVP: Required for Potluck by 5/3/2025 to Sue Hochberg shochberg.sh@gmail.com including what you will bring \nJoin Temple Reads\nhttps://us02web.zoom.us/j/89408550115?pwd=uOqIMbYY4Nas4whaIHmCxu4EFvxwnr.1\nMeeting ID: 894 0855 0115\nPasscode: 496908\n  \nAna will never forget her mother’s face when she and her baby brother\, Oskar\, were sent out of their Polish ghetto and into the arms of a Christian friend. For Oskar\, though\, their new family is the only one he remembers. When a woman from a Jewish reclamation organization seizes them\, believing she has their best interest at heart\, Ana sees an opportunity to reconnect with her roots\, while Oskar sees only the loss of the home he loves. \nRoger grows up in a monastery in France\, inventing stories and trading riddles with his best friend in a life of quiet concealment. When a relative seeks to retrieve him\, the Church steals him across the Pyrenees before relinquishing him to family in Jerusalem. \nRenata\, a post-graduate student in archaeology\, has spent her life unearthing secrets from the past–except for her own. After her mother’s death\, Renata’s grief is entwined with all the questions her mother left unanswered\, including why they fled Germany so quickly when Renata was a little girl. \nTwo decades later\, they are each building lives for themselves\, trying to move on from the trauma and loss that haunts them. But as their stories converge in Israel\, in unexpected ways\, they must each ask where and to whom they truly belong. \nBeautifully evocative and tender\, filled with both luminosity and anguish\, Once We Were Home reveals a little-known history. Based on the true stories of children stolen during wartime\, this heart-wrenching novel raises questions of complicity and responsibility\, belonging and identity\, good intentions and unforeseen consequences\, as it confronts what it really means to find home.
URL:https://wakefieldtemple.org/event/temple-reads-once-we-were-home-by-jennifer-rosner/
END:VEVENT
BEGIN:VEVENT
DTSTART;TZID=America/New_York:20250504T110000
DTEND;TZID=America/New_York:20250504T120000
DTSTAMP:20260425T080145
CREATED:20250325T173353Z
LAST-MODIFIED:20250325T173354Z
UID:10012281-1746356400-1746360000@wakefieldtemple.org
SUMMARY:Sisterhood Sunday Walkers
DESCRIPTION:When: Sunday May 4\, 2025    Weather permitting\nTime: 11:00 AM\nWhere: Horn Pond\, Woburn Mass\nhttps://www.alltrails.com/parks/us/massachusetts/horn-pond-recreation-area?ref=result-card\nMeeting location: Lake Ave Parking lot\nParking: If there are no spaces in the lot\, park around the pond or at another lot\, but meet in the Lake Ave parking lot. \nRSVP: Let me know if you can make it via text 781-258-7760 or email shochberg.sh@gmail.com\nTrail information: In addition to the paved loop around the pond\, there are trails leading off the main trail. Refer to web site\nSue H’s Cell for day of the walk: 781-258-7760
URL:https://wakefieldtemple.org/event/sisterhood-sunday-walkers-11-8/
CATEGORIES:Sisterhood
END:VEVENT
BEGIN:VEVENT
DTSTART;TZID=America/New_York:20250503T093000
DTEND;TZID=America/New_York:20250503T103000
DTSTAMP:20260425T080145
CREATED:20240518T144522Z
LAST-MODIFIED:20240518T144522Z
UID:10012167-1746264600-1746268200@wakefieldtemple.org
SUMMARY:Tot Shabbat
DESCRIPTION:
URL:https://wakefieldtemple.org/event/tot-shabbat-7/2025-05-03/
END:VEVENT
BEGIN:VEVENT
DTSTART;TZID=America/New_York:20250502T193000
DTEND;TZID=America/New_York:20250502T210000
DTSTAMP:20260425T080145
CREATED:20240605T095828Z
LAST-MODIFIED:20250416T005055Z
UID:10012144-1746214200-1746219600@wakefieldtemple.org
SUMMARY:Erev Shabbat Celebration
DESCRIPTION:
URL:https://wakefieldtemple.org/event/erev-shabbat-celebration-12-7/
END:VEVENT
BEGIN:VEVENT
DTSTART;VALUE=DATE:20250501
DTEND;VALUE=DATE:20250502
DTSTAMP:20260425T080145
CREATED:20240518T232117Z
LAST-MODIFIED:20240518T232117Z
UID:10012247-1746057600-1746143999@wakefieldtemple.org
SUMMARY:Yom Ha Atzma'ut (Israel Independence Day)\, No Service
DESCRIPTION:
URL:https://wakefieldtemple.org/event/yom-ha-atzmaut-israel-independence-day-no-service-4/
END:VEVENT
BEGIN:VEVENT
DTSTART;VALUE=DATE:20250430
DTEND;VALUE=DATE:20250501
DTSTAMP:20260425T080145
CREATED:20240518T231857Z
LAST-MODIFIED:20240518T232145Z
UID:10012246-1745971200-1746057599@wakefieldtemple.org
SUMMARY:Yom HaZikaron (Israel Remembrance Day)\, No Service
DESCRIPTION:
URL:https://wakefieldtemple.org/event/yom-hazikaron-israel-remembrance-day-no-service-4/
END:VEVENT
BEGIN:VEVENT
DTSTART;TZID=America/New_York:20250428T193000
DTEND;TZID=America/New_York:20250428T210000
DTSTAMP:20260425T080145
CREATED:20240818T181930Z
LAST-MODIFIED:20240818T181930Z
UID:10012306-1745868600-1745874000@wakefieldtemple.org
SUMMARY:Sisterhood Annual Meeting including Election of Officers
DESCRIPTION:
URL:https://wakefieldtemple.org/event/sisterhood-annual-meeting-including-election-of-officers/
CATEGORIES:Sisterhood
END:VEVENT
BEGIN:VEVENT
DTSTART;TZID=America/New_York:20250427T140000
DTEND;TZID=America/New_York:20250427T160000
DTSTAMP:20260425T080145
CREATED:20241227T194450Z
LAST-MODIFIED:20250323T180133Z
UID:10012427-1745762400-1745769600@wakefieldtemple.org
SUMMARY:Nathans & Ronstadt Duo
DESCRIPTION:Aaron Nathans & Michael G. Ronstadt\nApril 27\n2:00 PM – 4:00 PM\n\nCello-guitar songwriting duo Aaron Nathans & Michael G. Ronstadt never lose their capacity to surprise. This progressive folk act combines uninhibited musical creativity and mastery with accessible story songs and an oddball sense of humor. Audiences will see and hear things done with a cello they never thought possible\, meandering stories as captivating as the music\, and hook-filled story songs that you’ll remember long after the lights come up. Guitarist/vocalist Nathans\, from the Philadelphia area\, is an award-winning leader in the Philly songwriting community. Cellist/vocalist Ronstadt\, nephew of Linda Ronstadt\, is a Cincinnati-based cello bandleader\, teacher\, touring artist\, and much in-demand studio sideman. \n\nAs an acoustic duo\, the two create a compelling musical palate. Ronstadt’s cello lines are reminiscent of the live-layered magic of Zoe Keating\, and his songwriting reflects the creative diversity of Paul Simon. He weaves intricate patterns around Nathans’ baritone voice\, studied folk meters and dash of irony in the tradition of David Wilcox and Dar Williams.\nTo RSVP: Call the Temple at 781-245-1886 and select option 5\nTickets: 18 and older $25\, under 18 $10\nCash or check made payable to Temple Emmanuel at the door\nTemple Emmanuel is located at 120 Chestnut St. Wakefield\, MA 01880.\nwww.WakefieldTemple.org
URL:https://wakefieldtemple.org/event/nathans-ronstadt-duo/
END:VEVENT
BEGIN:VEVENT
DTSTART;TZID=America/New_York:20250427T120000
DTEND;TZID=America/New_York:20250427T140000
DTSTAMP:20260425T080145
CREATED:20250409T005311Z
LAST-MODIFIED:20250409T005452Z
UID:10012571-1745755200-1745762400@wakefieldtemple.org
SUMMARY:Brunch and Meet & Greet Rabbi Micah\, Rabbinic Candidate
DESCRIPTION:
URL:https://wakefieldtemple.org/event/brunch-and-meet-greet-rabbinic-candidate-rabbi-micah/
END:VEVENT
BEGIN:VEVENT
DTSTART;TZID=America/New_York:20250426T100000
DTEND;TZID=America/New_York:20250426T120000
DTSTAMP:20260425T080145
CREATED:20250329T134250Z
LAST-MODIFIED:20250418T113128Z
UID:10012563-1745661600-1745668800@wakefieldtemple.org
SUMMARY:Shabbat Morning Celebration led by Rabbi Micah\, Rabbinic Candidate\, followed by Special Kiddush
DESCRIPTION:
URL:https://wakefieldtemple.org/event/shabbat-morning-celebration-led-by-guest-rabbi-micah-followed-by-special-kiddush/
END:VEVENT
BEGIN:VEVENT
DTSTART;TZID=America/New_York:20250426T090000
DTEND;TZID=America/New_York:20250426T100000
DTSTAMP:20260425T080145
CREATED:20250403T002120Z
LAST-MODIFIED:20250409T005623Z
UID:10012570-1745658000-1745661600@wakefieldtemple.org
SUMMARY:Special Tot Shabbat\, led by Rabbi Micah\, Rabbinic Candidate
DESCRIPTION:
URL:https://wakefieldtemple.org/event/saturday-tot-shabbat-led-by-rabbi-micah-rabbinic-candidate/
END:VEVENT
BEGIN:VEVENT
DTSTART;TZID=America/New_York:20250425T193000
DTEND;TZID=America/New_York:20250425T210000
DTSTAMP:20260425T080145
CREATED:20250329T134050Z
LAST-MODIFIED:20250330T184429Z
UID:10012143-1745609400-1745614800@wakefieldtemple.org
SUMMARY:Erev Shabbat Celebration led by Rabbi Micah\, Rabbinic Candidate
DESCRIPTION:
URL:https://wakefieldtemple.org/event/erev-shabbat-celebration-12-16/
END:VEVENT
BEGIN:VEVENT
DTSTART;VALUE=DATE:20250424
DTEND;VALUE=DATE:20250425
DTSTAMP:20260425T080145
CREATED:20240518T231802Z
LAST-MODIFIED:20240518T232210Z
UID:10012245-1745452800-1745539199@wakefieldtemple.org
SUMMARY:Yom HaShoah (Holocaust Remembrance Day)\, No Service
DESCRIPTION:
URL:https://wakefieldtemple.org/event/yom-hashoah-holocaust-remembrance-day-no-service/
END:VEVENT
BEGIN:VEVENT
DTSTART;TZID=America/New_York:20250423T193000
DTEND;TZID=America/New_York:20250423T203000
DTSTAMP:20260425T080145
CREATED:20250401T212949Z
LAST-MODIFIED:20250402T153314Z
UID:10012565-1745436600-1745440200@wakefieldtemple.org
SUMMARY:Continuing Education: Trailblazing American Jewish Musicians
DESCRIPTION:This course is open to anyone who enjoys music! We’ll explore different eras and genres of 20th century music\, where American Jews have had outsized impact. All are welcome to learn some of the ways that Jewish people have been pioneers and influencers over the last 100 years to help make music what it is today.\nJoin Class\nhttps://us02web.zoom.us/j/83198856281?pwd=4kDQ9xWi4bQoKPGPBEXgLB0M2TstPg.1\nMeeting ID: 831 9885 6281\nPasscode: 662309\n 
URL:https://wakefieldtemple.org/event/continuing-education-trailblazing-american-jewish-musicians/2025-04-23/
END:VEVENT
BEGIN:VEVENT
DTSTART;TZID=America/New_York:20250422T193000
DTEND;TZID=America/New_York:20250422T210000
DTSTAMP:20260425T080145
CREATED:20240518T231657Z
LAST-MODIFIED:20240819T121336Z
UID:10012242-1745350200-1745355600@wakefieldtemple.org
SUMMARY:Continuing Education Committee Meeting
DESCRIPTION:
URL:https://wakefieldtemple.org/event/continuing-education-committee-meeting-2/2025-04-22/
END:VEVENT
BEGIN:VEVENT
DTSTART;TZID=America/New_York:20250421T193000
DTEND;TZID=America/New_York:20250421T210000
DTSTAMP:20260425T080145
CREATED:20250220T164900Z
LAST-MODIFIED:20250220T164900Z
UID:10012435-1745263800-1745269200@wakefieldtemple.org
SUMMARY:Ways & Means Committee Meeting
DESCRIPTION:
URL:https://wakefieldtemple.org/event/ways-means-committee-meeting-4/2025-04-21/
END:VEVENT
BEGIN:VEVENT
DTSTART;TZID=America/New_York:20250420T093000
DTEND;TZID=America/New_York:20250420T120000
DTSTAMP:20260425T080145
CREATED:20240518T121933Z
LAST-MODIFIED:20240518T121933Z
UID:10012124-1745141400-1745150400@wakefieldtemple.org
SUMMARY:Pesach Eighth Day Services with Yizkor
DESCRIPTION:
URL:https://wakefieldtemple.org/event/pesach-eighth-day-services-with-yizkor-2/
END:VEVENT
BEGIN:VEVENT
DTSTART;TZID=America/New_York:20250419T093000
DTEND;TZID=America/New_York:20250419T110000
DTSTAMP:20260425T080145
CREATED:20240713T143529Z
LAST-MODIFIED:20240713T143529Z
UID:10012295-1745055000-1745060400@wakefieldtemple.org
SUMMARY:Shabbat Morning Celebration
DESCRIPTION:
URL:https://wakefieldtemple.org/event/shabbat-morning-celebration-9/2025-04-19/
END:VEVENT
BEGIN:VEVENT
DTSTART;TZID=America/New_York:20250418T193000
DTEND;TZID=America/New_York:20250418T203000
DTSTAMP:20260425T080145
CREATED:20240518T120201Z
LAST-MODIFIED:20240605T094534Z
UID:10012129-1745004600-1745008200@wakefieldtemple.org
SUMMARY:Jewish Meditation Circle
DESCRIPTION:
URL:https://wakefieldtemple.org/event/jewish-meditation-circle-13/2025-04-18/
END:VEVENT
BEGIN:VEVENT
DTSTART;TZID=America/New_York:20250415T193000
DTEND;TZID=America/New_York:20250415T210000
DTSTAMP:20260425T080145
CREATED:20240518T194009Z
LAST-MODIFIED:20240518T194009Z
UID:10012234-1744745400-1744750800@wakefieldtemple.org
SUMMARY:School Committee Meeting
DESCRIPTION:
URL:https://wakefieldtemple.org/event/school-committee-meeting-8/2025-04-15/
END:VEVENT
BEGIN:VEVENT
DTSTART;TZID=America/New_York:20250413T180000
DTEND;TZID=America/New_York:20250413T210000
DTSTAMP:20260425T080145
CREATED:20240518T121759Z
LAST-MODIFIED:20250318T182903Z
UID:10012123-1744567200-1744578000@wakefieldtemple.org
SUMMARY:Community Seder
DESCRIPTION:COMMUNITY SEDER\nTemple Emmanuel will be holding a hybrid Community Seder on the second evening of Passover\, Sunday\, April 13 at 6:00 PM\nRabbi Greg Hersh will conduct our Seder Service\n\nWe will be serving a catered\, Kosher for Passover\, four course dinner\n\nAdults (16 years and older)                                                    $55.00\nChildren (7-15 years old)                                                        $30.00\nChildren (6 years old and under)                                           $10.00\n  \nReservations and payment may be made by filling out this form\n  \nIf sending a check to the Temple\, please mark PESACH RESERVATIONS \non the outside of the envelope\n  \nYou can also pay via Donorbox\n  \nPlease make your reservation by Tuesday April 8\n  \nJoin our Seder\nhttps://us02web.zoom.us/j/85028107042?pwd=6ziDFx2Oo143EV0b65VVXdWKSMhCHc.1\nMeeting ID: 850 2810 7042\nPasscode: 135483
URL:https://wakefieldtemple.org/event/community-seder-5/
END:VEVENT
BEGIN:VEVENT
DTSTART;TZID=America/New_York:20250413T093000
DTEND;TZID=America/New_York:20250413T120000
DTSTAMP:20260425T080145
CREATED:20240518T121607Z
LAST-MODIFIED:20240518T121607Z
UID:10012122-1744536600-1744545600@wakefieldtemple.org
SUMMARY:Pesach First Day Services
DESCRIPTION:
URL:https://wakefieldtemple.org/event/pesach-first-day-services-5/
END:VEVENT
BEGIN:VEVENT
DTSTART;TZID=America/New_York:20250412T093000
DTEND;TZID=America/New_York:20250412T103000
DTSTAMP:20260425T080145
CREATED:20250323T174846Z
LAST-MODIFIED:20250323T174847Z
UID:10012115-1744450200-1744453800@wakefieldtemple.org
SUMMARY:Shabbat Morning Torah Study with Rabbi Greg
DESCRIPTION:
URL:https://wakefieldtemple.org/event/shabbat-morning-celebration-including-torah-study-with-rabbi-greg-3-6/
END:VEVENT
BEGIN:VEVENT
DTSTART;TZID=America/New_York:20250411T193000
DTEND;TZID=America/New_York:20250411T210000
DTSTAMP:20260425T080145
CREATED:20240518T115852Z
LAST-MODIFIED:20240518T142640Z
UID:10012142-1744399800-1744405200@wakefieldtemple.org
SUMMARY:Erev Shabbat Celebration
DESCRIPTION:
URL:https://wakefieldtemple.org/event/erev-shabbat-celebration-12/2025-04-11/
END:VEVENT
BEGIN:VEVENT
DTSTART;TZID=America/New_York:20250410T080000
DTEND;TZID=America/New_York:20250410T090000
DTSTAMP:20260425T080145
CREATED:20240518T121502Z
LAST-MODIFIED:20240602T155025Z
UID:10012121-1744272000-1744275600@wakefieldtemple.org
SUMMARY:Fast of the First Born Siyyum
DESCRIPTION:
URL:https://wakefieldtemple.org/event/fast-of-the-first-born-siyyum-4/
END:VEVENT
BEGIN:VEVENT
DTSTART;TZID=America/New_York:20250409T193000
DTEND;TZID=America/New_York:20250409T203000
DTSTAMP:20260425T080145
CREATED:20250401T212949Z
LAST-MODIFIED:20250402T153314Z
UID:10012564-1744227000-1744230600@wakefieldtemple.org
SUMMARY:Continuing Education: Trailblazing American Jewish Musicians
DESCRIPTION:This course is open to anyone who enjoys music! We’ll explore different eras and genres of 20th century music\, where American Jews have had outsized impact. All are welcome to learn some of the ways that Jewish people have been pioneers and influencers over the last 100 years to help make music what it is today.\nJoin Class\nhttps://us02web.zoom.us/j/83198856281?pwd=4kDQ9xWi4bQoKPGPBEXgLB0M2TstPg.1\nMeeting ID: 831 9885 6281\nPasscode: 662309\n 
URL:https://wakefieldtemple.org/event/continuing-education-trailblazing-american-jewish-musicians/2025-04-09/
END:VEVENT
END:VCALENDAR