BEGIN:VCALENDAR
VERSION:2.0
PRODID:-//Temple Emmanuel of Wakefield - ECPv6.15.20//NONSGML v1.0//EN
CALSCALE:GREGORIAN
METHOD:PUBLISH
X-WR-CALNAME:Temple Emmanuel of Wakefield
X-ORIGINAL-URL:https://wakefieldtemple.org
X-WR-CALDESC:Events for Temple Emmanuel of Wakefield
REFRESH-INTERVAL;VALUE=DURATION:PT1H
X-Robots-Tag:noindex
X-PUBLISHED-TTL:PT1H
BEGIN:VTIMEZONE
TZID:America/New_York
BEGIN:DAYLIGHT
TZOFFSETFROM:-0500
TZOFFSETTO:-0400
TZNAME:EDT
DTSTART:20230312T070000
END:DAYLIGHT
BEGIN:STANDARD
TZOFFSETFROM:-0400
TZOFFSETTO:-0500
TZNAME:EST
DTSTART:20231105T060000
END:STANDARD
BEGIN:DAYLIGHT
TZOFFSETFROM:-0500
TZOFFSETTO:-0400
TZNAME:EDT
DTSTART:20240310T070000
END:DAYLIGHT
BEGIN:STANDARD
TZOFFSETFROM:-0400
TZOFFSETTO:-0500
TZNAME:EST
DTSTART:20241103T060000
END:STANDARD
BEGIN:DAYLIGHT
TZOFFSETFROM:-0500
TZOFFSETTO:-0400
TZNAME:EDT
DTSTART:20250309T070000
END:DAYLIGHT
BEGIN:STANDARD
TZOFFSETFROM:-0400
TZOFFSETTO:-0500
TZNAME:EST
DTSTART:20251102T060000
END:STANDARD
BEGIN:DAYLIGHT
TZOFFSETFROM:-0500
TZOFFSETTO:-0400
TZNAME:EDT
DTSTART:20260308T070000
END:DAYLIGHT
BEGIN:STANDARD
TZOFFSETFROM:-0400
TZOFFSETTO:-0500
TZNAME:EST
DTSTART:20261101T060000
END:STANDARD
END:VTIMEZONE
BEGIN:VEVENT
DTSTART;TZID=America/New_York:20250117T193000
DTEND;TZID=America/New_York:20250117T203000
DTSTAMP:20260425T123008
CREATED:20241122T150515Z
LAST-MODIFIED:20241204T204915Z
UID:10012420-1737142200-1737145800@wakefieldtemple.org
SUMMARY:Jewish Meditation Circle\, led by Rabbi Pam
DESCRIPTION:
URL:https://wakefieldtemple.org/event/jewish-meditation-circle-14/
END:VEVENT
BEGIN:VEVENT
DTSTART;TZID=America/New_York:20250114T193000
DTEND;TZID=America/New_York:20250114T210000
DTSTAMP:20260425T123008
CREATED:20240518T183820Z
LAST-MODIFIED:20240518T183820Z
UID:10012211-1736883000-1736888400@wakefieldtemple.org
SUMMARY:Temple Board Meeting
DESCRIPTION:
URL:https://wakefieldtemple.org/event/temple-board-meeting-16/2025-01-14/
END:VEVENT
BEGIN:VEVENT
DTSTART;TZID=America/New_York:20250113T193000
DTEND;TZID=America/New_York:20250113T203000
DTSTAMP:20260425T123008
CREATED:20240712T163953Z
LAST-MODIFIED:20240818T162908Z
UID:10012287-1736796600-1736800200@wakefieldtemple.org
SUMMARY:Sisterhood Board Meeting
DESCRIPTION:
URL:https://wakefieldtemple.org/event/sisterhood-board-meeting-8/
CATEGORIES:Sisterhood
END:VEVENT
BEGIN:VEVENT
DTSTART;TZID=America/New_York:20250112T190000
DTEND;TZID=America/New_York:20250112T203000
DTSTAMP:20260425T123008
CREATED:20241105T131511Z
LAST-MODIFIED:20241215T170130Z
UID:10012418-1736708400-1736713800@wakefieldtemple.org
SUMMARY:Temple Reads: Kantika by Elizabeth Graver
DESCRIPTION:Kantika\nby Elizabeth Graver \nSunday January 12 at 7:00 PM via Zoom \nJoin Temple Reads\nhttps://us02web.zoom.us/j/83712160257?pwd=PaRCHyAn4UKgurlgWg1rv0gT1OdYS3.1 \nMeeting ID: 837 1216 0257\nPasscode: 967104 \nA dazzling Sephardic multigenerational saga that moves from Istanbul to Barcelona\, Havana\, and New York\, exploring displacement\, endurance\, and family as home. \nA kaleidoscopic portrait of one family’s displacement across four countries\, Kantika—“song” in Ladino—follows the joys and losses of Rebecca Cohen\, feisty daughter of the Sephardic elite of early 20th-century Istanbul. When the Cohens lose their wealth and are forced to move to Barcelona and start anew\, Rebecca fashions a life and self from what comes her way—a failed marriage\, the need to earn a living\, but also passion\, pleasure and motherhood. Moving from Spain to Cuba to New York for an arranged second marriage\, she faces her greatest challenge—her disabled stepdaughter\, Luna\, whose feistiness equals her own and whose challenges pit new family against old. \nExploring identity\, place and exile\, Kantika also reveals how the female body—in work\, art and love—serves as a site of both suffering and joy. A haunting\, inspiring meditation on the tenacity of women\, this lush\, lyrical novel from Elizabeth Graver celebrates the insistence on seizing beauty and grabbing hold of one’s one and only life.
URL:https://wakefieldtemple.org/event/temple-reads-kantika-by-elizabeth-graver/
CATEGORIES:Book Club
END:VEVENT
BEGIN:VEVENT
DTSTART;TZID=America/New_York:20250112T100000
DTEND;TZID=America/New_York:20250112T120000
DTSTAMP:20260425T123008
CREATED:20241203T114400Z
LAST-MODIFIED:20250105T145154Z
UID:10012422-1736676000-1736683200@wakefieldtemple.org
SUMMARY:Bagels and Chairs Work Party!
DESCRIPTION:BAGELS AND CHAIRS WORK PARTY!\n  \nSunday Morning\, January 12 at 10:00 AM\n  \nJoin us for bagels and a nosh\, then help repair some of our new chairs that need a quick fix! Or help tidy another part of the Temple!\n Please RSVP to Ben if you will be joining the party!\n  \n 
URL:https://wakefieldtemple.org/event/bagels-and-chairs-work-party/
END:VEVENT
BEGIN:VEVENT
DTSTART;TZID=America/New_York:20250111T093000
DTEND;TZID=America/New_York:20250111T113000
DTSTAMP:20260425T123008
CREATED:20240607T013130Z
LAST-MODIFIED:20241204T204841Z
UID:10012112-1736587800-1736595000@wakefieldtemple.org
SUMMARY:Shabbat Morning Celebration\, led by Rabbi Pam
DESCRIPTION:
URL:https://wakefieldtemple.org/event/shabbat-morning-celebration-including-torah-study-with-rabbi-greg-3-4/
END:VEVENT
BEGIN:VEVENT
DTSTART;TZID=America/New_York:20250110T193000
DTEND;TZID=America/New_York:20250110T210000
DTSTAMP:20260425T123008
CREATED:20241204T204807Z
LAST-MODIFIED:20241204T205230Z
UID:10012133-1736537400-1736542800@wakefieldtemple.org
SUMMARY:Erev Shabbat Celebration\, Lay-led
DESCRIPTION:
URL:https://wakefieldtemple.org/event/erev-shabbat-celebration-12-12/
END:VEVENT
BEGIN:VEVENT
DTSTART;TZID=America/New_York:20250108T153000
DTEND;TZID=America/New_York:20250108T183000
DTSTAMP:20260425T123008
CREATED:20231221T230232Z
LAST-MODIFIED:20241103T233918Z
UID:10012257-1736350200-1736361000@wakefieldtemple.org
SUMMARY:Volunteer at Wakefield Community Dinners
DESCRIPTION:Mitzvah opportunity! Temple Emmanuel is now partnered with Wakefield Community Dinners. Held at Most Blessed Sacrament in Wakefield\, the Community Dinners happen the 2nd Wednesday of every month\, with the opportunity to feed 80+ neighbors and friends from Wakefield\, Stoneham\, Melrose and towns as far as Medford\, Salem and Norwood. Volunteer hours are 3:30-6:30pm. Guests come as families or alone. Although many are experiencing food insecurity\, most are impacted with social isolation. We provide a hot meal\, salad\, bread\, desserts\, and most importantly\, camaraderie. If you’d like to have fun\, share smiles\, and engage in holy work with Rabbi Greg\, please sign up here.
URL:https://wakefieldtemple.org/event/volunteer-at-wakefield-community-dinners/2025-01-08/
END:VEVENT
BEGIN:VEVENT
DTSTART;TZID=America/New_York:20250107T193000
DTEND;TZID=America/New_York:20250107T210000
DTSTAMP:20260425T123008
CREATED:20240518T174856Z
LAST-MODIFIED:20240518T174856Z
UID:10012191-1736278200-1736283600@wakefieldtemple.org
SUMMARY:Ritual Committee Meeting
DESCRIPTION:
URL:https://wakefieldtemple.org/event/ritual-committee-meeting-21/2025-01-07/
END:VEVENT
BEGIN:VEVENT
DTSTART;TZID=America/New_York:20250107T184500
DTEND;TZID=America/New_York:20250107T193000
DTSTAMP:20260425T123008
CREATED:20240518T150907Z
LAST-MODIFIED:20240518T150907Z
UID:10012181-1736275500-1736278200@wakefieldtemple.org
SUMMARY:House & Grounds Committee Meeting
DESCRIPTION:
URL:https://wakefieldtemple.org/event/house-grounds-committee-meeting-15/2025-01-07/
END:VEVENT
BEGIN:VEVENT
DTSTART;TZID=America/New_York:20250106T193000
DTEND;TZID=America/New_York:20250106T210000
DTSTAMP:20260425T123008
CREATED:20240518T183134Z
LAST-MODIFIED:20240518T183134Z
UID:10012201-1736191800-1736197200@wakefieldtemple.org
SUMMARY:Membership Committee Meeting
DESCRIPTION:
URL:https://wakefieldtemple.org/event/membership-committee-meeting-17/2025-01-06/
END:VEVENT
BEGIN:VEVENT
DTSTART;TZID=America/New_York:20250105T110000
DTEND;TZID=America/New_York:20250105T120000
DTSTAMP:20260425T123008
CREATED:20241215T170507Z
LAST-MODIFIED:20241215T170511Z
UID:10012277-1736074800-1736078400@wakefieldtemple.org
SUMMARY:Sisterhood Sunday Walkers
DESCRIPTION:When: Sunday January 5\, 2025 weather permitting\nTime: 11:00 AM\nWhere: Breakheart Reservation\nMeeting location: Northeast Regional High School Parking Lot\, 100 Hemlock Rd. Wakefield\nParking:  Parking lot in front of the building. Please note that there is construction going on\, a new school\, but parking is still available\nRSVP: Sue Hochberg shochberg.sh@gmail.com. Please let me know if you are coming so we don’t leave without you.\nTrail information: 3 mile paved loop\, hilly in places\, rest area/bathroom 1/2 way.\nSue H’s Cell for day of the walk: 781-258-7760
URL:https://wakefieldtemple.org/event/sisterhood-sunday-walkers-11-5/
CATEGORIES:Sisterhood
END:VEVENT
BEGIN:VEVENT
DTSTART;TZID=America/New_York:20250104T093000
DTEND;TZID=America/New_York:20250104T103000
DTSTAMP:20260425T123008
CREATED:20241204T203845Z
LAST-MODIFIED:20241204T203848Z
UID:10012163-1735983000-1735986600@wakefieldtemple.org
SUMMARY:Tot Shabbat\, led by Rabbi Pam
DESCRIPTION:
URL:https://wakefieldtemple.org/event/tot-shabbat-7-2/
END:VEVENT
BEGIN:VEVENT
DTSTART;TZID=America/New_York:20250103T193000
DTEND;TZID=America/New_York:20250103T210000
DTSTAMP:20260425T123008
CREATED:20241204T203811Z
LAST-MODIFIED:20241204T203814Z
UID:10012132-1735932600-1735938000@wakefieldtemple.org
SUMMARY:Erev Shabbat Celebration\, led by Rabbi Pam
DESCRIPTION:
URL:https://wakefieldtemple.org/event/erev-shabbat-celebration-12-11/
END:VEVENT
BEGIN:VEVENT
DTSTART;VALUE=DATE:20250101
DTEND;VALUE=DATE:20250102
DTSTAMP:20260425T123008
CREATED:20240518T115237Z
LAST-MODIFIED:20240518T115237Z
UID:10012095-1735689600-1735775999@wakefieldtemple.org
SUMMARY:Chanukah\, Eighth Night
DESCRIPTION:
URL:https://wakefieldtemple.org/event/chanukah-eighth-night-3/
END:VEVENT
BEGIN:VEVENT
DTSTART;TZID=America/New_York:20241229T160000
DTEND;TZID=America/New_York:20241229T170000
DTSTAMP:20260425T123008
CREATED:20241018T181430Z
LAST-MODIFIED:20241222T002100Z
UID:10012353-1735488000-1735491600@wakefieldtemple.org
SUMMARY:Menorah Lighting on Wakefield Commons
DESCRIPTION:
URL:https://wakefieldtemple.org/event/menorah-lighting-on-wakefield-commons-2/
END:VEVENT
BEGIN:VEVENT
DTSTART;VALUE=DATE:20241225
DTEND;VALUE=DATE:20241226
DTSTAMP:20260425T123008
CREATED:20240518T115159Z
LAST-MODIFIED:20240518T115159Z
UID:10012094-1735084800-1735171199@wakefieldtemple.org
SUMMARY:Chanukah\, First Night
DESCRIPTION:
URL:https://wakefieldtemple.org/event/chanukah-first-night-6/
END:VEVENT
BEGIN:VEVENT
DTSTART;TZID=America/New_York:20241222T103000
DTEND;TZID=America/New_York:20241222T120000
DTSTAMP:20260425T123008
CREATED:20240829T113755Z
LAST-MODIFIED:20241214T205521Z
UID:10012344-1734863400-1734868800@wakefieldtemple.org
SUMMARY:CHAI School Chanukah Festival
DESCRIPTION:
URL:https://wakefieldtemple.org/event/chai-school-special-event-3/
CATEGORIES:Hebrew School
END:VEVENT
BEGIN:VEVENT
DTSTART;TZID=America/New_York:20241221T093000
DTEND;TZID=America/New_York:20241221T110000
DTSTAMP:20260425T123008
CREATED:20241204T203647Z
LAST-MODIFIED:20241204T205149Z
UID:10012291-1734773400-1734778800@wakefieldtemple.org
SUMMARY:Shabbat Morning Celebration\, Lay-led
DESCRIPTION:
URL:https://wakefieldtemple.org/event/shabbat-morning-celebration-9-3/
END:VEVENT
BEGIN:VEVENT
DTSTART;TZID=America/New_York:20241217T193000
DTEND;TZID=America/New_York:20241217T210000
DTSTAMP:20260425T123008
CREATED:20240518T194009Z
LAST-MODIFIED:20240518T194009Z
UID:10012230-1734463800-1734469200@wakefieldtemple.org
SUMMARY:School Committee Meeting
DESCRIPTION:
URL:https://wakefieldtemple.org/event/school-committee-meeting-8/2024-12-17/
END:VEVENT
BEGIN:VEVENT
DTSTART;TZID=America/New_York:20241214T093000
DTEND;TZID=America/New_York:20241214T110000
DTSTAMP:20260425T123008
CREATED:20240605T011658Z
LAST-MODIFIED:20241204T205127Z
UID:10012111-1734168600-1734174000@wakefieldtemple.org
SUMMARY:Shabbat Morning Celebration\, Lay-led
DESCRIPTION:
URL:https://wakefieldtemple.org/event/shabbat-morning-celebration-including-torah-study-with-rabbi-greg-3-3/
END:VEVENT
BEGIN:VEVENT
DTSTART;TZID=America/New_York:20241213T190000
DTEND;TZID=America/New_York:20241213T203000
DTSTAMP:20260425T123008
CREATED:20240818T163202Z
LAST-MODIFIED:20241204T205105Z
UID:10012103-1734116400-1734121800@wakefieldtemple.org
SUMMARY:Early Chanukah Celebration & Shabbat Service\, IN-PERSON only\, Lay-led
DESCRIPTION:Come join us for lighting Chanukah Menorahs and Shabbat candles! \nThere will be a short Shabbat Celebration following in Weizmann Hall\, then it’s LATKE time! \nFriday\, December 13 at 7:00 PM\, in-person only
URL:https://wakefieldtemple.org/event/erev-shabbat-celebration-12-8/
END:VEVENT
BEGIN:VEVENT
DTSTART;TZID=America/New_York:20241211T153000
DTEND;TZID=America/New_York:20241211T183000
DTSTAMP:20260425T123008
CREATED:20231221T230232Z
LAST-MODIFIED:20241103T233918Z
UID:10012256-1733931000-1733941800@wakefieldtemple.org
SUMMARY:Volunteer at Wakefield Community Dinners
DESCRIPTION:Mitzvah opportunity! Temple Emmanuel is now partnered with Wakefield Community Dinners. Held at Most Blessed Sacrament in Wakefield\, the Community Dinners happen the 2nd Wednesday of every month\, with the opportunity to feed 80+ neighbors and friends from Wakefield\, Stoneham\, Melrose and towns as far as Medford\, Salem and Norwood. Volunteer hours are 3:30-6:30pm. Guests come as families or alone. Although many are experiencing food insecurity\, most are impacted with social isolation. We provide a hot meal\, salad\, bread\, desserts\, and most importantly\, camaraderie. If you’d like to have fun\, share smiles\, and engage in holy work with Rabbi Greg\, please sign up here.
URL:https://wakefieldtemple.org/event/volunteer-at-wakefield-community-dinners/2024-12-11/
END:VEVENT
BEGIN:VEVENT
DTSTART;TZID=America/New_York:20241210T193000
DTEND;TZID=America/New_York:20241210T210000
DTSTAMP:20260425T123008
CREATED:20240518T183820Z
LAST-MODIFIED:20240518T183820Z
UID:10012210-1733859000-1733864400@wakefieldtemple.org
SUMMARY:Temple Board Meeting
DESCRIPTION:
URL:https://wakefieldtemple.org/event/temple-board-meeting-16/2024-12-10/
END:VEVENT
BEGIN:VEVENT
DTSTART;TZID=America/New_York:20241208T180000
DTEND;TZID=America/New_York:20241208T200000
DTSTAMP:20260425T123008
CREATED:20241010T235708Z
LAST-MODIFIED:20241022T210409Z
UID:10012352-1733680800-1733688000@wakefieldtemple.org
SUMMARY:Bowling Night!
DESCRIPTION:TEMPLE COMMUNITY FUN SOCIAL EVENT\nBRING FRIENDS AND FAMILY…\n\n\n\n\n\nDECEMBER 8TH\, 6:00 PM\n\nWAKEFIELD BOWLADROME\n96 WATER STREET\nWAKEFIELD\, MA\n\n\n\n\n\nREGISTER FOR\nEVENT:\n\n\n \nOR TAP THIS LINK\n\n\n\n\n$25 FOR 13 AND OLDER\, $5 FOR 12 AND\nUNDER. CASH AT THE DOOR\n 
URL:https://wakefieldtemple.org/event/bowling-night/
END:VEVENT
BEGIN:VEVENT
DTSTART;TZID=America/New_York:20241208T170000
DTEND;TZID=America/New_York:20241208T180000
DTSTAMP:20260425T123008
CREATED:20241018T181638Z
LAST-MODIFIED:20241018T181638Z
UID:10012354-1733677200-1733680800@wakefieldtemple.org
SUMMARY:Menorah Lighting on Reading Town Common
DESCRIPTION:The rain/bad weather location is the First Congregational Church of Reading
URL:https://wakefieldtemple.org/event/menorah-lighting-on-reading-town-common/
END:VEVENT
BEGIN:VEVENT
DTSTART;TZID=America/New_York:20241208T110000
DTEND;TZID=America/New_York:20241208T120000
DTSTAMP:20260425T123008
CREATED:20241109T230315Z
LAST-MODIFIED:20241110T013548Z
UID:10012276-1733655600-1733659200@wakefieldtemple.org
SUMMARY:Sisterhood Sunday Walkers
DESCRIPTION:When: Sunday December 8\, 2024  weather permitting at 11 AM\n\nWhere: Middlesex Fells Reservation\, Healthy Heart Trail \n\nMeeting Location: 26 South Ave.\, Melrose (Laura Canter’s home) \n\nParking: On-street parking at South Ave or tandem park in Laura’s driveway\n\n RSVP: Please RSVP to Sue H C: 781-258-7760 \n\nMISC: Approximately 60 minute walk\, starting on sidewalks from Laura’s house. The whole walk will be about 2.5 miles. Please dress for walking on trails in the woods. Recommend sturdy footwear and a walking stick if you have them (Laura has a few extras). Laura will provide hot beverages and a snack at her home afterward.  
URL:https://wakefieldtemple.org/event/sisterhood-sunday-walkers-11-4/
CATEGORIES:Sisterhood
END:VEVENT
BEGIN:VEVENT
DTSTART;TZID=America/New_York:20241207T093000
DTEND;TZID=America/New_York:20241207T103000
DTSTAMP:20260425T123008
CREATED:20240518T144522Z
LAST-MODIFIED:20240518T144522Z
UID:10012162-1733563800-1733567400@wakefieldtemple.org
SUMMARY:Tot Shabbat
DESCRIPTION:
URL:https://wakefieldtemple.org/event/tot-shabbat-7/2024-12-07/
END:VEVENT
BEGIN:VEVENT
DTSTART;TZID=America/New_York:20241206T183000
DTEND;TZID=America/New_York:20241206T200000
DTSTAMP:20260425T123008
CREATED:20240605T095503Z
LAST-MODIFIED:20241120T211242Z
UID:10012102-1733509800-1733515200@wakefieldtemple.org
SUMMARY:Potluck Supper and Singing led by the CHAI School!
DESCRIPTION:POTLUCK SUPPER AND SINGING!\nFriday December 6 at 6:30 PM \nOur CHAI School students will lead us in candle lighting\, blessings over the food and wine\, and Birkat Hamazon (grace after the meal). We will also have a brief sing-a-long\, camp-style led by Rabbi Greg and Morah Brenda. We sincerely hope you can make it! \n  \n For kashrut purposes\, the meal will be kosher dairy (no meat) and please bring a 3×5 card with list of ingredients in your dish\, for allergy purposes.\n  \n Please RSVP to Susan Silbovitz at svitz9@gmail.com by December 4. This is open to CHAI School families\, Temple members and anyone else who wants to have a fun evening!\n  \nPlease join us!
URL:https://wakefieldtemple.org/event/erev-shabbat-celebration-12-4/
CATEGORIES:Hebrew School
END:VEVENT
BEGIN:VEVENT
DTSTART;TZID=America/New_York:20241203T193000
DTEND;TZID=America/New_York:20241203T210000
DTSTAMP:20260425T123008
CREATED:20240518T174856Z
LAST-MODIFIED:20240518T174856Z
UID:10012190-1733254200-1733259600@wakefieldtemple.org
SUMMARY:Ritual Committee Meeting
DESCRIPTION:
URL:https://wakefieldtemple.org/event/ritual-committee-meeting-21/2024-12-03/
END:VEVENT
END:VCALENDAR