BEGIN:VCALENDAR
VERSION:2.0
PRODID:-//Temple Emmanuel of Wakefield - ECPv6.15.20//NONSGML v1.0//EN
CALSCALE:GREGORIAN
METHOD:PUBLISH
X-ORIGINAL-URL:https://wakefieldtemple.org
X-WR-CALDESC:Events for Temple Emmanuel of Wakefield
REFRESH-INTERVAL;VALUE=DURATION:PT1H
X-Robots-Tag:noindex
X-PUBLISHED-TTL:PT1H
BEGIN:VTIMEZONE
TZID:America/New_York
BEGIN:DAYLIGHT
TZOFFSETFROM:-0500
TZOFFSETTO:-0400
TZNAME:EDT
DTSTART:20250309T070000
END:DAYLIGHT
BEGIN:STANDARD
TZOFFSETFROM:-0400
TZOFFSETTO:-0500
TZNAME:EST
DTSTART:20251102T060000
END:STANDARD
BEGIN:DAYLIGHT
TZOFFSETFROM:-0500
TZOFFSETTO:-0400
TZNAME:EDT
DTSTART:20260308T070000
END:DAYLIGHT
BEGIN:STANDARD
TZOFFSETFROM:-0400
TZOFFSETTO:-0500
TZNAME:EST
DTSTART:20261101T060000
END:STANDARD
BEGIN:DAYLIGHT
TZOFFSETFROM:-0500
TZOFFSETTO:-0400
TZNAME:EDT
DTSTART:20270314T070000
END:DAYLIGHT
BEGIN:STANDARD
TZOFFSETFROM:-0400
TZOFFSETTO:-0500
TZNAME:EST
DTSTART:20271107T060000
END:STANDARD
END:VTIMEZONE
BEGIN:VEVENT
DTSTART;TZID=America/New_York:20260203T184500
DTEND;TZID=America/New_York:20260203T193000
DTSTAMP:20260423T202718
CREATED:20250322T134417Z
LAST-MODIFIED:20250322T134418Z
UID:10012502-1770144300-1770147000@wakefieldtemple.org
SUMMARY:House & Grounds Committee Meeting
DESCRIPTION:
URL:https://wakefieldtemple.org/event/house-grounds-committee-meeting-16/2026-02-03/
END:VEVENT
BEGIN:VEVENT
DTSTART;TZID=America/New_York:20260203T193000
DTEND;TZID=America/New_York:20260203T210000
DTSTAMP:20260423T202718
CREATED:20250322T134903Z
LAST-MODIFIED:20250322T135225Z
UID:10012513-1770147000-1770152400@wakefieldtemple.org
SUMMARY:Ritual Committee Meeting
DESCRIPTION:
URL:https://wakefieldtemple.org/event/ritual-committee-meeting-23/2026-02-03/
END:VEVENT
BEGIN:VEVENT
DTSTART;TZID=America/New_York:20260206T193000
DTEND;TZID=America/New_York:20260206T210000
DTSTAMP:20260423T202718
CREATED:20260125T181151Z
LAST-MODIFIED:20260125T181153Z
UID:10012592-1770406200-1770411600@wakefieldtemple.org
SUMMARY:Erev Shabbat Celebration.  Join us for a Beatles-inspired "Shabbat from Liverpool!" with special guests\, Berklee College of Music musicians Elijah Goldberg & Oren Amran.
DESCRIPTION:
URL:https://wakefieldtemple.org/event/erev-shabbat-celebration-16-8/
END:VEVENT
BEGIN:VEVENT
DTSTART;TZID=America/New_York:20260207T093000
DTEND;TZID=America/New_York:20260207T103000
DTSTAMP:20260423T202718
CREATED:20250507T212944Z
LAST-MODIFIED:20250507T212944Z
UID:10012642-1770456600-1770460200@wakefieldtemple.org
SUMMARY:Tot Shabbat
DESCRIPTION:
URL:https://wakefieldtemple.org/event/tot-shabbat-8/2026-02-07/
END:VEVENT
BEGIN:VEVENT
DTSTART;TZID=America/New_York:20260210T100000
DTEND;TZID=America/New_York:20260210T120000
DTSTAMP:20260423T202718
CREATED:20251107T130536Z
LAST-MODIFIED:20251107T130536Z
UID:10012769-1770717600-1770724800@wakefieldtemple.org
SUMMARY:Visiting Moms Group
DESCRIPTION:
URL:https://wakefieldtemple.org/event/visiting-moms-group/2026-02-10/
END:VEVENT
BEGIN:VEVENT
DTSTART;TZID=America/New_York:20260210T153000
DTEND;TZID=America/New_York:20260210T180000
DTSTAMP:20260423T202718
CREATED:20251108T192618Z
LAST-MODIFIED:20251108T192619Z
UID:10012806-1770737400-1770746400@wakefieldtemple.org
SUMMARY:CHAI School Classes
DESCRIPTION:
URL:https://wakefieldtemple.org/event/chai-school-classes/2026-02-10/
END:VEVENT
BEGIN:VEVENT
DTSTART;TZID=America/New_York:20260210T193000
DTEND;TZID=America/New_York:20260210T210000
DTSTAMP:20260423T202718
CREATED:20250321T205615Z
LAST-MODIFIED:20250321T205616Z
UID:10012469-1770751800-1770757200@wakefieldtemple.org
SUMMARY:Temple Board Meeting
DESCRIPTION:
URL:https://wakefieldtemple.org/event/temple-board-meeting-17/2026-02-10/
END:VEVENT
BEGIN:VEVENT
DTSTART;TZID=America/New_York:20260211T153000
DTEND;TZID=America/New_York:20260211T183000
DTSTAMP:20260423T202718
CREATED:20251203T200431Z
LAST-MODIFIED:20251203T200432Z
UID:10012556-1770823800-1770834600@wakefieldtemple.org
SUMMARY:Volunteer at Wakefield Community Dinners
DESCRIPTION:Mitzvah opportunity! Temple Emmanuel is now partnered with Wakefield Community Dinners. Held at Most Blessed Sacrament in Wakefield\, the Community Dinners happen the 2nd Wednesday of every month\, with the opportunity to feed 80+ neighbors and friends from Wakefield\, Stoneham\, Melrose and towns as far as Medford\, Salem and Norwood. \nVolunteer hours are 3:30-6:30pm. Guests come as families or alone. Although many are experiencing food insecurity\, most are impacted with social isolation. We provide a hot meal\, salad\, bread\, desserts\, and most importantly\, camaraderie. \nIf you’d like to have fun\, share smiles\, and engage in holy work\, please sign up here. \nContact Bev Weiner if you have any questions: theweino@aol.com
URL:https://wakefieldtemple.org/event/volunteer-at-wakefield-community-dinners-2-2/2026-02-11/
END:VEVENT
BEGIN:VEVENT
DTSTART;TZID=America/New_York:20260213T193000
DTEND;TZID=America/New_York:20260213T210000
DTSTAMP:20260423T202718
CREATED:20250507T184653Z
LAST-MODIFIED:20250730T135047Z
UID:10012593-1771011000-1771016400@wakefieldtemple.org
SUMMARY:Erev Shabbat Celebration
DESCRIPTION:
URL:https://wakefieldtemple.org/event/erev-shabbat-celebration-16/2026-02-13/
END:VEVENT
BEGIN:VEVENT
DTSTART;TZID=America/New_York:20260214T100000
DTEND;TZID=America/New_York:20260214T113000
DTSTAMP:20260423T202718
CREATED:20251105T134807Z
LAST-MODIFIED:20260121T171456Z
UID:10012747-1771063200-1771068600@wakefieldtemple.org
SUMMARY:Shabbat Morning Celebration - Torah Study Session
DESCRIPTION:
URL:https://wakefieldtemple.org/event/shabbat-morning-celebration-10-3/2026-02-14/
END:VEVENT
BEGIN:VEVENT
DTSTART;TZID=America/New_York:20260217T193000
DTEND;TZID=America/New_York:20260217T210000
DTSTAMP:20260423T202718
CREATED:20250322T144524Z
LAST-MODIFIED:20250322T144525Z
UID:10012523-1771356600-1771362000@wakefieldtemple.org
SUMMARY:School Committee Meeting
DESCRIPTION:
URL:https://wakefieldtemple.org/event/school-committee-meeting-9/2026-02-17/
END:VEVENT
BEGIN:VEVENT
DTSTART;TZID=America/New_York:20260219T193000
DTEND;TZID=America/New_York:20260219T210000
DTSTAMP:20260423T202718
CREATED:20260215T135200Z
LAST-MODIFIED:20260215T135202Z
UID:10012544-1771529400-1771534800@wakefieldtemple.org
SUMMARY:Ways & Means/Social/Function Committee Meeting
DESCRIPTION:
URL:https://wakefieldtemple.org/event/ways-means-committee-meeting-6-4/
END:VEVENT
BEGIN:VEVENT
DTSTART;TZID=America/New_York:20260220T193000
DTEND;TZID=America/New_York:20260220T203000
DTSTAMP:20260423T202718
CREATED:20251020T132651Z
LAST-MODIFIED:20251020T132651Z
UID:10012612-1771615800-1771619400@wakefieldtemple.org
SUMMARY:Erev Shabbat Celebration
DESCRIPTION:
URL:https://wakefieldtemple.org/event/jewish-meditation-circle-16-2/2026-02-20/
END:VEVENT
BEGIN:VEVENT
DTSTART;TZID=America/New_York:20260221T100000
DTEND;TZID=America/New_York:20260221T110000
DTSTAMP:20260423T202718
CREATED:20251105T135954Z
LAST-MODIFIED:20251105T144001Z
UID:10012752-1771668000-1771671600@wakefieldtemple.org
SUMMARY:Meditation
DESCRIPTION:
URL:https://wakefieldtemple.org/event/meditation/2026-02-21/
END:VEVENT
BEGIN:VEVENT
DTSTART;TZID=America/New_York:20260221T183000
DTEND;TZID=America/New_York:20260221T213000
DTSTAMP:20260423T202718
CREATED:20250716T132010Z
LAST-MODIFIED:20260203T130655Z
UID:10012720-1771698600-1771709400@wakefieldtemple.org
SUMMARY:Game Night - Beerfest!
DESCRIPTION:TEMPLE EMMANUEL’S ANNUAL GAME NIGHT & BEERFEST\nSaturday\, February 21\, 2025 at 6:30 pm\nA social evening for Temple members\, family and friends over 21\nKosher hotdog dinner with all the fixings\, munchies\,\nVegetarian Option\, too (let us know)\nBeverages: Beer\, Wine and Soda\nGames for grownups\nScrabble\, Trivial Pursuit\, Mexican Train\, Dominos\, Poker and more! \nMahjong\, Western Style unless someone can bring an American set and players bring their official cards\n \nBring your favorite game! Something new!\nCost: $20 per person\n Pay at the door\, cash or check\nPlease RSVP by February 18th to ensure plenty of food\nMarsha Alter mlouisea@gmail.com\n 
URL:https://wakefieldtemple.org/event/game-night-beerfest/
END:VEVENT
BEGIN:VEVENT
DTSTART;TZID=America/New_York:20260224T100000
DTEND;TZID=America/New_York:20260224T120000
DTSTAMP:20260423T202718
CREATED:20251107T130536Z
LAST-MODIFIED:20251107T130536Z
UID:10012770-1771927200-1771934400@wakefieldtemple.org
SUMMARY:Visiting Moms Group
DESCRIPTION:
URL:https://wakefieldtemple.org/event/visiting-moms-group/2026-02-24/
END:VEVENT
BEGIN:VEVENT
DTSTART;TZID=America/New_York:20260224T153000
DTEND;TZID=America/New_York:20260224T180000
DTSTAMP:20260423T202718
CREATED:20251108T192618Z
LAST-MODIFIED:20251108T192619Z
UID:10012807-1771947000-1771956000@wakefieldtemple.org
SUMMARY:CHAI School Classes
DESCRIPTION:
URL:https://wakefieldtemple.org/event/chai-school-classes/2026-02-24/
END:VEVENT
BEGIN:VEVENT
DTSTART;TZID=America/New_York:20260224T193000
DTEND;TZID=America/New_York:20260224T210000
DTSTAMP:20260423T202718
CREATED:20251107T131234Z
LAST-MODIFIED:20251107T131234Z
UID:10012792-1771961400-1771966800@wakefieldtemple.org
SUMMARY:Continuing Education Committee
DESCRIPTION:
URL:https://wakefieldtemple.org/event/continuing-education-committee-5-4/2026-02-24/
END:VEVENT
BEGIN:VEVENT
DTSTART;TZID=America/New_York:20260225T193000
DTEND;TZID=America/New_York:20260225T203000
DTSTAMP:20260423T202718
CREATED:20260204T150759Z
LAST-MODIFIED:20260204T151120Z
UID:10012966-1772047800-1772051400@wakefieldtemple.org
SUMMARY:Continuing Education: Jewish Views of the Afterlife\, Part 2 - Beliefs
DESCRIPTION:Join the Class\n https://us02web.zoom.us/j/8308912968?pwd=NspIL2UhrALNiikL4yIkhurXsxEP5q.1&omn=86978552262 \nMeeting ID: 830 891 2968 Passcode: 9x3fVf
URL:https://wakefieldtemple.org/event/continuing-education-jewish-views-of-the-afterlife-part-2-beliefs/
END:VEVENT
BEGIN:VEVENT
DTSTART;TZID=America/New_York:20260227T193000
DTEND;TZID=America/New_York:20260227T210000
DTSTAMP:20260423T202719
CREATED:20250507T184653Z
LAST-MODIFIED:20250730T135047Z
UID:10012594-1772220600-1772226000@wakefieldtemple.org
SUMMARY:Erev Shabbat Celebration
DESCRIPTION:
URL:https://wakefieldtemple.org/event/erev-shabbat-celebration-16/2026-02-27/
END:VEVENT
BEGIN:VEVENT
DTSTART;TZID=America/New_York:20260228T100000
DTEND;TZID=America/New_York:20260228T113000
DTSTAMP:20260423T202719
CREATED:20260207T141830Z
LAST-MODIFIED:20260207T141832Z
UID:10012754-1772272800-1772278200@wakefieldtemple.org
SUMMARY:Shabbat Morning Celebration with Torah Reading Followed by Blue Hostage Ribbon Removal Ceremony
DESCRIPTION:
URL:https://wakefieldtemple.org/event/shabbat-morning-celebration-with-torah-reading-5/
END:VEVENT
BEGIN:VEVENT
DTSTART;TZID=America/New_York:20260301T103000
DTEND;TZID=America/New_York:20260301T120000
DTSTAMP:20260423T202719
CREATED:20250507T215729Z
LAST-MODIFIED:20260201T195100Z
UID:10012660-1772361000-1772366400@wakefieldtemple.org
SUMMARY:Purim Carnival
DESCRIPTION:
URL:https://wakefieldtemple.org/event/purim-carnival/
END:VEVENT
BEGIN:VEVENT
DTSTART;TZID=America/New_York:20260302T190000
DTEND;TZID=America/New_York:20260302T200000
DTSTAMP:20260423T202719
CREATED:20250507T215829Z
LAST-MODIFIED:20250507T215830Z
UID:10012661-1772478000-1772481600@wakefieldtemple.org
SUMMARY:Purim Evening Family Celebration
DESCRIPTION:
URL:https://wakefieldtemple.org/event/purim-evening-family-celebration-6/
END:VEVENT
BEGIN:VEVENT
DTSTART;TZID=America/New_York:20260303T153000
DTEND;TZID=America/New_York:20260303T180000
DTSTAMP:20260423T202719
CREATED:20251108T192618Z
LAST-MODIFIED:20251108T192619Z
UID:10012808-1772551800-1772560800@wakefieldtemple.org
SUMMARY:CHAI School Classes
DESCRIPTION:
URL:https://wakefieldtemple.org/event/chai-school-classes/2026-03-03/
END:VEVENT
BEGIN:VEVENT
DTSTART;TZID=America/New_York:20260303T184500
DTEND;TZID=America/New_York:20260303T193000
DTSTAMP:20260423T202719
CREATED:20250322T134417Z
LAST-MODIFIED:20250322T134418Z
UID:10012503-1772563500-1772566200@wakefieldtemple.org
SUMMARY:House & Grounds Committee Meeting
DESCRIPTION:
URL:https://wakefieldtemple.org/event/house-grounds-committee-meeting-16/2026-03-03/
END:VEVENT
BEGIN:VEVENT
DTSTART;TZID=America/New_York:20260303T193000
DTEND;TZID=America/New_York:20260303T210000
DTSTAMP:20260423T202719
CREATED:20250322T134903Z
LAST-MODIFIED:20250322T135225Z
UID:10012514-1772566200-1772571600@wakefieldtemple.org
SUMMARY:Ritual Committee Meeting
DESCRIPTION:
URL:https://wakefieldtemple.org/event/ritual-committee-meeting-23/2026-03-03/
END:VEVENT
BEGIN:VEVENT
DTSTART;TZID=America/New_York:20260306T193000
DTEND;TZID=America/New_York:20260306T210000
DTSTAMP:20260423T202719
CREATED:20250507T184653Z
LAST-MODIFIED:20250730T135047Z
UID:10012595-1772825400-1772830800@wakefieldtemple.org
SUMMARY:Erev Shabbat Celebration
DESCRIPTION:
URL:https://wakefieldtemple.org/event/erev-shabbat-celebration-16/2026-03-06/
END:VEVENT
BEGIN:VEVENT
DTSTART;TZID=America/New_York:20260307T093000
DTEND;TZID=America/New_York:20260307T103000
DTSTAMP:20260423T202719
CREATED:20250507T212944Z
LAST-MODIFIED:20250507T212944Z
UID:10012643-1772875800-1772879400@wakefieldtemple.org
SUMMARY:Tot Shabbat
DESCRIPTION:
URL:https://wakefieldtemple.org/event/tot-shabbat-8/2026-03-07/
END:VEVENT
BEGIN:VEVENT
DTSTART;TZID=America/New_York:20260308T110000
DTEND;TZID=America/New_York:20260308T120000
DTSTAMP:20260423T202719
CREATED:20260207T155158Z
LAST-MODIFIED:20260207T155200Z
UID:10012716-1772967600-1772971200@wakefieldtemple.org
SUMMARY:Sisterhood Sunday Walkers CANCELLED
DESCRIPTION:
URL:https://wakefieldtemple.org/event/sisterhood-sunday-walkers-11-11-8/
CATEGORIES:Sisterhood
END:VEVENT
BEGIN:VEVENT
DTSTART;TZID=America/New_York:20260308T190000
DTEND;TZID=America/New_York:20260308T203000
DTSTAMP:20260423T202719
CREATED:20260117T142835Z
LAST-MODIFIED:20260208T192933Z
UID:10012832-1772996400-1773001800@wakefieldtemple.org
SUMMARY:Temple Reads: Absolution by Alice McDermott
DESCRIPTION:Absolution\n by Alice McDermott March 8 at 7:00 PM \nJoin Temple Reads\nhttps://us02web.zoom.us/j/84108081861?pwd=OCGmZK9Cx3gONLMm2Q2zDUY6cwDNvW.1 \nMeeting ID: 841 0808 1861\nPasscode: 468447 \nNamed a Best Book of the Year by Time\, Esquire\, Good Housekeeping\, Kirkus Reviews\, Los Angeles Times\, NPR\, Oprah Daily\, Real Simple\, and Vogue \nA riveting account of women’s lives on the margins of the Vietnam War\, from the renowned winner of the National Book Award. \nAmerican women―American wives―have been mostly minor characters in the literature of the Vietnam War\, but in Absolution they take center stage. Tricia is a shy newlywed\, married to a rising attorney on loan to navy intelligence. Charlene is a practiced corporate spouse and mother of three\, a beauty and a bully. In Saigon in 1963\, the two women form a wary alliance as they balance the era’s mandate to be “helpmeets” to their ambitious husbands with their own inchoate impulse to “do good” for the people of Vietnam. \nSixty years later\, Charlene’s daughter\, spurred by an encounter with an aging Vietnam vet\, reaches out to Tricia. Together\, they look back at their time in Saigon\, taking wry account of that pivotal year and of Charlene’s altruistic machinations\, and discovering how their own lives as women on the periphery―of politics\, of history\, of war\, of their husbands’ convictions―have been shaped and burdened by the same sort of unintended consequences that followed America’s tragic interference in Southeast Asia. \nA virtuosic new novel from Alice McDermott\, one of our most observant\, most affecting writers\, about folly and grace\, obligation\, sacrifice\, and\, finally\, the quest for absolution in a broken world.
URL:https://wakefieldtemple.org/event/temple-reads-absolution-by-alice-mcdermott/
END:VEVENT
END:VCALENDAR