BEGIN:VCALENDAR
VERSION:2.0
PRODID:-//Temple Emmanuel of Wakefield - ECPv6.15.20//NONSGML v1.0//EN
CALSCALE:GREGORIAN
METHOD:PUBLISH
X-WR-CALNAME:Temple Emmanuel of Wakefield
X-ORIGINAL-URL:https://wakefieldtemple.org
X-WR-CALDESC:Events for Temple Emmanuel of Wakefield
REFRESH-INTERVAL;VALUE=DURATION:PT1H
X-Robots-Tag:noindex
X-PUBLISHED-TTL:PT1H
BEGIN:VTIMEZONE
TZID:America/New_York
BEGIN:DAYLIGHT
TZOFFSETFROM:-0500
TZOFFSETTO:-0400
TZNAME:EDT
DTSTART:20250309T070000
END:DAYLIGHT
BEGIN:STANDARD
TZOFFSETFROM:-0400
TZOFFSETTO:-0500
TZNAME:EST
DTSTART:20251102T060000
END:STANDARD
BEGIN:DAYLIGHT
TZOFFSETFROM:-0500
TZOFFSETTO:-0400
TZNAME:EDT
DTSTART:20260308T070000
END:DAYLIGHT
BEGIN:STANDARD
TZOFFSETFROM:-0400
TZOFFSETTO:-0500
TZNAME:EST
DTSTART:20261101T060000
END:STANDARD
BEGIN:DAYLIGHT
TZOFFSETFROM:-0500
TZOFFSETTO:-0400
TZNAME:EDT
DTSTART:20270314T070000
END:DAYLIGHT
BEGIN:STANDARD
TZOFFSETFROM:-0400
TZOFFSETTO:-0500
TZNAME:EST
DTSTART:20271107T060000
END:STANDARD
END:VTIMEZONE
BEGIN:VEVENT
DTSTART;TZID=America/New_York:20260421T123000
DTEND;TZID=America/New_York:20260421T133000
DTSTAMP:20260423T162150
CREATED:20260204T160054Z
LAST-MODIFIED:20260204T160056Z
UID:10012970-1776774600-1776778200@wakefieldtemple.org
SUMMARY:Lunch & Learn:  Midrash on Moses
DESCRIPTION:Join the Class\nhttps://us02web.zoom.us/j/86735795665?pwd=pOqYu3expsaByPMVax5DUoo4WaBaiB.1 \nMeeting ID: 867 3579 5665 Passcode: 170243
URL:https://wakefieldtemple.org/event/lunch-learn-midrash-on-moses/
END:VEVENT
BEGIN:VEVENT
DTSTART;VALUE=DATE:20260422
DTEND;VALUE=DATE:20260423
DTSTAMP:20260423T162150
CREATED:20250508T194049Z
LAST-MODIFIED:20250508T194049Z
UID:10012668-1776816000-1776902399@wakefieldtemple.org
SUMMARY:Yom Ha Atzma'ut (Israel Independence Day) No Service
DESCRIPTION:
URL:https://wakefieldtemple.org/event/yom-ha-atzmaut-israel-independence-day-no-service-5/
END:VEVENT
BEGIN:VEVENT
DTSTART;TZID=America/New_York:20260424T193000
DTEND;TZID=America/New_York:20260424T210000
DTSTAMP:20260423T162150
CREATED:20260417T173925Z
LAST-MODIFIED:20260417T173947Z
UID:10012600-1777059000-1777064400@wakefieldtemple.org
SUMMARY:Erev Shabbat Celebration\, Lay Led
DESCRIPTION:
URL:https://wakefieldtemple.org/event/erev-shabbat-celebration-16-9/
END:VEVENT
BEGIN:VEVENT
DTSTART;TZID=America/New_York:20260425T100000
DTEND;TZID=America/New_York:20260425T113000
DTSTAMP:20260423T162150
CREATED:20251213T140744Z
LAST-MODIFIED:20260417T174011Z
UID:10012756-1777111200-1777116600@wakefieldtemple.org
SUMMARY:Throwback Lay Led Shabbat Morning Celebration with Torah Study
DESCRIPTION:
URL:https://wakefieldtemple.org/event/shabbat-morning-celebration-with-torah-reading-2/
END:VEVENT
BEGIN:VEVENT
DTSTART;TZID=America/New_York:20260426T140000
DTEND;TZID=America/New_York:20260426T160000
DTSTAMP:20260423T162150
CREATED:20250627T125722Z
LAST-MODIFIED:20260325T115903Z
UID:10012691-1777212000-1777219200@wakefieldtemple.org
SUMMARY:Linden Tree Presents Southern Rail Concert
DESCRIPTION:LINDEN TREE PRESENTS \nSOUTHERN RAIL BLUEGRASS \n  Sunday\, April 26 at 2 PM \nWhen:    Sunday\, April 26\, 2026 at 2 PM   Doors open at 1:30 PM \nAdmission:  $25\, under 18 only $10\, thanks to support in part by Massachusetts Cultural Council\, Wakefield Chapter. WUMB members receive a $2 discount with their membership card.  \nCash or Check is accepted at the door. \nReservations are recommended by calling or texting 781-521-3564. Leave your name and phone number and how many tickets you want reserved. Confirmation will be returned. \nWhere:  Temple Emmanuel\, 120 Chestnut St. Wakefield. Handicapped accessible. \nSponsored by Linden Tree Concerts and Temple Emmanuel \nFor more information:  www.LindenTreeCoffeehouse.org or 781-521-3564 \n \n“Bluegrass with a touch of gospel is back at the Linden Tree in Wakefield with fan favorites: Southern Rail on Sunday\, April 26th at 2 pm. Celebrating over forty years of performing\, Southern Rail’s bluegrass is high-octane exuberant fun\, with lush harmonies\, irrepressible humor and sparkling banjo\, mandolin\, and guitar. \nThe vocal harmonies are exquisite and the musicianship is impeccable – Radio Star\, Ireland. The group has released 11 recordings to wide acclaim.   Their special Bluegrass Gospel compilation entitled “Glory Train” was nominated for the Best Gospel Recording of the Year by the International Bluegrass Music Association.  The group just re-released their ever-popular CD\,  “Live at the Linden Tree”\, a special recording made during their unforgettable 30th anniversary concert at the Linden Tree Coffeehouse.The band’s two founding members\, guitarist Jim Muller and bassist Sharon Horovitch\, were recently inducted by the Rhode Island Bluegrass Alliance\, into their Bluegrass Hall of Fame.” \nJIM MULLER\, Guitar and Lead Vocals: Jim was born and raised in Richmond\, Virginia. Jim is the band’s principal lead singer and songwriter. Jim’s rich\, distinctive lead vocals and offbeat humor have become one of the group’s trademarks. A guitarist for over 40 years\, he is also known for his polished flat-picking and rock-solid rhythm. Jim was also a respected staff-writer for Bluegrass Now Magazine (Rolla\, MO). His regular feature on sound reinforcement\, titled “Plugged In”\, received a great deal of international attention. \nSHARON HOROVITCH\, Acoustic Bass and Harmony Vocals:  Aggressive\, creative and irrepressible\, Sharon is known for her limber bass work\, infectious smile and her tireless energy on stage and off. She also sings tenor and high-baritone harmonies. Sharon started playing bass while a grad student at MIT\, (which is where she met Jim) and she never looked back. Sharon and Jim are co-founders of Southern Rail. \nRICHARD STILLMAN\, Banjo and Harmony Vocals:  Rich has been playing bluegrass banjo for over 30 years.. Rich was New Jersey banjo champion in 1983\, as well as the 2002 and 2003 New England banjo champion. He is a six-time winner of the annual banjo contest held at Lowell\, Massachusetts (1985-1995). Rich has been a regular on the faculty of Banjo Camp North\, has taught bluegrass banjo classes for Boston Bluegrass Union\, and is an adjunct faculty member of Tufts University. \nJOHN TIBERT\, Mandolin and Harmony Vocals: Hailing from Northboro\, MA\, John started playing guitar at age 14. But once he heard Dave Grisman on”Old and in the Way”\, his life was never the same. He’s been addicted to bluegrass ever since. He’s a prolific songwriter and also has taught mandolin for over a decade. John’s mandolin playing is fluid\, lyrical and from the heart\, and his superb bass vocals are a powerful addition to the group’s signature quartet harmonies. \nOne of the most significant groups in contemporary bluegrass…on the cutting edge of creativity. – Bluegrass Unlimited Magazine\, VA \nThe Linden Tree Coffeehouse in its 41st season of acoustic music is located iat Temple Emmanuel\, 120 Chestnut St. Wakefield\, MA 01880 which is handicapped accessible.  We thank the Massachusetts Cultural Council\, Wakefield Arts Council for supporting our concert series that has allowed us to bring quality programming to our community.  Linden Tree also  supports Fair Trade Music Local 1000. For more information see www.LindenTreeCoffeehouse.org and our  page on Facebook.
URL:https://wakefieldtemple.org/event/linden-tree-presents-southern-rail-concert/
END:VEVENT
BEGIN:VEVENT
DTSTART;TZID=America/New_York:20260428T100000
DTEND;TZID=America/New_York:20260428T120000
DTSTAMP:20260423T162150
CREATED:20251107T130536Z
LAST-MODIFIED:20251107T130536Z
UID:10012774-1777370400-1777377600@wakefieldtemple.org
SUMMARY:Visiting Moms Group
DESCRIPTION:
URL:https://wakefieldtemple.org/event/visiting-moms-group/2026-04-28/
END:VEVENT
BEGIN:VEVENT
DTSTART;TZID=America/New_York:20260428T153000
DTEND;TZID=America/New_York:20260428T180000
DTSTAMP:20260423T162150
CREATED:20251108T192618Z
LAST-MODIFIED:20251108T192619Z
UID:10012815-1777390200-1777399200@wakefieldtemple.org
SUMMARY:CHAI School Classes
DESCRIPTION:
URL:https://wakefieldtemple.org/event/chai-school-classes/2026-04-28/
END:VEVENT
BEGIN:VEVENT
DTSTART;TZID=America/New_York:20260428T193000
DTEND;TZID=America/New_York:20260428T203000
DTSTAMP:20260423T162150
CREATED:20260325T143149Z
LAST-MODIFIED:20260325T143149Z
UID:10012972-1777404600-1777408200@wakefieldtemple.org
SUMMARY:Continuing Education Committee Meeting
DESCRIPTION:
URL:https://wakefieldtemple.org/event/continuing-education-committee-meeting-4/
END:VEVENT
BEGIN:VEVENT
DTSTART;TZID=America/New_York:20260428T193000
DTEND;TZID=America/New_York:20260428T210000
DTSTAMP:20260423T162150
CREATED:20260318T001139Z
LAST-MODIFIED:20260421T234459Z
UID:10012525-1777404600-1777410000@wakefieldtemple.org
SUMMARY:School Committee Meeting
DESCRIPTION:
URL:https://wakefieldtemple.org/event/school-committee-meeting-9-2/
END:VEVENT
BEGIN:VEVENT
DTSTART;TZID=America/New_York:20260429T193000
DTEND;TZID=America/New_York:20260429T203000
DTSTAMP:20260423T162150
CREATED:20260204T155703Z
LAST-MODIFIED:20260204T155705Z
UID:10012968-1777491000-1777494600@wakefieldtemple.org
SUMMARY:Continuing Education: Kosher Basics in the Hebrew Bible
DESCRIPTION:Join the Class\nhttps://us02web.zoom.us/j/8308912968?pwd=NspIL2UhrALNiikL4yIkhurXsxEP5q.1&omn=86374338824 \nMeeting ID: 830 891 2968 Passcode: 9x3fVf
URL:https://wakefieldtemple.org/event/continuing-education-kosher-basics-in-the-hebrew-bible/
END:VEVENT
BEGIN:VEVENT
DTSTART;TZID=America/New_York:20260501T180000
DTEND;TZID=America/New_York:20260501T200000
DTSTAMP:20260423T162150
CREATED:20250715T232743Z
LAST-MODIFIED:20260325T132111Z
UID:10012706-1777658400-1777665600@wakefieldtemple.org
SUMMARY:Shabbat\, Prayers and Pizza - Join the CHAI School Celebration
DESCRIPTION:Please join us for some Shabbat songs followed by a community dinner. We’ll provide the pizza and salad\, you bring a dessert to share! Everyone is welcome.\n\nRSVP here: \nhttps://evite.me/axtr8sRuu6
URL:https://wakefieldtemple.org/event/erev-shabbat-celebration-20/
END:VEVENT
BEGIN:VEVENT
DTSTART;TZID=America/New_York:20260502T093000
DTEND;TZID=America/New_York:20260502T103000
DTSTAMP:20260423T162150
CREATED:20250507T212944Z
LAST-MODIFIED:20250507T212944Z
UID:10012645-1777714200-1777717800@wakefieldtemple.org
SUMMARY:Tot Shabbat
DESCRIPTION:
URL:https://wakefieldtemple.org/event/tot-shabbat-8/2026-05-02/
END:VEVENT
BEGIN:VEVENT
DTSTART;TZID=America/New_York:20260503T193000
DTEND;TZID=America/New_York:20260503T203000
DTSTAMP:20260423T162150
CREATED:20250715T220204Z
LAST-MODIFIED:20260416T141721Z
UID:10012702-1777836600-1777840200@wakefieldtemple.org
SUMMARY:Sisterhood Annual Meeting
DESCRIPTION:
URL:https://wakefieldtemple.org/event/sisterhood-annual-meeting-4/
END:VEVENT
BEGIN:VEVENT
DTSTART;TZID=America/New_York:20260504T193000
DTEND;TZID=America/New_York:20260504T210000
DTSTAMP:20260423T162150
CREATED:20251204T214529Z
LAST-MODIFIED:20251204T214529Z
UID:10012827-1777923000-1777928400@wakefieldtemple.org
SUMMARY:Membership Committee Meeting
DESCRIPTION:
URL:https://wakefieldtemple.org/event/membership-committee-meeting-19/2026-05-04/
END:VEVENT
BEGIN:VEVENT
DTSTART;VALUE=DATE:20260505
DTEND;VALUE=DATE:20260506
DTSTAMP:20260423T162150
CREATED:20250321T203735Z
LAST-MODIFIED:20250508T194128Z
UID:10012459-1777939200-1778025599@wakefieldtemple.org
SUMMARY:Lag B'Omer - No Service
DESCRIPTION:
URL:https://wakefieldtemple.org/event/lag-bomer-2/
END:VEVENT
BEGIN:VEVENT
DTSTART;TZID=America/New_York:20260505T153000
DTEND;TZID=America/New_York:20260505T180000
DTSTAMP:20260423T162150
CREATED:20251108T192618Z
LAST-MODIFIED:20251108T192619Z
UID:10012816-1777995000-1778004000@wakefieldtemple.org
SUMMARY:CHAI School Classes
DESCRIPTION:
URL:https://wakefieldtemple.org/event/chai-school-classes/2026-05-05/
END:VEVENT
BEGIN:VEVENT
DTSTART;TZID=America/New_York:20260505T184500
DTEND;TZID=America/New_York:20260505T193000
DTSTAMP:20260423T162150
CREATED:20250322T134417Z
LAST-MODIFIED:20250322T134418Z
UID:10012505-1778006700-1778009400@wakefieldtemple.org
SUMMARY:House & Grounds Committee Meeting
DESCRIPTION:
URL:https://wakefieldtemple.org/event/house-grounds-committee-meeting-16/2026-05-05/
END:VEVENT
BEGIN:VEVENT
DTSTART;TZID=America/New_York:20260505T193000
DTEND;TZID=America/New_York:20260505T210000
DTSTAMP:20260423T162150
CREATED:20250322T134903Z
LAST-MODIFIED:20250322T135225Z
UID:10012516-1778009400-1778014800@wakefieldtemple.org
SUMMARY:Ritual Committee Meeting
DESCRIPTION:
URL:https://wakefieldtemple.org/event/ritual-committee-meeting-23/2026-05-05/
END:VEVENT
BEGIN:VEVENT
DTSTART;TZID=America/New_York:20260508T193000
DTEND;TZID=America/New_York:20260508T210000
DTSTAMP:20260423T162150
CREATED:20250715T220356Z
LAST-MODIFIED:20260417T174215Z
UID:10012703-1778268600-1778274000@wakefieldtemple.org
SUMMARY:Erev Shabbat Celebration
DESCRIPTION:
URL:https://wakefieldtemple.org/event/erev-shabbat-celebration-with-sisterhood-participation/
END:VEVENT
BEGIN:VEVENT
DTSTART;TZID=America/New_York:20260509T100000
DTEND;TZID=America/New_York:20260509T113000
DTSTAMP:20260423T162150
CREATED:20251105T134807Z
LAST-MODIFIED:20260121T171456Z
UID:10012750-1778320800-1778326200@wakefieldtemple.org
SUMMARY:Shabbat Morning Celebration - Torah Study Session
DESCRIPTION:
URL:https://wakefieldtemple.org/event/shabbat-morning-celebration-10-3/2026-05-09/
END:VEVENT
BEGIN:VEVENT
DTSTART;TZID=America/New_York:20260510T190000
DTEND;TZID=America/New_York:20260510T203000
DTSTAMP:20260423T162150
CREATED:20260113T155907Z
LAST-MODIFIED:20260117T142949Z
UID:10012830-1778439600-1778445000@wakefieldtemple.org
SUMMARY:Temple Reads:  Heart of A Stranger - An Unlikely Rabbi's Story of Faith\, Identity\, and Belonging
DESCRIPTION:Heart of A Stranger – An Unlikely Rabbi’s Story of Faith\, Identity\, and Belonging\nby Rabbi Angela Buchdahl\nMay 10 at 7:00 PM\nFrom the first Asian American to be ordained as a rabbi\, a stirring account of one woman’s journey from feeling like an outsider to becoming one of the most admired religious leaders in the world\nAngela Buchdahl was born in Seoul\, the daughter of a Korean Buddhist mother and Jewish American father. Profoundly spiritual from a young age\, by sixteen she felt the first stirrings to become a rabbi. Despite the naysayers and periods of self-doubt—Would a mixed-race woman ever be seen as authentically Jewish or chosen to lead a congregation?—she stayed the course\, which took her first to Yale\, then to rabbinical school\, and finally to the pulpit of one of the largest\, most influential congregations in the world.\nToday\, Angela Buchdahl inspires Jews and non-Jews alike with her invigorating\, joyful approach to worship and her belief in the power of faith\, gratitude\, and responsibility for one another\, regardless of religion. She does not shy away from difficult topics\, from racism within the Jewish community and the sexism she confronted when she aspired to the top job to rising antisemitism today. Buchdahl teaches how these challenges\, which can make one feel like a stranger\, can ultimately be the source of our greatest empathy and strength.\nAngela Buchdahl has gone from outsider to officiant\, from feeling estranged to feeling embraced—and she’s emerged with a deep conviction that we are all bound to a larger whole and mission. She has written a book that is both memoir and spiritual guide for everyday living\, which is exactly what so many of us crave right now. (Amazon)
URL:https://wakefieldtemple.org/event/temple-reads-heart-of-a-stranger-an-unlikely-rabbis-story-of-faith-identity-and-belonging/
END:VEVENT
BEGIN:VEVENT
DTSTART;TZID=America/New_York:20260512T100000
DTEND;TZID=America/New_York:20260512T120000
DTSTAMP:20260423T162150
CREATED:20251107T130536Z
LAST-MODIFIED:20251107T130536Z
UID:10012775-1778580000-1778587200@wakefieldtemple.org
SUMMARY:Visiting Moms Group
DESCRIPTION:
URL:https://wakefieldtemple.org/event/visiting-moms-group/2026-05-12/
END:VEVENT
BEGIN:VEVENT
DTSTART;TZID=America/New_York:20260512T153000
DTEND;TZID=America/New_York:20260512T180000
DTSTAMP:20260423T162150
CREATED:20251108T192618Z
LAST-MODIFIED:20251108T192619Z
UID:10012817-1778599800-1778608800@wakefieldtemple.org
SUMMARY:CHAI School Classes
DESCRIPTION:
URL:https://wakefieldtemple.org/event/chai-school-classes/2026-05-12/
END:VEVENT
BEGIN:VEVENT
DTSTART;TZID=America/New_York:20260512T190000
DTEND;TZID=America/New_York:20260512T193000
DTSTAMP:20260423T162150
CREATED:20260405T213219Z
LAST-MODIFIED:20260405T213219Z
UID:10012472-1778612400-1778614200@wakefieldtemple.org
SUMMARY:Temple Board Meeting
DESCRIPTION:
URL:https://wakefieldtemple.org/event/temple-board-meeting-17-3/
END:VEVENT
BEGIN:VEVENT
DTSTART;TZID=America/New_York:20260512T193000
DTEND;TZID=America/New_York:20260512T210000
DTSTAMP:20260423T162150
CREATED:20260405T213257Z
LAST-MODIFIED:20260405T213258Z
UID:10012973-1778614200-1778619600@wakefieldtemple.org
SUMMARY:Annual Meeting
DESCRIPTION:
URL:https://wakefieldtemple.org/event/annual-meeting-3/
END:VEVENT
BEGIN:VEVENT
DTSTART;TZID=America/New_York:20260513T153000
DTEND;TZID=America/New_York:20260513T183000
DTSTAMP:20260423T162150
CREATED:20251203T200431Z
LAST-MODIFIED:20251203T200432Z
UID:10012559-1778686200-1778697000@wakefieldtemple.org
SUMMARY:Volunteer at Wakefield Community Dinners
DESCRIPTION:Mitzvah opportunity! Temple Emmanuel is now partnered with Wakefield Community Dinners. Held at Most Blessed Sacrament in Wakefield\, the Community Dinners happen the 2nd Wednesday of every month\, with the opportunity to feed 80+ neighbors and friends from Wakefield\, Stoneham\, Melrose and towns as far as Medford\, Salem and Norwood. \nVolunteer hours are 3:30-6:30pm. Guests come as families or alone. Although many are experiencing food insecurity\, most are impacted with social isolation. We provide a hot meal\, salad\, bread\, desserts\, and most importantly\, camaraderie. \nIf you’d like to have fun\, share smiles\, and engage in holy work\, please sign up here. \nContact Bev Weiner if you have any questions: theweino@aol.com
URL:https://wakefieldtemple.org/event/volunteer-at-wakefield-community-dinners-2-2/2026-05-13/
END:VEVENT
BEGIN:VEVENT
DTSTART;VALUE=DATE:20260515
DTEND;VALUE=DATE:20260516
DTSTAMP:20260423T162150
CREATED:20250508T194223Z
LAST-MODIFIED:20250508T194224Z
UID:10012669-1778803200-1778889599@wakefieldtemple.org
SUMMARY:Yom Yerushalayim (Jerusalem Day) No Service
DESCRIPTION:
URL:https://wakefieldtemple.org/event/yom-yerushalayim-jerusalem-day-no-service-5/
END:VEVENT
BEGIN:VEVENT
DTSTART;TZID=America/New_York:20260515T193000
DTEND;TZID=America/New_York:20260515T203000
DTSTAMP:20260423T162150
CREATED:20251020T132651Z
LAST-MODIFIED:20251020T132651Z
UID:10012615-1778873400-1778877000@wakefieldtemple.org
SUMMARY:Erev Shabbat Celebration
DESCRIPTION:
URL:https://wakefieldtemple.org/event/jewish-meditation-circle-16-2/2026-05-15/
END:VEVENT
BEGIN:VEVENT
DTSTART;TZID=America/New_York:20260516T100000
DTEND;TZID=America/New_York:20260516T113000
DTSTAMP:20260423T162150
CREATED:20251119T004810Z
LAST-MODIFIED:20251119T004810Z
UID:10012821-1778925600-1778931000@wakefieldtemple.org
SUMMARY:End-of-Year CHAI School Celebration/Graduation Ceremony
DESCRIPTION:
URL:https://wakefieldtemple.org/event/end-of-year-chai-school-celebration-graduation-ceremony/
END:VEVENT
BEGIN:VEVENT
DTSTART;TZID=America/New_York:20260517T140000
DTEND;TZID=America/New_York:20260517T160000
DTSTAMP:20260423T162150
CREATED:20250625T143741Z
LAST-MODIFIED:20260418T205420Z
UID:10012687-1779026400-1779033600@wakefieldtemple.org
SUMMARY:Linden Tree Presents Rob Flax Boom Chick Trio
DESCRIPTION:Linden Tree Concerts Presents\nRob Flax Boom Chick Trio on Sunday\, May 17 at 2 PM\nThe Linden Tree Concert series has a fabulous show for audiences of all ages on Sunday\, May 17th from 2 to 4 PM. Rooted in equal parts hot swing\, snarky songwriting\, and lyrical storytelling\, this energetic trio of virtuoso violin\, guitar\, and bass plus three part harmony vocals will transport you to a speakeasy somewhere in the back of a bar. You might not be able to sit still in your seat\, and you’ll probably have a smile on your face most of the show!  “Hotshot swing\, crackerjack instrumentals\, superb harmonies & hysterical stagecraft” —The Folk Project \nRob Flax possesses a rare combination of skills: he is an award-winning violinist\, classically trained but known for his jazz and improvisational pyrotechnics and irresistible grooves\, plus a deep knowledge of American fiddle traditions. He’s also a powerhouse vocalist\, capable of silky crooning a la Nat King Cole or visceral Chicago blues shouts\, and a consummate songwriter with lyrical depth to complement the instrumental virtuosity. \nRob Flax’s Boom Chick Trio adds guitar\, upright bass\, and three part vocals to the mix\, elevating Rob’s eclectic originals with intricate instrumental interplay\, tight vocal harmonies\, and irreverent humor.  Joining Rob is Slava Tolstoy\, a Boston based guitarist\, singer and producer\, originally from St. Petersburg Russia. Slava’s original songs are best described as energetic pop-rock with tight arrangements\, virtuoso soloing and deep and meaningful lyrics in the best traditions of Russian rock. Chris Sartori is a bassist\, percussionist\, and multi-instrumentalist currently based out of Boston. \nThroughout 10+ years touring nationally with Americana genre-defiers\, Twisted Pine\, Chris has studiously carved out a niche as the funkiest bassist in bluegrass. A graduate of the Jazz program at Umass Amherst\, Chris is a lifelong student of music\, dedicated to groove\, improvisation\, and bringing the music to life each night. Each has been in more award winning traveling groups that we could list here. \nTickets for this show will be $25 and $10 for those under 18. WUMB members receive a $2 discount with their membership card. We accept cash or personal check at the door.  Because this is a popular show\, reservations are recommended by calling or texting 781-521-3564. \nThe Linden Tree Coffeehouse in its 41st season of acoustic music has relocated to Temple Emmanuel\, 120 Chestnut St. Wakefield\, MA 01880 which is handicapped accessible.  We thank the Massachusetts Cultural Council and Wakefield Arts Council for supporting our concert series that has allowed us to bring quality programming to our community. Linden Tree also supports Fair Trade Music Local 1000. For more information\, see www.LindenTreeCoffeehouse.org and our page on Facebook. \n“Way more fun than squirrels in a bag of nuts… Smokin’ great” —Patrice O’Neill\, Wintergrass \n           Admission: $25 adults (Under 18\, $10)\nCash or check at the door\nSUNDAY shows 2:00 PM to 4:00 PM \nTemple Emmanuel\n (Handicapped Accessible)\n120 Chestnut St.\n Wakefield MA 01880 \nInfo & Reservations 781-521-3564\nwww.LindenTreeCoffeehouse.org
URL:https://wakefieldtemple.org/event/linden-tree-concert-3/
END:VEVENT
END:VCALENDAR