BEGIN:VCALENDAR
VERSION:2.0
PRODID:-//Temple Emmanuel of Wakefield - ECPv6.15.20//NONSGML v1.0//EN
CALSCALE:GREGORIAN
METHOD:PUBLISH
X-ORIGINAL-URL:https://wakefieldtemple.org
X-WR-CALDESC:Events for Temple Emmanuel of Wakefield
REFRESH-INTERVAL;VALUE=DURATION:PT1H
X-Robots-Tag:noindex
X-PUBLISHED-TTL:PT1H
BEGIN:VTIMEZONE
TZID:America/New_York
BEGIN:DAYLIGHT
TZOFFSETFROM:-0500
TZOFFSETTO:-0400
TZNAME:EDT
DTSTART:20250309T070000
END:DAYLIGHT
BEGIN:STANDARD
TZOFFSETFROM:-0400
TZOFFSETTO:-0500
TZNAME:EST
DTSTART:20251102T060000
END:STANDARD
BEGIN:DAYLIGHT
TZOFFSETFROM:-0500
TZOFFSETTO:-0400
TZNAME:EDT
DTSTART:20260308T070000
END:DAYLIGHT
BEGIN:STANDARD
TZOFFSETFROM:-0400
TZOFFSETTO:-0500
TZNAME:EST
DTSTART:20261101T060000
END:STANDARD
BEGIN:DAYLIGHT
TZOFFSETFROM:-0500
TZOFFSETTO:-0400
TZNAME:EDT
DTSTART:20270314T070000
END:DAYLIGHT
BEGIN:STANDARD
TZOFFSETFROM:-0400
TZOFFSETTO:-0500
TZNAME:EST
DTSTART:20271107T060000
END:STANDARD
END:VTIMEZONE
BEGIN:VEVENT
DTSTART;TZID=America/New_York:20260306T193000
DTEND;TZID=America/New_York:20260306T210000
DTSTAMP:20260423T162241
CREATED:20250507T184653Z
LAST-MODIFIED:20250730T135047Z
UID:10012595-1772825400-1772830800@wakefieldtemple.org
SUMMARY:Erev Shabbat Celebration
DESCRIPTION:
URL:https://wakefieldtemple.org/event/erev-shabbat-celebration-16/2026-03-06/
END:VEVENT
BEGIN:VEVENT
DTSTART;TZID=America/New_York:20260307T093000
DTEND;TZID=America/New_York:20260307T103000
DTSTAMP:20260423T162241
CREATED:20250507T212944Z
LAST-MODIFIED:20250507T212944Z
UID:10012643-1772875800-1772879400@wakefieldtemple.org
SUMMARY:Tot Shabbat
DESCRIPTION:
URL:https://wakefieldtemple.org/event/tot-shabbat-8/2026-03-07/
END:VEVENT
BEGIN:VEVENT
DTSTART;TZID=America/New_York:20260308T110000
DTEND;TZID=America/New_York:20260308T120000
DTSTAMP:20260423T162241
CREATED:20260207T155158Z
LAST-MODIFIED:20260207T155200Z
UID:10012716-1772967600-1772971200@wakefieldtemple.org
SUMMARY:Sisterhood Sunday Walkers CANCELLED
DESCRIPTION:
URL:https://wakefieldtemple.org/event/sisterhood-sunday-walkers-11-11-8/
CATEGORIES:Sisterhood
END:VEVENT
BEGIN:VEVENT
DTSTART;TZID=America/New_York:20260308T190000
DTEND;TZID=America/New_York:20260308T203000
DTSTAMP:20260423T162241
CREATED:20260117T142835Z
LAST-MODIFIED:20260208T192933Z
UID:10012832-1772996400-1773001800@wakefieldtemple.org
SUMMARY:Temple Reads: Absolution by Alice McDermott
DESCRIPTION:Absolution\n by Alice McDermott March 8 at 7:00 PM \nJoin Temple Reads\nhttps://us02web.zoom.us/j/84108081861?pwd=OCGmZK9Cx3gONLMm2Q2zDUY6cwDNvW.1 \nMeeting ID: 841 0808 1861\nPasscode: 468447 \nNamed a Best Book of the Year by Time\, Esquire\, Good Housekeeping\, Kirkus Reviews\, Los Angeles Times\, NPR\, Oprah Daily\, Real Simple\, and Vogue \nA riveting account of women’s lives on the margins of the Vietnam War\, from the renowned winner of the National Book Award. \nAmerican women―American wives―have been mostly minor characters in the literature of the Vietnam War\, but in Absolution they take center stage. Tricia is a shy newlywed\, married to a rising attorney on loan to navy intelligence. Charlene is a practiced corporate spouse and mother of three\, a beauty and a bully. In Saigon in 1963\, the two women form a wary alliance as they balance the era’s mandate to be “helpmeets” to their ambitious husbands with their own inchoate impulse to “do good” for the people of Vietnam. \nSixty years later\, Charlene’s daughter\, spurred by an encounter with an aging Vietnam vet\, reaches out to Tricia. Together\, they look back at their time in Saigon\, taking wry account of that pivotal year and of Charlene’s altruistic machinations\, and discovering how their own lives as women on the periphery―of politics\, of history\, of war\, of their husbands’ convictions―have been shaped and burdened by the same sort of unintended consequences that followed America’s tragic interference in Southeast Asia. \nA virtuosic new novel from Alice McDermott\, one of our most observant\, most affecting writers\, about folly and grace\, obligation\, sacrifice\, and\, finally\, the quest for absolution in a broken world.
URL:https://wakefieldtemple.org/event/temple-reads-absolution-by-alice-mcdermott/
END:VEVENT
BEGIN:VEVENT
DTSTART;TZID=America/New_York:20260309T193000
DTEND;TZID=America/New_York:20260309T210000
DTSTAMP:20260423T162241
CREATED:20250507T224548Z
LAST-MODIFIED:20250507T224548Z
UID:10012493-1773084600-1773090000@wakefieldtemple.org
SUMMARY:Membership Committee Meeting
DESCRIPTION:
URL:https://wakefieldtemple.org/event/membership-committee-meeting-18-2/
END:VEVENT
BEGIN:VEVENT
DTSTART;TZID=America/New_York:20260310T100000
DTEND;TZID=America/New_York:20260310T120000
DTSTAMP:20260423T162241
CREATED:20251107T130536Z
LAST-MODIFIED:20251107T130536Z
UID:10012771-1773136800-1773144000@wakefieldtemple.org
SUMMARY:Visiting Moms Group
DESCRIPTION:
URL:https://wakefieldtemple.org/event/visiting-moms-group/2026-03-10/
END:VEVENT
BEGIN:VEVENT
DTSTART;TZID=America/New_York:20260310T153000
DTEND;TZID=America/New_York:20260310T180000
DTSTAMP:20260423T162241
CREATED:20251108T192618Z
LAST-MODIFIED:20251108T192619Z
UID:10012809-1773156600-1773165600@wakefieldtemple.org
SUMMARY:CHAI School Classes
DESCRIPTION:
URL:https://wakefieldtemple.org/event/chai-school-classes/2026-03-10/
END:VEVENT
BEGIN:VEVENT
DTSTART;TZID=America/New_York:20260310T193000
DTEND;TZID=America/New_York:20260310T210000
DTSTAMP:20260423T162241
CREATED:20250321T205615Z
LAST-MODIFIED:20250321T205616Z
UID:10012470-1773171000-1773176400@wakefieldtemple.org
SUMMARY:Temple Board Meeting
DESCRIPTION:
URL:https://wakefieldtemple.org/event/temple-board-meeting-17/2026-03-10/
END:VEVENT
BEGIN:VEVENT
DTSTART;TZID=America/New_York:20260311T153000
DTEND;TZID=America/New_York:20260311T183000
DTSTAMP:20260423T162241
CREATED:20251203T200431Z
LAST-MODIFIED:20251203T200432Z
UID:10012557-1773243000-1773253800@wakefieldtemple.org
SUMMARY:Volunteer at Wakefield Community Dinners
DESCRIPTION:Mitzvah opportunity! Temple Emmanuel is now partnered with Wakefield Community Dinners. Held at Most Blessed Sacrament in Wakefield\, the Community Dinners happen the 2nd Wednesday of every month\, with the opportunity to feed 80+ neighbors and friends from Wakefield\, Stoneham\, Melrose and towns as far as Medford\, Salem and Norwood. \nVolunteer hours are 3:30-6:30pm. Guests come as families or alone. Although many are experiencing food insecurity\, most are impacted with social isolation. We provide a hot meal\, salad\, bread\, desserts\, and most importantly\, camaraderie. \nIf you’d like to have fun\, share smiles\, and engage in holy work\, please sign up here. \nContact Bev Weiner if you have any questions: theweino@aol.com
URL:https://wakefieldtemple.org/event/volunteer-at-wakefield-community-dinners-2-2/2026-03-11/
END:VEVENT
BEGIN:VEVENT
DTSTART;TZID=America/New_York:20260313T193000
DTEND;TZID=America/New_York:20260313T210000
DTSTAMP:20260423T162241
CREATED:20250715T215938Z
LAST-MODIFIED:20260220T011614Z
UID:10012700-1773430200-1773435600@wakefieldtemple.org
SUMMARY:Erev Shabbat Celebration
DESCRIPTION:
URL:https://wakefieldtemple.org/event/shabbat-across-america-followed-by-erev-shabbat-celebration/
END:VEVENT
BEGIN:VEVENT
DTSTART;TZID=America/New_York:20260314T100000
DTEND;TZID=America/New_York:20260314T113000
DTSTAMP:20260423T162241
CREATED:20251105T134807Z
LAST-MODIFIED:20260121T171456Z
UID:10012748-1773482400-1773487800@wakefieldtemple.org
SUMMARY:Shabbat Morning Celebration - Torah Study Session
DESCRIPTION:
URL:https://wakefieldtemple.org/event/shabbat-morning-celebration-10-3/2026-03-14/
END:VEVENT
BEGIN:VEVENT
DTSTART;TZID=America/New_York:20260316T193000
DTEND;TZID=America/New_York:20260316T210000
DTSTAMP:20260423T162241
CREATED:20250322T154146Z
LAST-MODIFIED:20250322T154146Z
UID:10012545-1773689400-1773694800@wakefieldtemple.org
SUMMARY:Ways & Means Committee Meeting
DESCRIPTION:
URL:https://wakefieldtemple.org/event/ways-means-committee-meeting-6/2026-03-16/
END:VEVENT
BEGIN:VEVENT
DTSTART;TZID=America/New_York:20260317T123000
DTEND;TZID=America/New_York:20260317T133000
DTSTAMP:20260423T162241
CREATED:20260204T155909Z
LAST-MODIFIED:20260204T155911Z
UID:10012969-1773750600-1773754200@wakefieldtemple.org
SUMMARY:Lunch & Learn: Midrash on Passover and the Exodus
DESCRIPTION:Join the Class\n https://us02web.zoom.us/j/8308912968?pwd=NspIL2UhrALNiikL4yIkhurXsxEP5q.1&omn=86198838419 \nMeeting ID: 830 891 2968 Passcode: 9x3fVf
URL:https://wakefieldtemple.org/event/lunch-learn-midrash-on-passover-and-the-exodus/
END:VEVENT
BEGIN:VEVENT
DTSTART;TZID=America/New_York:20260317T153000
DTEND;TZID=America/New_York:20260317T180000
DTSTAMP:20260423T162241
CREATED:20251108T192618Z
LAST-MODIFIED:20251108T192619Z
UID:10012810-1773761400-1773770400@wakefieldtemple.org
SUMMARY:CHAI School Classes
DESCRIPTION:
URL:https://wakefieldtemple.org/event/chai-school-classes/2026-03-17/
END:VEVENT
BEGIN:VEVENT
DTSTART;TZID=America/New_York:20260317T193000
DTEND;TZID=America/New_York:20260317T210000
DTSTAMP:20260423T162241
CREATED:20250322T144524Z
LAST-MODIFIED:20250322T144525Z
UID:10012524-1773775800-1773781200@wakefieldtemple.org
SUMMARY:School Committee Meeting
DESCRIPTION:
URL:https://wakefieldtemple.org/event/school-committee-meeting-9/2026-03-17/
END:VEVENT
BEGIN:VEVENT
DTSTART;TZID=America/New_York:20260320T193000
DTEND;TZID=America/New_York:20260320T203000
DTSTAMP:20260423T162241
CREATED:20260220T011754Z
LAST-MODIFIED:20260220T011756Z
UID:10012613-1774035000-1774038600@wakefieldtemple.org
SUMMARY:Erev Shabbat Celebration Followed by a Celebratory Oneg Shabbat
DESCRIPTION:
URL:https://wakefieldtemple.org/event/jewish-meditation-circle-16-2-3/
END:VEVENT
BEGIN:VEVENT
DTSTART;TZID=America/New_York:20260321T100000
DTEND;TZID=America/New_York:20260321T113000
DTSTAMP:20260423T162241
CREATED:20260120T132344Z
LAST-MODIFIED:20260220T011855Z
UID:10012755-1774087200-1774092600@wakefieldtemple.org
SUMMARY:Shabbat Morning Celebration with Torah Reading Followed by a Joyous Kiddush
DESCRIPTION:
URL:https://wakefieldtemple.org/event/shabbat-morning-celebration-with-torah-reading-4/
END:VEVENT
BEGIN:VEVENT
DTSTART;TZID=America/New_York:20260322T110000
DTEND;TZID=America/New_York:20260322T130000
DTSTAMP:20260423T162241
CREATED:20250715T220025Z
LAST-MODIFIED:20260220T012650Z
UID:10012701-1774177200-1774184400@wakefieldtemple.org
SUMMARY:Rabbi Micah's Installation Followed by Brunch in Honor of His Installation
DESCRIPTION:
URL:https://wakefieldtemple.org/event/sisterhood-program-2/
END:VEVENT
BEGIN:VEVENT
DTSTART;TZID=America/New_York:20260324T100000
DTEND;TZID=America/New_York:20260324T120000
DTSTAMP:20260423T162241
CREATED:20251107T130536Z
LAST-MODIFIED:20251107T130536Z
UID:10012772-1774346400-1774353600@wakefieldtemple.org
SUMMARY:Visiting Moms Group
DESCRIPTION:
URL:https://wakefieldtemple.org/event/visiting-moms-group/2026-03-24/
END:VEVENT
BEGIN:VEVENT
DTSTART;TZID=America/New_York:20260324T153000
DTEND;TZID=America/New_York:20260324T180000
DTSTAMP:20260423T162241
CREATED:20251108T192618Z
LAST-MODIFIED:20251108T192619Z
UID:10012811-1774366200-1774375200@wakefieldtemple.org
SUMMARY:CHAI School Classes
DESCRIPTION:
URL:https://wakefieldtemple.org/event/chai-school-classes/2026-03-24/
END:VEVENT
BEGIN:VEVENT
DTSTART;TZID=America/New_York:20260324T193000
DTEND;TZID=America/New_York:20260324T210000
DTSTAMP:20260423T162241
CREATED:20250322T153511Z
LAST-MODIFIED:20251107T131532Z
UID:10012534-1774380600-1774386000@wakefieldtemple.org
SUMMARY:Continuing Education Committee
DESCRIPTION:
URL:https://wakefieldtemple.org/event/continuing-education-committee-5-3/
END:VEVENT
BEGIN:VEVENT
DTSTART;TZID=America/New_York:20260325T193000
DTEND;TZID=America/New_York:20260325T203000
DTSTAMP:20260423T162241
CREATED:20260204T151050Z
LAST-MODIFIED:20260204T151052Z
UID:10012967-1774467000-1774470600@wakefieldtemple.org
SUMMARY:Continuing Education: Jewish Views of the Afterlife\, Part 3 - Rituals & Practices
DESCRIPTION:Join the Class\nhttps://us02web.zoom.us/j/8308912968?pwd=NspIL2UhrALNiikL4yIkhurXsxEP5q.1&omn=82589531192 \nMeeting ID: 830 891 2968 Passcode: 9x3fVf
URL:https://wakefieldtemple.org/event/continuing-education-jewish-views-of-the-afterlife-part-3-rituals-practices/
END:VEVENT
BEGIN:VEVENT
DTSTART;TZID=America/New_York:20260327T193000
DTEND;TZID=America/New_York:20260327T210000
DTSTAMP:20260423T162241
CREATED:20250507T184653Z
LAST-MODIFIED:20250730T135047Z
UID:10012597-1774639800-1774645200@wakefieldtemple.org
SUMMARY:Erev Shabbat Celebration
DESCRIPTION:
URL:https://wakefieldtemple.org/event/erev-shabbat-celebration-16/2026-03-27/
END:VEVENT
BEGIN:VEVENT
DTSTART;TZID=America/New_York:20260328T100000
DTEND;TZID=America/New_York:20260328T110000
DTSTAMP:20260423T162241
CREATED:20251212T185154Z
LAST-MODIFIED:20260227T111224Z
UID:10012753-1774692000-1774695600@wakefieldtemple.org
SUMMARY:Shabbat at Breakheart
DESCRIPTION:Jewish Wilderness Spirituality\nMeet with Rabbi Micah Saturday Morning at the Northeast Regional Vocational School\, 100 Hemlock Road\, Wakefield at 10:00 AM at the larger parking lot to the right of the Vocational School Building\nPlease click on the link below for directions\nhttps://goo.gl/maps/bntTRr8bd5x
URL:https://wakefieldtemple.org/event/meditation-2/
END:VEVENT
BEGIN:VEVENT
DTSTART;TZID=America/New_York:20260329T093000
DTEND;TZID=America/New_York:20260329T113000
DTSTAMP:20260423T162241
CREATED:20250507T215926Z
LAST-MODIFIED:20250507T224628Z
UID:10012662-1774776600-1774783800@wakefieldtemple.org
SUMMARY:Kasher the Kitchen for Pesach
DESCRIPTION:
URL:https://wakefieldtemple.org/event/kasher-the-kitchen-for-pesach-2/
END:VEVENT
BEGIN:VEVENT
DTSTART;TZID=America/New_York:20260331T153000
DTEND;TZID=America/New_York:20260331T180000
DTSTAMP:20260423T162241
CREATED:20251108T192618Z
LAST-MODIFIED:20251108T192619Z
UID:10012812-1774971000-1774980000@wakefieldtemple.org
SUMMARY:CHAI School Classes
DESCRIPTION:
URL:https://wakefieldtemple.org/event/chai-school-classes/2026-03-31/
END:VEVENT
BEGIN:VEVENT
DTSTART;TZID=America/New_York:20260401T080000
DTEND;TZID=America/New_York:20260401T090000
DTSTAMP:20260423T162241
CREATED:20250321T203830Z
LAST-MODIFIED:20250321T204348Z
UID:10012460-1775030400-1775034000@wakefieldtemple.org
SUMMARY:Fast of the First Born Siyyum
DESCRIPTION:
URL:https://wakefieldtemple.org/event/fast-of-the-first-born-siyyum-5/
END:VEVENT
BEGIN:VEVENT
DTSTART;TZID=America/New_York:20260402T100000
DTEND;TZID=America/New_York:20260402T113000
DTSTAMP:20260423T162241
CREATED:20250321T192956Z
LAST-MODIFIED:20260301T225719Z
UID:10012457-1775124000-1775129400@wakefieldtemple.org
SUMMARY:Pesach First Day Service
DESCRIPTION:
URL:https://wakefieldtemple.org/event/pesach-first-day-service/
END:VEVENT
BEGIN:VEVENT
DTSTART;TZID=America/New_York:20260402T180000
DTEND;TZID=America/New_York:20260402T203000
DTSTAMP:20260423T162241
CREATED:20250321T205033Z
LAST-MODIFIED:20260307T141116Z
UID:10012463-1775152800-1775161800@wakefieldtemple.org
SUMMARY:Pesach Community Seder
DESCRIPTION:Temple Emmanuel will be holding a Community Seder on the second evening of Passover\,\nThursday\, April 2 at 6:00 PM\n \nRabbi Micah Becker-Klein will conduct our Seder Service\n\nWe will be serving a catered\, Kosher for Passover\, four course dinner \n\nAdults (16 years and older)                             $55.00 \n                                       \nChildren (7-15 years old)                                 $30.00 \n                                          \nChildren (6 years old and under)                    $10.00   \n                                \nReservations and payment may be made through the online form or by contacting Susan Silbovitz at svitz9@gmail.com or use this:\n  \n \nIf sending a check to the Temple\, please mark\nPESACH RESERVATIONS\non the outside of the envelope. \nPlease make your reservation by \nWednesday\, March 25
URL:https://wakefieldtemple.org/event/pesach-community-seder/
END:VEVENT
BEGIN:VEVENT
DTSTART;TZID=America/New_York:20260403T193000
DTEND;TZID=America/New_York:20260403T210000
DTSTAMP:20260423T162241
CREATED:20250507T184653Z
LAST-MODIFIED:20250730T135047Z
UID:10012598-1775244600-1775250000@wakefieldtemple.org
SUMMARY:Erev Shabbat Celebration
DESCRIPTION:
URL:https://wakefieldtemple.org/event/erev-shabbat-celebration-16/2026-04-03/
END:VEVENT
END:VCALENDAR