BEGIN:VCALENDAR
VERSION:2.0
PRODID:-//Temple Emmanuel of Wakefield - ECPv6.15.20//NONSGML v1.0//EN
CALSCALE:GREGORIAN
METHOD:PUBLISH
X-WR-CALNAME:Temple Emmanuel of Wakefield
X-ORIGINAL-URL:https://wakefieldtemple.org
X-WR-CALDESC:Events for Temple Emmanuel of Wakefield
REFRESH-INTERVAL;VALUE=DURATION:PT1H
X-Robots-Tag:noindex
X-PUBLISHED-TTL:PT1H
BEGIN:VTIMEZONE
TZID:America/New_York
BEGIN:DAYLIGHT
TZOFFSETFROM:-0500
TZOFFSETTO:-0400
TZNAME:EDT
DTSTART:20250309T070000
END:DAYLIGHT
BEGIN:STANDARD
TZOFFSETFROM:-0400
TZOFFSETTO:-0500
TZNAME:EST
DTSTART:20251102T060000
END:STANDARD
BEGIN:DAYLIGHT
TZOFFSETFROM:-0500
TZOFFSETTO:-0400
TZNAME:EDT
DTSTART:20260308T070000
END:DAYLIGHT
BEGIN:STANDARD
TZOFFSETFROM:-0400
TZOFFSETTO:-0500
TZNAME:EST
DTSTART:20261101T060000
END:STANDARD
BEGIN:DAYLIGHT
TZOFFSETFROM:-0500
TZOFFSETTO:-0400
TZNAME:EDT
DTSTART:20270314T070000
END:DAYLIGHT
BEGIN:STANDARD
TZOFFSETFROM:-0400
TZOFFSETTO:-0500
TZNAME:EST
DTSTART:20271107T060000
END:STANDARD
END:VTIMEZONE
BEGIN:VEVENT
DTSTART;TZID=America/New_York:20260110T093000
DTEND;TZID=America/New_York:20260110T110000
DTSTAMP:20260423T191230
CREATED:20251105T134807Z
LAST-MODIFIED:20260121T171456Z
UID:10012834-1768037400-1768042800@wakefieldtemple.org
SUMMARY:Shabbat Morning Celebration - Torah Study Session
DESCRIPTION:
URL:https://wakefieldtemple.org/event/shabbat-morning-celebration-10-3/2026-01-10/
END:VEVENT
BEGIN:VEVENT
DTSTART;TZID=America/New_York:20260111T140000
DTEND;TZID=America/New_York:20260111T160000
DTSTAMP:20260423T191230
CREATED:20251012T110611Z
LAST-MODIFIED:20251021T112039Z
UID:10012730-1768140000-1768147200@wakefieldtemple.org
SUMMARY:"The Ice River: a Journey to the West" Puppet Show
DESCRIPTION:“The Ice River: A Journey to the West”\n Story performed by Galapagos Puppets and the Jimmy Zhao Chinese Music Ensemble\n  \nJourneying to India\, Monk Tang and his disciples Monkey\, Pig and Sha-jing have just found a quiet temple to rest in when they learn that a powerful river monster has been demanding all the food in the area\, year after year.  Searching for the surprising secret of the monster’s formidable power takes the disciples over the Ice River\, down to the bottom\, and up to the heavens. \n  \nMadeleine Beresford and Margaret Moody use Bu Dai Xi puppets and choreography to present a story featuring the Monkey King\, the rowdy pig Ju Ba-jie\, and monk Tang Sanzang.  A gluttonous monster who lives in a river hopes to eat the monk Tang so that he can live forever. Jimmy Zhao\, a Malden-based musician\, and his daughter improvise music to accompany the show with Chinese percussion\, erhu\, bamboo flute and guzheng. \n  \nAfter the 45-minute show we will lead a hands-on puppet demonstration.\n\nLength of program: 90 minutes\n      Age range: 5 to 95\n   Link: https://galapagospuppets.com/\n  \nTickets are $15 for those 5 and up\nInvite your friends & family to make reservations by calling or texting Liz at 781-521-3564\nCash or checks will be accepted at the door opening at 1:30 PM\n\nSponsored by Linden Tree Concerts and Temple Emmanuel of Wakefield.\n \n\n  \n 
URL:https://wakefieldtemple.org/event/the-ice-river-a-journey-to-the-west-puppet-show/
END:VEVENT
BEGIN:VEVENT
DTSTART;TZID=America/New_York:20260111T190000
DTEND;TZID=America/New_York:20260111T210000
DTSTAMP:20260423T191230
CREATED:20251022T161529Z
LAST-MODIFIED:20251214T124912Z
UID:10012732-1768158000-1768165200@wakefieldtemple.org
SUMMARY:Temple Reads: The Stolen Life of Collette Marceau
DESCRIPTION:The Stolen Life of Collette Marceau\n by Kristin Harmel \nSunday Evening\, January 11 at 7:00 PM via Zoom\nColette Marceau has been stealing jewels for nearly as long as she can remember\, following the centuries-old code of honor instilled in her by her mother\, Annabel: take only from the cruel and unkind\, and give to those in need. Never was their family tradition more important than seven decades earlier\, during the Second World War\, when Annabel and Colette worked side by side in Paris to fund the French Resistance.\nBut one night in 1942\, it all went wrong. Annabel was arrested by the Germans\, and Colette’s four-year-old sister\, Liliane\, disappeared in the chaos of the raid\, along with an exquisite diamond bracelet sewn into the hem of her nightgown for safekeeping. Soon after\, Annabel was executed\, and Liliane’s body was found floating in the Seine—but the bracelet was nowhere to be found.\nSeventy years later\, Colette—who has “redistributed” $30 million in jewels over the decades to fund many worthy organizations—has done her best to put her tragic past behind her\, but her life begins to unravel when the long-missing bracelet suddenly turns up in a museum exhibit in Boston. If Colette can discover where it has been all this time—and who owns it now—she may finally learn the truth about what happened to her sister. But she isn’t the only one for whom the bracelet holds answers\, and when someone from her childhood lays claim to the diamonds\, she’s forced to confront the ghosts of her past as never before. Against all odds\, there may still be a chance to bring a murderer to justice—but first\, Colette will have to summon the courage to open her own battered heart. (Amazon)\n\nJoin Temple Reads\nhttps://us02web.zoom.us/j/83296835257?pwd=gHGqf8COI5k0ZLh50NTRcy1DhjPCfT.1\nMeeting ID: 832 9683 5257\nPasscode: 075153
URL:https://wakefieldtemple.org/event/temple-reads-the-stolen-life-of-collette-marceau/
END:VEVENT
BEGIN:VEVENT
DTSTART;TZID=America/New_York:20260112T193000
DTEND;TZID=America/New_York:20260112T203000
DTSTAMP:20260423T191230
CREATED:20250715T215339Z
LAST-MODIFIED:20250715T215339Z
UID:10012698-1768246200-1768249800@wakefieldtemple.org
SUMMARY:Sisterhood Board Meeting
DESCRIPTION:
URL:https://wakefieldtemple.org/event/sisterhood-board-meeting-10/
END:VEVENT
BEGIN:VEVENT
DTSTART;TZID=America/New_York:20260113T100000
DTEND;TZID=America/New_York:20260113T120000
DTSTAMP:20260423T191230
CREATED:20251107T130536Z
LAST-MODIFIED:20251107T130536Z
UID:10012767-1768298400-1768305600@wakefieldtemple.org
SUMMARY:Visiting Moms Group
DESCRIPTION:
URL:https://wakefieldtemple.org/event/visiting-moms-group/2026-01-13/
END:VEVENT
BEGIN:VEVENT
DTSTART;TZID=America/New_York:20260113T153000
DTEND;TZID=America/New_York:20260113T180000
DTSTAMP:20260423T191230
CREATED:20251108T192618Z
LAST-MODIFIED:20251108T192619Z
UID:10012802-1768318200-1768327200@wakefieldtemple.org
SUMMARY:CHAI School Classes
DESCRIPTION:
URL:https://wakefieldtemple.org/event/chai-school-classes/2026-01-13/
END:VEVENT
BEGIN:VEVENT
DTSTART;TZID=America/New_York:20260113T184500
DTEND;TZID=America/New_York:20260113T193000
DTSTAMP:20260423T191230
CREATED:20251221T140753Z
LAST-MODIFIED:20251221T140911Z
UID:10012501-1768329900-1768332600@wakefieldtemple.org
SUMMARY:House & Grounds Committee Meeting
DESCRIPTION:
URL:https://wakefieldtemple.org/event/house-grounds-committee-meeting-16-2/
END:VEVENT
BEGIN:VEVENT
DTSTART;TZID=America/New_York:20260113T193000
DTEND;TZID=America/New_York:20260113T210000
DTSTAMP:20260423T191230
CREATED:20250321T205615Z
LAST-MODIFIED:20250321T205616Z
UID:10012468-1768332600-1768338000@wakefieldtemple.org
SUMMARY:Temple Board Meeting
DESCRIPTION:
URL:https://wakefieldtemple.org/event/temple-board-meeting-17/2026-01-13/
END:VEVENT
BEGIN:VEVENT
DTSTART;TZID=America/New_York:20260114T153000
DTEND;TZID=America/New_York:20260114T183000
DTSTAMP:20260423T191230
CREATED:20251203T200431Z
LAST-MODIFIED:20251203T200432Z
UID:10012555-1768404600-1768415400@wakefieldtemple.org
SUMMARY:Volunteer at Wakefield Community Dinners
DESCRIPTION:Mitzvah opportunity! Temple Emmanuel is now partnered with Wakefield Community Dinners. Held at Most Blessed Sacrament in Wakefield\, the Community Dinners happen the 2nd Wednesday of every month\, with the opportunity to feed 80+ neighbors and friends from Wakefield\, Stoneham\, Melrose and towns as far as Medford\, Salem and Norwood. \nVolunteer hours are 3:30-6:30pm. Guests come as families or alone. Although many are experiencing food insecurity\, most are impacted with social isolation. We provide a hot meal\, salad\, bread\, desserts\, and most importantly\, camaraderie. \nIf you’d like to have fun\, share smiles\, and engage in holy work\, please sign up here. \nContact Bev Weiner if you have any questions: theweino@aol.com
URL:https://wakefieldtemple.org/event/volunteer-at-wakefield-community-dinners-2-2/2026-01-14/
END:VEVENT
BEGIN:VEVENT
DTSTART;TZID=America/New_York:20260116T193000
DTEND;TZID=America/New_York:20260116T203000
DTSTAMP:20260423T191230
CREATED:20251020T132651Z
LAST-MODIFIED:20251020T132651Z
UID:10012611-1768591800-1768595400@wakefieldtemple.org
SUMMARY:Erev Shabbat Celebration
DESCRIPTION:
URL:https://wakefieldtemple.org/event/jewish-meditation-circle-16-2/2026-01-16/
END:VEVENT
BEGIN:VEVENT
DTSTART;TZID=America/New_York:20260117T100000
DTEND;TZID=America/New_York:20260117T110000
DTSTAMP:20260423T191230
CREATED:20251105T135954Z
LAST-MODIFIED:20251105T144001Z
UID:10012734-1768644000-1768647600@wakefieldtemple.org
SUMMARY:Meditation
DESCRIPTION:
URL:https://wakefieldtemple.org/event/meditation/2026-01-17/
END:VEVENT
BEGIN:VEVENT
DTSTART;TZID=America/New_York:20260118T100000
DTEND;TZID=America/New_York:20260118T120000
DTSTAMP:20260423T191230
CREATED:20251112T184011Z
LAST-MODIFIED:20260114T012704Z
UID:10012819-1768730400-1768737600@wakefieldtemple.org
SUMMARY:Bagels & Coffee
DESCRIPTION:Exercise Your Rights!\nLet’s make protest signs – posters and markers will be supplied!
URL:https://wakefieldtemple.org/event/bagels-coffee-3/
END:VEVENT
BEGIN:VEVENT
DTSTART;TZID=America/New_York:20260119T193000
DTEND;TZID=America/New_York:20260119T210000
DTSTAMP:20260423T191230
CREATED:20251221T140436Z
LAST-MODIFIED:20251221T140436Z
UID:10012543-1768851000-1768856400@wakefieldtemple.org
SUMMARY:Ways & Means Committee Meeting CANCELLED
DESCRIPTION:
URL:https://wakefieldtemple.org/event/ways-means-committee-meeting-6-3/
END:VEVENT
BEGIN:VEVENT
DTSTART;TZID=America/New_York:20260120T153000
DTEND;TZID=America/New_York:20260120T180000
DTSTAMP:20260423T191230
CREATED:20251108T192618Z
LAST-MODIFIED:20251108T192619Z
UID:10012803-1768923000-1768932000@wakefieldtemple.org
SUMMARY:CHAI School Classes
DESCRIPTION:
URL:https://wakefieldtemple.org/event/chai-school-classes/2026-01-20/
END:VEVENT
BEGIN:VEVENT
DTSTART;TZID=America/New_York:20260120T193000
DTEND;TZID=America/New_York:20260120T210000
DTSTAMP:20260423T191230
CREATED:20250322T144524Z
LAST-MODIFIED:20250322T144525Z
UID:10012522-1768937400-1768942800@wakefieldtemple.org
SUMMARY:School Committee Meeting
DESCRIPTION:
URL:https://wakefieldtemple.org/event/school-committee-meeting-9/2026-01-20/
END:VEVENT
BEGIN:VEVENT
DTSTART;TZID=America/New_York:20260121T193000
DTEND;TZID=America/New_York:20260121T203000
DTSTAMP:20260423T191230
CREATED:20251105T184509Z
LAST-MODIFIED:20260109T172438Z
UID:10012763-1769023800-1769027400@wakefieldtemple.org
SUMMARY:Adult Education: Death\, Dying\, & the Afterlife - Part 1
DESCRIPTION:Join the class\nhttps://us05web.zoom.us/j/8308912968?pwd=NspIL2UhrALNiikL4yIkhurXsxEP5q.1&omn=84420701335\nMeeting ID: 830 891 2968\nPasscode: 9x3fVf
URL:https://wakefieldtemple.org/event/adult-education-death-dying-the-afterlife-part-1/
END:VEVENT
BEGIN:VEVENT
DTSTART;TZID=America/New_York:20260123T193000
DTEND;TZID=America/New_York:20260123T210000
DTSTAMP:20260423T191230
CREATED:20250507T184653Z
LAST-MODIFIED:20250730T135047Z
UID:10012591-1769196600-1769202000@wakefieldtemple.org
SUMMARY:Erev Shabbat Celebration
DESCRIPTION:
URL:https://wakefieldtemple.org/event/erev-shabbat-celebration-16/2026-01-23/
END:VEVENT
BEGIN:VEVENT
DTSTART;TZID=America/New_York:20260124T100000
DTEND;TZID=America/New_York:20260124T113000
DTSTAMP:20260423T191230
CREATED:20251105T143244Z
LAST-MODIFIED:20260121T171628Z
UID:10012836-1769248800-1769254200@wakefieldtemple.org
SUMMARY:Shabbat Morning Celebration with Torah Reading
DESCRIPTION:
URL:https://wakefieldtemple.org/event/shabbat-morning-celebration-with-torah-reading/2026-01-24/
END:VEVENT
BEGIN:VEVENT
DTSTART;TZID=America/New_York:20260125T130000
DTEND;TZID=America/New_York:20260125T160000
DTSTAMP:20260423T191230
CREATED:20250715T215422Z
LAST-MODIFIED:20260119T204154Z
UID:10012699-1769346000-1769356800@wakefieldtemple.org
SUMMARY:Sunday Afternoon at the Movies POSTPONED\, New Date TBD
DESCRIPTION:  \n 
URL:https://wakefieldtemple.org/event/sisterhood-movie-pizza/
END:VEVENT
BEGIN:VEVENT
DTSTART;TZID=America/New_York:20260127T100000
DTEND;TZID=America/New_York:20260127T120000
DTSTAMP:20260423T191230
CREATED:20251107T130536Z
LAST-MODIFIED:20251107T130536Z
UID:10012768-1769508000-1769515200@wakefieldtemple.org
SUMMARY:Visiting Moms Group
DESCRIPTION:
URL:https://wakefieldtemple.org/event/visiting-moms-group/2026-01-27/
END:VEVENT
BEGIN:VEVENT
DTSTART;TZID=America/New_York:20260127T153000
DTEND;TZID=America/New_York:20260127T180000
DTSTAMP:20260423T191230
CREATED:20251108T192618Z
LAST-MODIFIED:20251108T192619Z
UID:10012804-1769527800-1769536800@wakefieldtemple.org
SUMMARY:CHAI School Classes
DESCRIPTION:
URL:https://wakefieldtemple.org/event/chai-school-classes/2026-01-27/
END:VEVENT
BEGIN:VEVENT
DTSTART;TZID=America/New_York:20260127T193000
DTEND;TZID=America/New_York:20260127T210000
DTSTAMP:20260423T191230
CREATED:20251107T131234Z
LAST-MODIFIED:20251107T131234Z
UID:10012791-1769542200-1769547600@wakefieldtemple.org
SUMMARY:Continuing Education Committee
DESCRIPTION:
URL:https://wakefieldtemple.org/event/continuing-education-committee-5-4/2026-01-27/
END:VEVENT
BEGIN:VEVENT
DTSTART;TZID=America/New_York:20260131T183000
DTEND;TZID=America/New_York:20260131T210000
DTSTAMP:20260423T191230
CREATED:20250911T112430Z
LAST-MODIFIED:20260101T202850Z
UID:10012727-1769884200-1769893200@wakefieldtemple.org
SUMMARY:All Ages Karaoke Night
DESCRIPTION:If you don’t know all the notes\, sing louder! \n Karaoke Night at Temple Emmanuel of Wakefield\, January 31st 2026\, starting at 6:30 PM. \nDrinks and vegetarian snacks provided. \n$5 for members\, $10 for non-members. \nUse this link to RSVP: viewform\n  \n \n  \n 
URL:https://wakefieldtemple.org/event/all-ages-karaoke-night/
END:VEVENT
BEGIN:VEVENT
DTSTART;TZID=America/New_York:20260201T090000
DTEND;TZID=America/New_York:20260201T103000
DTSTAMP:20260423T191230
CREATED:20260113T160103Z
LAST-MODIFIED:20260126T162830Z
UID:10012831-1769936400-1769941800@wakefieldtemple.org
SUMMARY:Four Chaplains Ceremony Followed by Light Refreshments
DESCRIPTION:
URL:https://wakefieldtemple.org/event/four-chaplains-ceremony/
END:VEVENT
BEGIN:VEVENT
DTSTART;TZID=America/New_York:20260201T110000
DTEND;TZID=America/New_York:20260201T120000
DTSTAMP:20260423T191230
CREATED:20260123T130028Z
LAST-MODIFIED:20260123T130029Z
UID:10012715-1769943600-1769947200@wakefieldtemple.org
SUMMARY:Sisterhood Sunday Walkers CANCELLED
DESCRIPTION:
URL:https://wakefieldtemple.org/event/sisterhood-sunday-walkers-11-11-7/
CATEGORIES:Sisterhood
END:VEVENT
BEGIN:VEVENT
DTSTART;VALUE=DATE:20260202
DTEND;VALUE=DATE:20260203
DTSTAMP:20260423T191230
CREATED:20250321T192622Z
LAST-MODIFIED:20250507T215532Z
UID:10012454-1769990400-1770076799@wakefieldtemple.org
SUMMARY:Tu B'Shevat
DESCRIPTION:
URL:https://wakefieldtemple.org/event/tu-bshevat-7/
END:VEVENT
BEGIN:VEVENT
DTSTART;TZID=America/New_York:20260202T193000
DTEND;TZID=America/New_York:20260202T210000
DTSTAMP:20260423T191230
CREATED:20251204T214529Z
LAST-MODIFIED:20251204T214529Z
UID:10012824-1770060600-1770066000@wakefieldtemple.org
SUMMARY:Membership Committee Meeting
DESCRIPTION:
URL:https://wakefieldtemple.org/event/membership-committee-meeting-19/2026-02-02/
END:VEVENT
BEGIN:VEVENT
DTSTART;TZID=America/New_York:20260203T123000
DTEND;TZID=America/New_York:20260203T133000
DTSTAMP:20260423T191230
CREATED:20251105T185201Z
LAST-MODIFIED:20251114T194901Z
UID:10012766-1770121800-1770125400@wakefieldtemple.org
SUMMARY:Lunch & Learn Torah & Midrash - Yitro (Jethro)
DESCRIPTION:We will explore key midrashic perspectives on Jethro\, the father of Tzipporah and father-in-law of Moses.\n\nJoin Lunch & Learn\nhttps://us05web.zoom.us/j/8308912968?pwd=NspIL2UhrALNiikL4yIkhurXsxEP5q.1&omn=82395049873\nMeeting ID: 830 891 2968\nPasscode: 9x3fVf
URL:https://wakefieldtemple.org/event/lunch-learn-torah-midrash-on-yitro-jethro/
END:VEVENT
BEGIN:VEVENT
DTSTART;TZID=America/New_York:20260203T153000
DTEND;TZID=America/New_York:20260203T180000
DTSTAMP:20260423T191230
CREATED:20251108T192618Z
LAST-MODIFIED:20251108T192619Z
UID:10012805-1770132600-1770141600@wakefieldtemple.org
SUMMARY:CHAI School Classes
DESCRIPTION:
URL:https://wakefieldtemple.org/event/chai-school-classes/2026-02-03/
END:VEVENT
BEGIN:VEVENT
DTSTART;TZID=America/New_York:20260203T184500
DTEND;TZID=America/New_York:20260203T193000
DTSTAMP:20260423T191230
CREATED:20250322T134417Z
LAST-MODIFIED:20250322T134418Z
UID:10012502-1770144300-1770147000@wakefieldtemple.org
SUMMARY:House & Grounds Committee Meeting
DESCRIPTION:
URL:https://wakefieldtemple.org/event/house-grounds-committee-meeting-16/2026-02-03/
END:VEVENT
END:VCALENDAR