BEGIN:VCALENDAR
VERSION:2.0
PRODID:-//Temple Emmanuel of Wakefield - ECPv6.15.20//NONSGML v1.0//EN
CALSCALE:GREGORIAN
METHOD:PUBLISH
X-WR-CALNAME:Temple Emmanuel of Wakefield
X-ORIGINAL-URL:https://wakefieldtemple.org
X-WR-CALDESC:Events for Temple Emmanuel of Wakefield
REFRESH-INTERVAL;VALUE=DURATION:PT1H
X-Robots-Tag:noindex
X-PUBLISHED-TTL:PT1H
BEGIN:VTIMEZONE
TZID:America/New_York
BEGIN:DAYLIGHT
TZOFFSETFROM:-0500
TZOFFSETTO:-0400
TZNAME:EDT
DTSTART:20240310T070000
END:DAYLIGHT
BEGIN:STANDARD
TZOFFSETFROM:-0400
TZOFFSETTO:-0500
TZNAME:EST
DTSTART:20241103T060000
END:STANDARD
BEGIN:DAYLIGHT
TZOFFSETFROM:-0500
TZOFFSETTO:-0400
TZNAME:EDT
DTSTART:20250309T070000
END:DAYLIGHT
BEGIN:STANDARD
TZOFFSETFROM:-0400
TZOFFSETTO:-0500
TZNAME:EST
DTSTART:20251102T060000
END:STANDARD
BEGIN:DAYLIGHT
TZOFFSETFROM:-0500
TZOFFSETTO:-0400
TZNAME:EDT
DTSTART:20260308T070000
END:DAYLIGHT
BEGIN:STANDARD
TZOFFSETFROM:-0400
TZOFFSETTO:-0500
TZNAME:EST
DTSTART:20261101T060000
END:STANDARD
END:VTIMEZONE
BEGIN:VEVENT
DTSTART;VALUE=DATE:20250603
DTEND;VALUE=DATE:20250604
DTSTAMP:20260425T092444
CREATED:20240518T232829Z
LAST-MODIFIED:20240518T232829Z
UID:10012252-1748908800-1748995199@wakefieldtemple.org
SUMMARY:Shavuot Second Day\, No Service
DESCRIPTION:
URL:https://wakefieldtemple.org/event/shavuot-second-day-no-service-4/
END:VEVENT
BEGIN:VEVENT
DTSTART;TZID=America/New_York:20250602T193000
DTEND;TZID=America/New_York:20250602T210000
DTSTAMP:20260425T092444
CREATED:20240518T183134Z
LAST-MODIFIED:20240518T183134Z
UID:10012206-1748892600-1748898000@wakefieldtemple.org
SUMMARY:Membership Committee Meeting
DESCRIPTION:
URL:https://wakefieldtemple.org/event/membership-committee-meeting-17/2025-06-02/
END:VEVENT
BEGIN:VEVENT
DTSTART;TZID=America/New_York:20250602T093000
DTEND;TZID=America/New_York:20250602T113000
DTSTAMP:20260425T092444
CREATED:20240518T232753Z
LAST-MODIFIED:20240518T232753Z
UID:10012251-1748856600-1748863800@wakefieldtemple.org
SUMMARY:Shavuot First Day Services with Yizkor
DESCRIPTION:
URL:https://wakefieldtemple.org/event/shavuot-first-day-services-with-yizkor-2/
END:VEVENT
BEGIN:VEVENT
DTSTART;TZID=America/New_York:20250601T180000
DTEND;TZID=America/New_York:20250601T190000
DTSTAMP:20260425T092444
CREATED:20240518T232636Z
LAST-MODIFIED:20250506T235324Z
UID:10012250-1748800800-1748804400@wakefieldtemple.org
SUMMARY:Erev Shavuot Celebration with Flower Crown Decoration and Tikkun Leil Study Session
DESCRIPTION:EREV SHAVUOT CELEBRATION\nHELP DECORATE 3 TORAH CROWNS WITH FLOWERS &\nMUNCH PIZZA!\nLISTEN TO RABBI GREG LEAD A FUN TIKKUN LEIL STUDY & \nEAT ICE CREAM! \nIN-PERSON ONLY\n \nHonor Shavuot by Decorating the Torahs\n Bring your whole family and a bouquet of flowers\n Pizza and ice cream provided\n \nSunday\, June 1 6:00-7:00 PM\n\nPlease RSVP by May 29: svitz9@gmail.com
URL:https://wakefieldtemple.org/event/erev-shavuot-celebration-with-flower-crown-decoration-and-tikun-leil-study-session/
END:VEVENT
BEGIN:VEVENT
DTSTART;TZID=America/New_York:20250601T110000
DTEND;TZID=America/New_York:20250601T120000
DTSTAMP:20260425T092444
CREATED:20250525T100834Z
LAST-MODIFIED:20250526T153504Z
UID:10012282-1748775600-1748779200@wakefieldtemple.org
SUMMARY:Sisterhood Sunday Walkers
DESCRIPTION:When: Sunday June 1\, 2025    Weather permitting\nTime: 11:00 AM\nWhere: Horn Pond\, Woburn Mass\nhttps://www.alltrails.com/parks/us/massachusetts/horn-pond-recreation-area?ref=result-card\nMeeting location: Lake Ave Parking lot\nParking: If there are no spaces in the lot\, park around the pond or at another lot\, but meet in the Lake Ave parking lot. \nRSVP: Let me know if you can make it via text 781-258-7760 or email shochberg.sh@gmail.com\nTrail information: In addition to the paved loop around the pond\, there are trails leading off the main trail. Refer to web site\nSue H’s Cell for day of the walk: 781-258-7760
URL:https://wakefieldtemple.org/event/sisterhood-sunday-walkers-11-9/
CATEGORIES:Sisterhood
END:VEVENT
BEGIN:VEVENT
DTSTART;TZID=America/New_York:20250531T183000
DTEND;TZID=America/New_York:20250531T203000
DTSTAMP:20260425T092444
CREATED:20250427T215452Z
LAST-MODIFIED:20250518T202303Z
UID:10012576-1748716200-1748723400@wakefieldtemple.org
SUMMARY:Cocktails and Kvetching (for Young Jewish Adults)
DESCRIPTION:Are you a Nice Jewish Boy / Girl / Person with nothing to do on a Saturday evening? Are you struggling to make friends in your 20s\, 30s\, or 40s? So are we! Join us at Temple Emmanuel of Wakefield for our new event for Jewish young adults (and their non-Jewish friends)\, Cocktails and Kvetching! Have a cocktail\, some snacks\, and break the ice with fun kvetching conversation prompts. \nTopics may include: \n– How many unread emails you have\n– Things that can ruin a perfectly good bagel\n– The worst advice you’ve received from a relative this year\n– Your inability to digest lactose\n– And more!\nSave the date! Saturday May 31 from 6:30 to 8:30PM. We can’t wait to see you and do some good-natured complaining with you. \nSee this for more information!\n  \n  \n  \n 
URL:https://wakefieldtemple.org/event/cocktails-kvetching-young-jewish-professional-night-time-tbd/
END:VEVENT
BEGIN:VEVENT
DTSTART;TZID=America/New_York:20250531T150000
DTEND;TZID=America/New_York:20250531T170000
DTSTAMP:20260425T092444
CREATED:20250516T180908Z
LAST-MODIFIED:20250531T141248Z
UID:10012671-1748703600-1748710800@wakefieldtemple.org
SUMMARY:Summer Celebration AT BETH SHALOM in MELROSE!
DESCRIPTION:
URL:https://wakefieldtemple.org/event/summer-celebration-for-kids-of-all-ages/
END:VEVENT
BEGIN:VEVENT
DTSTART;TZID=America/New_York:20250527T193000
DTEND;TZID=America/New_York:20250527T210000
DTSTAMP:20260425T092444
CREATED:20240518T231657Z
LAST-MODIFIED:20240819T121336Z
UID:10012243-1748374200-1748379600@wakefieldtemple.org
SUMMARY:Continuing Education Committee Meeting
DESCRIPTION:
URL:https://wakefieldtemple.org/event/continuing-education-committee-meeting-2/2025-05-27/
END:VEVENT
BEGIN:VEVENT
DTSTART;VALUE=DATE:20250526
DTEND;VALUE=DATE:20250527
DTSTAMP:20260425T092444
CREATED:20240518T232358Z
LAST-MODIFIED:20240518T232358Z
UID:10012249-1748217600-1748303999@wakefieldtemple.org
SUMMARY:Yom Yerushalayim (Jerusalem Day)\, No Service
DESCRIPTION:
URL:https://wakefieldtemple.org/event/yom-yerushalayim-jerusalem-day-no-service-4/
END:VEVENT
BEGIN:VEVENT
DTSTART;TZID=America/New_York:20250524T093000
DTEND;TZID=America/New_York:20250524T110000
DTSTAMP:20260425T092444
CREATED:20240518T145435Z
LAST-MODIFIED:20240927T133203Z
UID:10012173-1748079000-1748084400@wakefieldtemple.org
SUMMARY:Shabbat at Breakheart
DESCRIPTION:Jewish Wilderness Spirituality\nMeet with Rabbi Greg Saturday Morning at the Northeast Regional Vocational School\, 100 Hemlock Road\, Wakefield at 9:30 AM at the larger parking lot to the right of the Vocational School Building\nPlease click on the link below for directions\nhttps://goo.gl/maps/bntTRr8bd5x
URL:https://wakefieldtemple.org/event/shabbat-at-breakheart-6/2025-05-24/
END:VEVENT
BEGIN:VEVENT
DTSTART;TZID=America/New_York:20250523T193000
DTEND;TZID=America/New_York:20250523T210000
DTSTAMP:20260425T092444
CREATED:20250107T104532Z
LAST-MODIFIED:20250319T003208Z
UID:10012146-1748028600-1748034000@wakefieldtemple.org
SUMMARY:Erev Shabbat Celebration
DESCRIPTION:
URL:https://wakefieldtemple.org/event/erev-shabbat-celebration-12-17/
END:VEVENT
BEGIN:VEVENT
DTSTART;TZID=America/New_York:20250522T180000
DTEND;TZID=America/New_York:20250522T210000
DTSTAMP:20260425T092444
CREATED:20240818T182045Z
LAST-MODIFIED:20250428T111023Z
UID:10012307-1747936800-1747947600@wakefieldtemple.org
SUMMARY:Honoring Ben Weiner
DESCRIPTION:                \n\nThe Temple community\, friends and family are cordially invited to celebrate with Sisterhood as we honor\n Ben Weiner\nwith the Sisterhood Special Recognition Award\nat the\n65th Annual Sisterhood Donor Dinner\nThursday\, May 22\n  \n6:00 PM Cocktails\n6:30 PM Dinner and Dessert\n7:30 PM Award Ceremony\n\nTemple Emmanuel\n120 Chestnut Street\nWakefield\, MA\n  \nCatering by Spinelli’s\n  \n$54 per person: Pay by check at the door or mail to the Temple\n Please make checks payable to Sisterhood of Temple Emmanuel   \n  \nDonations in honor of Ben may be made to the Temple Emmanuel \nChair Campaign or by check mailed to the Temple\nRSVP to Sue Hochberg by May 10th: shochberg.sh@gmail.com
URL:https://wakefieldtemple.org/event/sisterhood-donor-dinner-7/
CATEGORIES:Sisterhood
END:VEVENT
BEGIN:VEVENT
DTSTART;TZID=America/New_York:20250521T193000
DTEND;TZID=America/New_York:20250521T203000
DTSTAMP:20260425T092444
CREATED:20250401T212949Z
LAST-MODIFIED:20250402T153314Z
UID:10012567-1747855800-1747859400@wakefieldtemple.org
SUMMARY:Continuing Education: Trailblazing American Jewish Musicians
DESCRIPTION:This course is open to anyone who enjoys music! We’ll explore different eras and genres of 20th century music\, where American Jews have had outsized impact. All are welcome to learn some of the ways that Jewish people have been pioneers and influencers over the last 100 years to help make music what it is today.\nJoin Class\nhttps://us02web.zoom.us/j/83198856281?pwd=4kDQ9xWi4bQoKPGPBEXgLB0M2TstPg.1\nMeeting ID: 831 9885 6281\nPasscode: 662309\n 
URL:https://wakefieldtemple.org/event/continuing-education-trailblazing-american-jewish-musicians/2025-05-21/
END:VEVENT
BEGIN:VEVENT
DTSTART;TZID=America/New_York:20250519T193000
DTEND;TZID=America/New_York:20250519T210000
DTSTAMP:20260425T092444
CREATED:20250220T164900Z
LAST-MODIFIED:20250220T164900Z
UID:10012436-1747683000-1747688400@wakefieldtemple.org
SUMMARY:Ways & Means Committee Meeting
DESCRIPTION:
URL:https://wakefieldtemple.org/event/ways-means-committee-meeting-4/2025-05-19/
END:VEVENT
BEGIN:VEVENT
DTSTART;TZID=America/New_York:20250518T130000
DTEND;TZID=America/New_York:20250518T143000
DTSTAMP:20260425T092444
CREATED:20250426T203156Z
LAST-MODIFIED:20250426T203156Z
UID:10012573-1747573200-1747578600@wakefieldtemple.org
SUMMARY:Lag B'Omer S'mores Picnic
DESCRIPTION:
URL:https://wakefieldtemple.org/event/lag-bomer-smores-picnic/
END:VEVENT
BEGIN:VEVENT
DTSTART;TZID=America/New_York:20250518T100000
DTEND;TZID=America/New_York:20250518T110000
DTSTAMP:20260425T092444
CREATED:20241204T131119Z
LAST-MODIFIED:20250205T000501Z
UID:10012423-1747562400-1747566000@wakefieldtemple.org
SUMMARY:Bagels & Coffee and Save-A-Life
DESCRIPTION:
URL:https://wakefieldtemple.org/event/bagels-save-a-life/
END:VEVENT
BEGIN:VEVENT
DTSTART;TZID=America/New_York:20250517T093000
DTEND;TZID=America/New_York:20250517T103000
DTSTAMP:20260425T092444
CREATED:20250313T114605Z
LAST-MODIFIED:20250428T105331Z
UID:10012296-1747474200-1747477800@wakefieldtemple.org
SUMMARY:CHAI School Celebration in Weizmann Hall Followed by Bagels & Ice Cream
DESCRIPTION:
URL:https://wakefieldtemple.org/event/shabbat-morning-celebration-9-6/
END:VEVENT
BEGIN:VEVENT
DTSTART;TZID=America/New_York:20250516T193000
DTEND;TZID=America/New_York:20250516T203000
DTSTAMP:20260425T092444
CREATED:20240518T120201Z
LAST-MODIFIED:20240605T094534Z
UID:10012130-1747423800-1747427400@wakefieldtemple.org
SUMMARY:Jewish Meditation Circle
DESCRIPTION:
URL:https://wakefieldtemple.org/event/jewish-meditation-circle-13/2025-05-16/
END:VEVENT
BEGIN:VEVENT
DTSTART;VALUE=DATE:20250516
DTEND;VALUE=DATE:20250517
DTSTAMP:20260425T092444
CREATED:20240518T232249Z
LAST-MODIFIED:20240518T232249Z
UID:10012248-1747353600-1747439999@wakefieldtemple.org
SUMMARY:Lag B'Omer\, No Service
DESCRIPTION:
URL:https://wakefieldtemple.org/event/lag-bomer-no-service-5/
END:VEVENT
BEGIN:VEVENT
DTSTART;TZID=America/New_York:20250514T153000
DTEND;TZID=America/New_York:20250514T183000
DTSTAMP:20260425T092444
CREATED:20231221T230232Z
LAST-MODIFIED:20241103T233918Z
UID:10012261-1747236600-1747247400@wakefieldtemple.org
SUMMARY:Volunteer at Wakefield Community Dinners
DESCRIPTION:Mitzvah opportunity! Temple Emmanuel is now partnered with Wakefield Community Dinners. Held at Most Blessed Sacrament in Wakefield\, the Community Dinners happen the 2nd Wednesday of every month\, with the opportunity to feed 80+ neighbors and friends from Wakefield\, Stoneham\, Melrose and towns as far as Medford\, Salem and Norwood. Volunteer hours are 3:30-6:30pm. Guests come as families or alone. Although many are experiencing food insecurity\, most are impacted with social isolation. We provide a hot meal\, salad\, bread\, desserts\, and most importantly\, camaraderie. If you’d like to have fun\, share smiles\, and engage in holy work with Rabbi Greg\, please sign up here.
URL:https://wakefieldtemple.org/event/volunteer-at-wakefield-community-dinners/2025-05-14/
END:VEVENT
BEGIN:VEVENT
DTSTART;TZID=America/New_York:20250513T193000
DTEND;TZID=America/New_York:20250513T210000
DTSTAMP:20260425T092444
CREATED:20250409T125917Z
LAST-MODIFIED:20250503T000018Z
UID:10012572-1747164600-1747170000@wakefieldtemple.org
SUMMARY:Annual Meeting
DESCRIPTION:Temple Emmanuel of Wakefield\nAnnual Membership Meeting\nTuesday\, May 13\, 2025 at 7:30 PM \n1. Annual officer and committee reports\n2. Vote to accept the slate of Board members nominated for\nthe new two-year term \n3. Proposed By-laws change\n\nThe Annual Meeting will be hybrid\, both in person and via Zoom\, and will be held in the sanctuary.\n \nHere is the Zoom link for those members who prefer remote:\nJoin Annual Meeting \nhttps://us02web.zoom.us/j/84565131044?pwd=YlUzY1Awa1VhNXlqei9Rc05xN3JGZz09  \nMeeting ID: 845 6513 1044\nPasscode: 133480\n************************  \nTemple Emmanuel of Wakefield\nBoard Slate for May 2025\n\nBoard Members:\nMaggie Leshen\nJoni Dames\nCurrent Board Members (term ends 2026)\nHarris Hochberg\nEllen Scott\nGail Havelick\nStephanie Maroun\nLiz Freeman\nAriel Shepetovskiy\nElizabeth Yount\nMarianne Wronka\n************************ \nProposed Bylaw Changes – 2025 \nArticle VI –\nSection 3: \nApplication for membership shall be made in writing to the Membership Committee. The membership may be approved by a majority agreement of the Chairperson of the Membership Committee\, the President\, the Vice-President and the Rabbi. The Membership Committee shall report on each application and the action taken to the Board of Directors. \nThis bylaw change would update the procedure for reviewing and approving membership applications. \nArticle V –\nSection 5: \nThe Board shall be empowered to elect candidates for membership\, to sell or rent pews or seats to members and non-members.  The Board shall make such rules and regulations consistent with these Bylaws as they may deem advisable for the proper conduct of their meeting and for the furtherance of the general purposes of this Congregation. \nArticle V Section 5 would be revised for consistency with the proposed change above. \n************************   \nPlease review last year’s minutes from the 2024 Annual Meeting prior to this year’s Annual Meeting. Thank you! \nAnnual Meeting Minutes Temple Emmanuel\nMay 14\, 2024\nPresent: Yuri\, Ken\, Liz\, Rabbi Greg\, Susan\, Sue H\, Gail\, Warren\, Marcy\, Michael\, Lydia\, Beth\, Laura\, Maggie\, Harris\, Evan\, Caryl\, Alla\, Ellen\, Phil\, Ben\, Bev\, Stephanie\, Sheila\, Ernie\, Marianne\, Palla\, Ariel\, Deb \nThe meeting was called to order at 7:32 PM in person and on Zoom. \nThe minutes of the 5-9-2023 meeting were reviewed via email and accepted. \nOfficer Reports — \nPresident: Yuri – Read report. No questions.\nFirst VP: Michael – Read report. No questions.\nCo-Treasurers: Warren – Shared report on screen. Discussed cash balances. Discussed P&L vs budget. We had budgeted a deficit for the year. Our deficit was lower than budgeted. Some increase in income\, and some decrease in expenses. Still ran a deficit. Warren walked us through the differences between 2022 and 2023 P&L’s. No questions.\nRecording Secretary: Marsha – No report. No questions\nCorresponding Secretary: Susan – Read report. No questions \nStanding Committees — \nCemetery: Margaret – Margaret Leshen – Read report. No questions.\nContinuing Education: Rabbi – Read report. Phil: terrific course!\nFunction: Ben – See Ways & Means.\nHouse\, Building and Grounds: Michael – Read report. No questions.\nMembership: Yuri – Read report. No questions.\nPublicity: Liz – Read report. Yuri: TT is online also.\nRitual: Evan – Read report. No questions.\nSchool and Youth: Yuri – Read report. Palla: 17 students in school. Tot Shabbat is additional.\nTechnology: Yuri – Read report. No questions.\nWays and Means: Ben – Shared report on screen. Michael: Good job on Israel Bonds speech.\nBook Club: Liz – Read report. About 12 readers per session. Meet every other month. Various topics. Come read with us.\nSisterhood: Sue – Read report. No questions \nNominating Committee: Evan presented the slate of officers for two year term:\nPresident – Yuri Shikhanovich\nVice President – Evan Pressman\nTreasurer – Warren Silbovitz\nCorresponding Secretary – Susan Silbovitz\nRecording Secretary – Marsha Alter \nBoard of Directors for two year term 2024-2026:\nHarris Hochberg\nGail Havelick\nStephanie Maroun\nLiz Freeman\nMarcy McWilliams\nEllen Scott\nAriel Shepetovsky\nElizabeth Yount\nMarianne Wronka \nTerm continuing 2023-2025:\nPhil Onigman\nMaggie Leshen\nLaura Canter \nMotion by Evan to accept the slate by acclimation and second by Caryl. Motion accepted.\nBy-Laws Committee: None\nRenovation Committee: Ben – shared his screen. Read the letter which will be sent to the membership announcing our capital campaign (CHAIR). Showed the pledge form that he’s created. Sue H: email\, or hardcopy of letter? Hardcopy. Ben: already received a number of donations. No other questions. Yuri: we hope everything will be done by end of summer.\nAny Other Business: None \nMeeting was adjourned at 8:37pm. Motion by Ariel and second by Caryl. \nRespectfully Submitted\,\nKen for Marsha Alter\nRecording Secretary
URL:https://wakefieldtemple.org/event/annual-meeting-2/
END:VEVENT
BEGIN:VEVENT
DTSTART;TZID=America/New_York:20250513T183000
DTEND;TZID=America/New_York:20250513T193000
DTSTAMP:20260425T092444
CREATED:20250409T130151Z
LAST-MODIFIED:20250506T172505Z
UID:10012215-1747161000-1747164600@wakefieldtemple.org
SUMMARY:Temple Board Meeting
DESCRIPTION:
URL:https://wakefieldtemple.org/event/temple-board-meeting-16-2/
END:VEVENT
BEGIN:VEVENT
DTSTART;TZID=America/New_York:20250512T193000
DTEND;TZID=America/New_York:20250512T210000
DTSTAMP:20260425T092444
CREATED:20250416T005144Z
LAST-MODIFIED:20250416T005144Z
UID:10012235-1747078200-1747083600@wakefieldtemple.org
SUMMARY:School Committee Meeting
DESCRIPTION:
URL:https://wakefieldtemple.org/event/school-committee-meeting-8-3/
END:VEVENT
BEGIN:VEVENT
DTSTART;TZID=America/New_York:20250510T093000
DTEND;TZID=America/New_York:20250510T113000
DTSTAMP:20260425T092444
CREATED:20240518T120920Z
LAST-MODIFIED:20240518T120920Z
UID:10012116-1746869400-1746876600@wakefieldtemple.org
SUMMARY:Shabbat Morning Celebration including Torah Study with Rabbi Greg
DESCRIPTION:
URL:https://wakefieldtemple.org/event/shabbat-morning-celebration-including-torah-study-with-rabbi-greg-3/2025-05-10/
END:VEVENT
BEGIN:VEVENT
DTSTART;TZID=America/New_York:20250509T193000
DTEND;TZID=America/New_York:20250509T210000
DTSTAMP:20260425T092444
CREATED:20240818T182144Z
LAST-MODIFIED:20240818T182146Z
UID:10012145-1746819000-1746824400@wakefieldtemple.org
SUMMARY:Erev Shabbat Celebration with Sisterhood Participation
DESCRIPTION:
URL:https://wakefieldtemple.org/event/erev-shabbat-celebration-12-9/
END:VEVENT
BEGIN:VEVENT
DTSTART;TZID=America/New_York:20250507T193000
DTEND;TZID=America/New_York:20250507T203000
DTSTAMP:20260425T092444
CREATED:20250401T212949Z
LAST-MODIFIED:20250402T153314Z
UID:10012566-1746646200-1746649800@wakefieldtemple.org
SUMMARY:Continuing Education: Trailblazing American Jewish Musicians
DESCRIPTION:This course is open to anyone who enjoys music! We’ll explore different eras and genres of 20th century music\, where American Jews have had outsized impact. All are welcome to learn some of the ways that Jewish people have been pioneers and influencers over the last 100 years to help make music what it is today.\nJoin Class\nhttps://us02web.zoom.us/j/83198856281?pwd=4kDQ9xWi4bQoKPGPBEXgLB0M2TstPg.1\nMeeting ID: 831 9885 6281\nPasscode: 662309\n 
URL:https://wakefieldtemple.org/event/continuing-education-trailblazing-american-jewish-musicians/2025-05-07/
END:VEVENT
BEGIN:VEVENT
DTSTART;TZID=America/New_York:20250506T193000
DTEND;TZID=America/New_York:20250506T210000
DTSTAMP:20260425T092444
CREATED:20240518T174856Z
LAST-MODIFIED:20240518T174856Z
UID:10012195-1746559800-1746565200@wakefieldtemple.org
SUMMARY:Ritual Committee Meeting
DESCRIPTION:
URL:https://wakefieldtemple.org/event/ritual-committee-meeting-21/2025-05-06/
END:VEVENT
BEGIN:VEVENT
DTSTART;TZID=America/New_York:20250506T184500
DTEND;TZID=America/New_York:20250506T193000
DTSTAMP:20260425T092444
CREATED:20240518T150907Z
LAST-MODIFIED:20240518T150907Z
UID:10012185-1746557100-1746559800@wakefieldtemple.org
SUMMARY:House & Grounds Committee Meeting
DESCRIPTION:
URL:https://wakefieldtemple.org/event/house-grounds-committee-meeting-15/2025-05-06/
END:VEVENT
BEGIN:VEVENT
DTSTART;TZID=America/New_York:20250505T193000
DTEND;TZID=America/New_York:20250505T210000
DTSTAMP:20260425T092444
CREATED:20240518T183134Z
LAST-MODIFIED:20240518T183134Z
UID:10012205-1746473400-1746478800@wakefieldtemple.org
SUMMARY:Membership Committee Meeting
DESCRIPTION:
URL:https://wakefieldtemple.org/event/membership-committee-meeting-17/2025-05-05/
END:VEVENT
BEGIN:VEVENT
DTSTART;TZID=America/New_York:20250504T180000
DTEND;TZID=America/New_York:20250504T203000
DTSTAMP:20260425T092444
CREATED:20250317T134533Z
LAST-MODIFIED:20250417T170029Z
UID:10012439-1746381600-1746390600@wakefieldtemple.org
SUMMARY:Temple Reads & Dinner: Once We Were Home by Jennifer Rosner
DESCRIPTION:Once We Were Home\nby Jennifer Rosner\nWhen: Sunday 5/4/2025\nTime: 6 PM Dinner in person\n          7 PM Book Discussion : Hybrid\nWhere: Home of Alissa Onigman\nAddress/Parking: To be provided after you RSVP\nMenu: Pizza/beverages (cost to be shared by attendees)\n           Potluck for Dessert and Salad\nRSVP: Required for Potluck by 5/3/2025 to Sue Hochberg shochberg.sh@gmail.com including what you will bring \nJoin Temple Reads\nhttps://us02web.zoom.us/j/89408550115?pwd=uOqIMbYY4Nas4whaIHmCxu4EFvxwnr.1\nMeeting ID: 894 0855 0115\nPasscode: 496908\n  \nAna will never forget her mother’s face when she and her baby brother\, Oskar\, were sent out of their Polish ghetto and into the arms of a Christian friend. For Oskar\, though\, their new family is the only one he remembers. When a woman from a Jewish reclamation organization seizes them\, believing she has their best interest at heart\, Ana sees an opportunity to reconnect with her roots\, while Oskar sees only the loss of the home he loves. \nRoger grows up in a monastery in France\, inventing stories and trading riddles with his best friend in a life of quiet concealment. When a relative seeks to retrieve him\, the Church steals him across the Pyrenees before relinquishing him to family in Jerusalem. \nRenata\, a post-graduate student in archaeology\, has spent her life unearthing secrets from the past–except for her own. After her mother’s death\, Renata’s grief is entwined with all the questions her mother left unanswered\, including why they fled Germany so quickly when Renata was a little girl. \nTwo decades later\, they are each building lives for themselves\, trying to move on from the trauma and loss that haunts them. But as their stories converge in Israel\, in unexpected ways\, they must each ask where and to whom they truly belong. \nBeautifully evocative and tender\, filled with both luminosity and anguish\, Once We Were Home reveals a little-known history. Based on the true stories of children stolen during wartime\, this heart-wrenching novel raises questions of complicity and responsibility\, belonging and identity\, good intentions and unforeseen consequences\, as it confronts what it really means to find home.
URL:https://wakefieldtemple.org/event/temple-reads-once-we-were-home-by-jennifer-rosner/
END:VEVENT
END:VCALENDAR