BEGIN:VCALENDAR
VERSION:2.0
PRODID:-//Temple Emmanuel of Wakefield - ECPv6.15.20//NONSGML v1.0//EN
CALSCALE:GREGORIAN
METHOD:PUBLISH
X-ORIGINAL-URL:https://wakefieldtemple.org
X-WR-CALDESC:Events for Temple Emmanuel of Wakefield
REFRESH-INTERVAL;VALUE=DURATION:PT1H
X-Robots-Tag:noindex
X-PUBLISHED-TTL:PT1H
BEGIN:VTIMEZONE
TZID:America/New_York
BEGIN:DAYLIGHT
TZOFFSETFROM:-0500
TZOFFSETTO:-0400
TZNAME:EDT
DTSTART:20180311T070000
END:DAYLIGHT
BEGIN:STANDARD
TZOFFSETFROM:-0400
TZOFFSETTO:-0500
TZNAME:EST
DTSTART:20181104T060000
END:STANDARD
BEGIN:DAYLIGHT
TZOFFSETFROM:-0500
TZOFFSETTO:-0400
TZNAME:EDT
DTSTART:20190310T070000
END:DAYLIGHT
BEGIN:STANDARD
TZOFFSETFROM:-0400
TZOFFSETTO:-0500
TZNAME:EST
DTSTART:20191103T060000
END:STANDARD
BEGIN:DAYLIGHT
TZOFFSETFROM:-0500
TZOFFSETTO:-0400
TZNAME:EDT
DTSTART:20200308T070000
END:DAYLIGHT
BEGIN:STANDARD
TZOFFSETFROM:-0400
TZOFFSETTO:-0500
TZNAME:EST
DTSTART:20201101T060000
END:STANDARD
BEGIN:DAYLIGHT
TZOFFSETFROM:-0500
TZOFFSETTO:-0400
TZNAME:EDT
DTSTART:20210314T070000
END:DAYLIGHT
BEGIN:STANDARD
TZOFFSETFROM:-0400
TZOFFSETTO:-0500
TZNAME:EST
DTSTART:20211107T060000
END:STANDARD
BEGIN:DAYLIGHT
TZOFFSETFROM:-0500
TZOFFSETTO:-0400
TZNAME:EDT
DTSTART:20220313T070000
END:DAYLIGHT
BEGIN:STANDARD
TZOFFSETFROM:-0400
TZOFFSETTO:-0500
TZNAME:EST
DTSTART:20221106T060000
END:STANDARD
BEGIN:DAYLIGHT
TZOFFSETFROM:-0500
TZOFFSETTO:-0400
TZNAME:EDT
DTSTART:20230312T070000
END:DAYLIGHT
BEGIN:STANDARD
TZOFFSETFROM:-0400
TZOFFSETTO:-0500
TZNAME:EST
DTSTART:20231105T060000
END:STANDARD
BEGIN:DAYLIGHT
TZOFFSETFROM:-0500
TZOFFSETTO:-0400
TZNAME:EDT
DTSTART:20240310T070000
END:DAYLIGHT
BEGIN:STANDARD
TZOFFSETFROM:-0400
TZOFFSETTO:-0500
TZNAME:EST
DTSTART:20241103T060000
END:STANDARD
END:VTIMEZONE
BEGIN:VEVENT
DTSTART;TZID=America/New_York:20230602T193000
DTEND;TZID=America/New_York:20230602T210000
DTSTAMP:20260425T184223
CREATED:20220614T195833Z
LAST-MODIFIED:20230420T123046Z
UID:10011541-1685734200-1685739600@wakefieldtemple.org
SUMMARY:Jewish Meditation Circle
DESCRIPTION:
URL:https://wakefieldtemple.org/event/jewish-meditation-circle-11-2023-06-16/
CATEGORIES:Services
END:VEVENT
BEGIN:VEVENT
DTSTART;TZID=America/New_York:20230519T193000
DTEND;TZID=America/New_York:20230519T210000
DTSTAMP:20260425T184223
CREATED:20220614T195833Z
LAST-MODIFIED:20230919T134415Z
UID:10011547-1684524600-1684530000@wakefieldtemple.org
SUMMARY:Jewish Meditation Circle
DESCRIPTION:
URL:https://wakefieldtemple.org/event/jewish-meditation-circle-11/2023-05-19/
CATEGORIES:Services
END:VEVENT
BEGIN:VEVENT
DTSTART;TZID=America/New_York:20230414T193000
DTEND;TZID=America/New_York:20230414T210000
DTSTAMP:20260425T184223
CREATED:20220614T195833Z
LAST-MODIFIED:20230409T200158Z
UID:10011542-1681500600-1681506000@wakefieldtemple.org
SUMMARY:Jewish Meditation Circle
DESCRIPTION:
URL:https://wakefieldtemple.org/event/jewish-meditation-circle-11-2023-04-21/
CATEGORIES:Services
END:VEVENT
BEGIN:VEVENT
DTSTART;TZID=America/New_York:20230317T193000
DTEND;TZID=America/New_York:20230317T210000
DTSTAMP:20260425T184223
CREATED:20220614T195833Z
LAST-MODIFIED:20230919T134415Z
UID:10011546-1679081400-1679086800@wakefieldtemple.org
SUMMARY:Jewish Meditation Circle
DESCRIPTION:
URL:https://wakefieldtemple.org/event/jewish-meditation-circle-11/2023-03-17/
CATEGORIES:Services
END:VEVENT
BEGIN:VEVENT
DTSTART;TZID=America/New_York:20221118T193000
DTEND;TZID=America/New_York:20221118T210000
DTSTAMP:20260425T184223
CREATED:20220614T195833Z
LAST-MODIFIED:20230919T134415Z
UID:10011545-1668799800-1668805200@wakefieldtemple.org
SUMMARY:Jewish Meditation Circle
DESCRIPTION:
URL:https://wakefieldtemple.org/event/jewish-meditation-circle-11/2022-11-18/
CATEGORIES:Services
END:VEVENT
BEGIN:VEVENT
DTSTART;TZID=America/New_York:20221021T193000
DTEND;TZID=America/New_York:20221021T210000
DTSTAMP:20260425T184223
CREATED:20220614T195833Z
LAST-MODIFIED:20230919T134415Z
UID:10011544-1666380600-1666386000@wakefieldtemple.org
SUMMARY:Jewish Meditation Circle
DESCRIPTION:
URL:https://wakefieldtemple.org/event/jewish-meditation-circle-11/2022-10-21/
CATEGORIES:Services
END:VEVENT
BEGIN:VEVENT
DTSTART;TZID=America/New_York:20220916T193000
DTEND;TZID=America/New_York:20220916T210000
DTSTAMP:20260425T184223
CREATED:20220614T195833Z
LAST-MODIFIED:20230919T134415Z
UID:10011543-1663356600-1663362000@wakefieldtemple.org
SUMMARY:Jewish Meditation Circle
DESCRIPTION:
URL:https://wakefieldtemple.org/event/jewish-meditation-circle-11/2022-09-16/
CATEGORIES:Services
END:VEVENT
BEGIN:VEVENT
DTSTART;TZID=America/New_York:20190615T093000
DTEND;TZID=America/New_York:20190615T120000
DTSTAMP:20260425T184223
CREATED:20170825T151229Z
LAST-MODIFIED:20230919T152327Z
UID:10010009-1560591000-1560600000@wakefieldtemple.org
SUMMARY:Shabbat Morning Celebration
DESCRIPTION:
URL:https://wakefieldtemple.org/event/shabbat-morning-celebration/2019-06-15/
CATEGORIES:Services
ATTACH;FMTTYPE=image/jpeg:https://wakefieldtemple.org/wp-content/uploads/2017/03/greg_g-e1501440366851.jpg
END:VEVENT
BEGIN:VEVENT
DTSTART;TZID=America/New_York:20190615T093000
DTEND;TZID=America/New_York:20190615T120000
DTSTAMP:20260425T184223
CREATED:20170825T151229Z
LAST-MODIFIED:20230919T152319Z
UID:10009969-1560591000-1560600000@wakefieldtemple.org
SUMMARY:Shabbat Morning Celebration
DESCRIPTION:
URL:https://wakefieldtemple.org/event/shabbat-morning-celebration-2018-06-16/2019-06-15/
CATEGORIES:Services
ATTACH;FMTTYPE=image/jpeg:https://wakefieldtemple.org/wp-content/uploads/2017/03/greg_g-e1501440366851.jpg
END:VEVENT
BEGIN:VEVENT
DTSTART;TZID=America/New_York:20190614T193000
DTEND;TZID=America/New_York:20190614T210000
DTSTAMP:20260425T184223
CREATED:20170729T172800Z
LAST-MODIFIED:20230919T152850Z
UID:10009938-1560540600-1560546000@wakefieldtemple.org
SUMMARY:Erev Shabbat Celebration
DESCRIPTION:
URL:https://wakefieldtemple.org/event/erev-shabbat-celebration-9/2019-06-14/
CATEGORIES:Services
ATTACH;FMTTYPE=image/png:https://wakefieldtemple.org/wp-content/uploads/2017/03/shira.png
END:VEVENT
BEGIN:VEVENT
DTSTART;TZID=America/New_York:20190614T183000
DTEND;TZID=America/New_York:20190614T210000
DTSTAMP:20260425T184223
CREATED:20170615T204818Z
LAST-MODIFIED:20190509T130541Z
UID:10009974-1560537000-1560546000@wakefieldtemple.org
SUMMARY:Pot Luck Dinner Followed by Erev Shabbat Celebration\, Installation of Officers and Welcome to New Members!
DESCRIPTION:  \nJOIN US FOR \nPOT LUCK SUPPER! \nFRIDAY\, June 14 at 6:30 \n\nFOLLOWED BY EREV SHABBAT CELEBRATION  \nWITH THE INSTALLATION OF OFFICERS \n AND A HEARTY WELCOME TO NEW MEMBERS \nat 7:30 PM \n\nPLEASE RSVP TO \nSUSAN SILBOVITZ \nsbreger94@gmail.com \n919-605-0523 \nby June 12 \n\nVEGETARIAN/DAIRY/FISH \nPLEASE LET ME KNOW WHAT YOU WILL BE BRINGING: \nMAIN DISH or SIDE. \nCHALLAH\, DESSERTS & DRINKS PROVIDED \nBY THE TEMPLE \n  \n  \n 
URL:https://wakefieldtemple.org/event/pot-luck-dinner-followed-by-shabbat-shira-service-2017-11-10-2018-01-12-2019-06-14/
CATEGORIES:Services
ATTACH;FMTTYPE=image/jpeg:https://wakefieldtemple.org/wp-content/uploads/2017/07/21105498_1539208212784035_7371548905963491066_n.jpg
END:VEVENT
BEGIN:VEVENT
DTSTART;TZID=America/New_York:20190607T193000
DTEND;TZID=America/New_York:20190607T210000
DTSTAMP:20260425T184223
CREATED:20170729T172800Z
LAST-MODIFIED:20230919T152850Z
UID:10009937-1559935800-1559941200@wakefieldtemple.org
SUMMARY:Erev Shabbat Celebration
DESCRIPTION:
URL:https://wakefieldtemple.org/event/erev-shabbat-celebration-9/2019-06-07/
CATEGORIES:Services
ATTACH;FMTTYPE=image/png:https://wakefieldtemple.org/wp-content/uploads/2017/03/shira.png
END:VEVENT
BEGIN:VEVENT
DTSTART;TZID=America/New_York:20190601T093000
DTEND;TZID=America/New_York:20190601T120000
DTSTAMP:20260425T184223
CREATED:20170424T200452Z
LAST-MODIFIED:20230919T152323Z
UID:10009799-1559381400-1559390400@wakefieldtemple.org
SUMMARY:Shabbat Morning Celebration Followed by Kiddush & Torah Study with Rabbi Greg
DESCRIPTION:
URL:https://wakefieldtemple.org/event/shabbat-morning-service-2-2018-06-02/2019-06-01/
CATEGORIES:Services
ATTACH;FMTTYPE=image/jpeg:https://wakefieldtemple.org/wp-content/uploads/2017/04/RABBI-guitaroct.2016.jpeg
END:VEVENT
BEGIN:VEVENT
DTSTART;TZID=America/New_York:20190524T193000
DTEND;TZID=America/New_York:20190524T210000
DTSTAMP:20260425T184223
CREATED:20170729T172800Z
LAST-MODIFIED:20230919T152850Z
UID:10009936-1558726200-1558731600@wakefieldtemple.org
SUMMARY:Erev Shabbat Celebration
DESCRIPTION:
URL:https://wakefieldtemple.org/event/erev-shabbat-celebration-9/2019-05-24/
CATEGORIES:Services
ATTACH;FMTTYPE=image/png:https://wakefieldtemple.org/wp-content/uploads/2017/03/shira.png
END:VEVENT
BEGIN:VEVENT
DTSTART;TZID=America/New_York:20190518T093000
DTEND;TZID=America/New_York:20190518T120000
DTSTAMP:20260425T184223
CREATED:20170825T151229Z
LAST-MODIFIED:20230919T152327Z
UID:10010008-1558171800-1558180800@wakefieldtemple.org
SUMMARY:Shabbat Morning Celebration
DESCRIPTION:
URL:https://wakefieldtemple.org/event/shabbat-morning-celebration/2019-05-18/
CATEGORIES:Services
ATTACH;FMTTYPE=image/jpeg:https://wakefieldtemple.org/wp-content/uploads/2017/03/greg_g-e1501440366851.jpg
END:VEVENT
BEGIN:VEVENT
DTSTART;TZID=America/New_York:20190518T093000
DTEND;TZID=America/New_York:20190518T120000
DTSTAMP:20260425T184223
CREATED:20170825T151229Z
LAST-MODIFIED:20230919T152319Z
UID:10009968-1558171800-1558180800@wakefieldtemple.org
SUMMARY:Shabbat Morning Celebration
DESCRIPTION:
URL:https://wakefieldtemple.org/event/shabbat-morning-celebration-2018-06-16/2019-05-18/
CATEGORIES:Services
ATTACH;FMTTYPE=image/jpeg:https://wakefieldtemple.org/wp-content/uploads/2017/03/greg_g-e1501440366851.jpg
END:VEVENT
BEGIN:VEVENT
DTSTART;TZID=America/New_York:20190510T193000
DTEND;TZID=America/New_York:20190510T210000
DTSTAMP:20260425T184223
CREATED:20170729T172800Z
LAST-MODIFIED:20230919T152850Z
UID:10009935-1557516600-1557522000@wakefieldtemple.org
SUMMARY:Erev Shabbat Celebration
DESCRIPTION:
URL:https://wakefieldtemple.org/event/erev-shabbat-celebration-9/2019-05-10/
CATEGORIES:Services
ATTACH;FMTTYPE=image/png:https://wakefieldtemple.org/wp-content/uploads/2017/03/shira.png
END:VEVENT
BEGIN:VEVENT
DTSTART;TZID=America/New_York:20190504T093000
DTEND;TZID=America/New_York:20190504T120000
DTSTAMP:20260425T184223
CREATED:20170424T200452Z
LAST-MODIFIED:20230919T152323Z
UID:10009798-1556962200-1556971200@wakefieldtemple.org
SUMMARY:Shabbat Morning Celebration Followed by Kiddush & Torah Study with Rabbi Greg
DESCRIPTION:
URL:https://wakefieldtemple.org/event/shabbat-morning-service-2-2018-06-02/2019-05-04/
CATEGORIES:Services
ATTACH;FMTTYPE=image/jpeg:https://wakefieldtemple.org/wp-content/uploads/2017/04/RABBI-guitaroct.2016.jpeg
END:VEVENT
BEGIN:VEVENT
DTSTART;TZID=America/New_York:20190503T193000
DTEND;TZID=America/New_York:20190503T210000
DTSTAMP:20260425T184223
CREATED:20170729T172800Z
LAST-MODIFIED:20190306T020552Z
UID:10010471-1556911800-1556917200@wakefieldtemple.org
SUMMARY:Yom haShoah Shabbat
DESCRIPTION:
URL:https://wakefieldtemple.org/event/erev-shabbat-celebration-9-2019-05-03/
CATEGORIES:Services
ATTACH;FMTTYPE=image/png:https://wakefieldtemple.org/wp-content/uploads/2017/03/shira.png
END:VEVENT
BEGIN:VEVENT
DTSTART;TZID=America/New_York:20190426T193000
DTEND;TZID=America/New_York:20190426T210000
DTSTAMP:20260425T184223
CREATED:20170729T172800Z
LAST-MODIFIED:20230919T152850Z
UID:10009934-1556307000-1556312400@wakefieldtemple.org
SUMMARY:Erev Shabbat Celebration
DESCRIPTION:
URL:https://wakefieldtemple.org/event/erev-shabbat-celebration-9/2019-04-26/
CATEGORIES:Services
ATTACH;FMTTYPE=image/png:https://wakefieldtemple.org/wp-content/uploads/2017/03/shira.png
END:VEVENT
BEGIN:VEVENT
DTSTART;TZID=America/New_York:20190412T193000
DTEND;TZID=America/New_York:20190412T210000
DTSTAMP:20260425T184223
CREATED:20170729T172800Z
LAST-MODIFIED:20230919T152850Z
UID:10009933-1555097400-1555102800@wakefieldtemple.org
SUMMARY:Erev Shabbat Celebration
DESCRIPTION:
URL:https://wakefieldtemple.org/event/erev-shabbat-celebration-9/2019-04-12/
CATEGORIES:Services
ATTACH;FMTTYPE=image/png:https://wakefieldtemple.org/wp-content/uploads/2017/03/shira.png
END:VEVENT
BEGIN:VEVENT
DTSTART;TZID=America/New_York:20190406T093000
DTEND;TZID=America/New_York:20190406T120000
DTSTAMP:20260425T184223
CREATED:20170424T200452Z
LAST-MODIFIED:20230919T152323Z
UID:10009797-1554543000-1554552000@wakefieldtemple.org
SUMMARY:Shabbat Morning Celebration Followed by Kiddush & Torah Study with Rabbi Greg
DESCRIPTION:
URL:https://wakefieldtemple.org/event/shabbat-morning-service-2-2018-06-02/2019-04-06/
CATEGORIES:Services
ATTACH;FMTTYPE=image/jpeg:https://wakefieldtemple.org/wp-content/uploads/2017/04/RABBI-guitaroct.2016.jpeg
END:VEVENT
BEGIN:VEVENT
DTSTART;TZID=America/New_York:20190405T193000
DTEND;TZID=America/New_York:20190405T210000
DTSTAMP:20260425T184223
CREATED:20170729T172800Z
LAST-MODIFIED:20230919T152850Z
UID:10009932-1554492600-1554498000@wakefieldtemple.org
SUMMARY:Erev Shabbat Celebration
DESCRIPTION:
URL:https://wakefieldtemple.org/event/erev-shabbat-celebration-9/2019-04-05/
CATEGORIES:Services
ATTACH;FMTTYPE=image/png:https://wakefieldtemple.org/wp-content/uploads/2017/03/shira.png
END:VEVENT
BEGIN:VEVENT
DTSTART;TZID=America/New_York:20190405T183000
DTEND;TZID=America/New_York:20190405T210000
DTSTAMP:20260425T184223
CREATED:20170615T204818Z
LAST-MODIFIED:20190310T193153Z
UID:10009972-1554489000-1554498000@wakefieldtemple.org
SUMMARY:Pot Luck Dinner Primer: Exodus From Russia
DESCRIPTION:  \nJOIN US FOR POT LUCK DINNER PRIMER: EXODUS FROM RUSSIA \n6:30-7:25 DINNER \n 7:30-8:00 SHABBAT SERVICE IN SANCTUARY \n 8:00-8:30 LOUIS VATMAN TELLS HIS STORY  \n8:30-8:45 Q&A WITH LOUIS \n  \nFRIDAY\, April 5 \nPLEASE RSVP TO \nSUSAN SILBOVITZ \nsbreger94@gmail.com \n919-605-0523 \nby April 3 \nVEGETARIAN/DAIRY/FISH \nPLEASE LET ME KNOW WHAT YOU WILL BE BRINGING: \nMAIN DISH or SIDE. \nCHALLAH\, DESSERTS & DRINKS PROVIDED \nBY THE TEMPLE \n  \n  \n 
URL:https://wakefieldtemple.org/event/pot-luck-dinner-followed-by-shabbat-shira-service-2017-11-10-2018-01-12-2019-04-05/
CATEGORIES:Services
ATTACH;FMTTYPE=image/jpeg:https://wakefieldtemple.org/wp-content/uploads/2017/07/21105498_1539208212784035_7371548905963491066_n.jpg
END:VEVENT
BEGIN:VEVENT
DTSTART;TZID=America/New_York:20190322T193000
DTEND;TZID=America/New_York:20190322T210000
DTSTAMP:20260425T184223
CREATED:20170729T172800Z
LAST-MODIFIED:20230919T152850Z
UID:10009931-1553283000-1553288400@wakefieldtemple.org
SUMMARY:Erev Shabbat Celebration
DESCRIPTION:
URL:https://wakefieldtemple.org/event/erev-shabbat-celebration-9/2019-03-22/
CATEGORIES:Services
ATTACH;FMTTYPE=image/png:https://wakefieldtemple.org/wp-content/uploads/2017/03/shira.png
END:VEVENT
BEGIN:VEVENT
DTSTART;TZID=America/New_York:20190316T093000
DTEND;TZID=America/New_York:20190316T120000
DTSTAMP:20260425T184223
CREATED:20170825T151229Z
LAST-MODIFIED:20230919T152327Z
UID:10010007-1552728600-1552737600@wakefieldtemple.org
SUMMARY:Shabbat Morning Celebration
DESCRIPTION:
URL:https://wakefieldtemple.org/event/shabbat-morning-celebration/2019-03-16/
CATEGORIES:Services
ATTACH;FMTTYPE=image/jpeg:https://wakefieldtemple.org/wp-content/uploads/2017/03/greg_g-e1501440366851.jpg
END:VEVENT
BEGIN:VEVENT
DTSTART;TZID=America/New_York:20190316T093000
DTEND;TZID=America/New_York:20190316T120000
DTSTAMP:20260425T184223
CREATED:20170825T151229Z
LAST-MODIFIED:20230919T152319Z
UID:10009967-1552728600-1552737600@wakefieldtemple.org
SUMMARY:Shabbat Morning Celebration
DESCRIPTION:
URL:https://wakefieldtemple.org/event/shabbat-morning-celebration-2018-06-16/2019-03-16/
CATEGORIES:Services
ATTACH;FMTTYPE=image/jpeg:https://wakefieldtemple.org/wp-content/uploads/2017/03/greg_g-e1501440366851.jpg
END:VEVENT
BEGIN:VEVENT
DTSTART;TZID=America/New_York:20190308T193000
DTEND;TZID=America/New_York:20190308T210000
DTSTAMP:20260425T184223
CREATED:20170729T172800Z
LAST-MODIFIED:20230919T152850Z
UID:10009930-1552073400-1552078800@wakefieldtemple.org
SUMMARY:Erev Shabbat Celebration
DESCRIPTION:
URL:https://wakefieldtemple.org/event/erev-shabbat-celebration-9/2019-03-08/
CATEGORIES:Services
ATTACH;FMTTYPE=image/png:https://wakefieldtemple.org/wp-content/uploads/2017/03/shira.png
END:VEVENT
BEGIN:VEVENT
DTSTART;TZID=America/New_York:20190302T093000
DTEND;TZID=America/New_York:20190302T120000
DTSTAMP:20260425T184223
CREATED:20170424T200452Z
LAST-MODIFIED:20190301T182538Z
UID:10009988-1551519000-1551528000@wakefieldtemple.org
SUMMARY:Shabbat Morning Celebration CANCELED due to weather forecast
DESCRIPTION:
URL:https://wakefieldtemple.org/event/shabbat-morning-service-2-2018-06-02-2019-03-02/
CATEGORIES:Services
ATTACH;FMTTYPE=image/jpeg:https://wakefieldtemple.org/wp-content/uploads/2017/04/RABBI-guitaroct.2016.jpeg
END:VEVENT
BEGIN:VEVENT
DTSTART;TZID=America/New_York:20190301T193000
DTEND;TZID=America/New_York:20190301T210000
DTSTAMP:20260425T184223
CREATED:20170729T172800Z
LAST-MODIFIED:20230919T152850Z
UID:10009929-1551468600-1551474000@wakefieldtemple.org
SUMMARY:Erev Shabbat Celebration
DESCRIPTION:
URL:https://wakefieldtemple.org/event/erev-shabbat-celebration-9/2019-03-01/
CATEGORIES:Services
ATTACH;FMTTYPE=image/png:https://wakefieldtemple.org/wp-content/uploads/2017/03/shira.png
END:VEVENT
END:VCALENDAR