BEGIN:VCALENDAR
VERSION:2.0
PRODID:-//Temple Emmanuel of Wakefield - ECPv6.15.20//NONSGML v1.0//EN
CALSCALE:GREGORIAN
METHOD:PUBLISH
X-WR-CALNAME:Temple Emmanuel of Wakefield
X-ORIGINAL-URL:https://wakefieldtemple.org
X-WR-CALDESC:Events for Temple Emmanuel of Wakefield
REFRESH-INTERVAL;VALUE=DURATION:PT1H
X-Robots-Tag:noindex
X-PUBLISHED-TTL:PT1H
BEGIN:VTIMEZONE
TZID:America/New_York
BEGIN:DAYLIGHT
TZOFFSETFROM:-0500
TZOFFSETTO:-0400
TZNAME:EDT
DTSTART:20160313T070000
END:DAYLIGHT
BEGIN:STANDARD
TZOFFSETFROM:-0400
TZOFFSETTO:-0500
TZNAME:EST
DTSTART:20161106T060000
END:STANDARD
BEGIN:DAYLIGHT
TZOFFSETFROM:-0500
TZOFFSETTO:-0400
TZNAME:EDT
DTSTART:20170312T070000
END:DAYLIGHT
BEGIN:STANDARD
TZOFFSETFROM:-0400
TZOFFSETTO:-0500
TZNAME:EST
DTSTART:20171105T060000
END:STANDARD
BEGIN:DAYLIGHT
TZOFFSETFROM:-0500
TZOFFSETTO:-0400
TZNAME:EDT
DTSTART:20180311T070000
END:DAYLIGHT
BEGIN:STANDARD
TZOFFSETFROM:-0400
TZOFFSETTO:-0500
TZNAME:EST
DTSTART:20181104T060000
END:STANDARD
BEGIN:DAYLIGHT
TZOFFSETFROM:-0500
TZOFFSETTO:-0400
TZNAME:EDT
DTSTART:20190310T070000
END:DAYLIGHT
BEGIN:STANDARD
TZOFFSETFROM:-0400
TZOFFSETTO:-0500
TZNAME:EST
DTSTART:20191103T060000
END:STANDARD
BEGIN:DAYLIGHT
TZOFFSETFROM:-0500
TZOFFSETTO:-0400
TZNAME:EDT
DTSTART:20200308T070000
END:DAYLIGHT
BEGIN:STANDARD
TZOFFSETFROM:-0400
TZOFFSETTO:-0500
TZNAME:EST
DTSTART:20201101T060000
END:STANDARD
BEGIN:DAYLIGHT
TZOFFSETFROM:-0500
TZOFFSETTO:-0400
TZNAME:EDT
DTSTART:20210314T070000
END:DAYLIGHT
BEGIN:STANDARD
TZOFFSETFROM:-0400
TZOFFSETTO:-0500
TZNAME:EST
DTSTART:20211107T060000
END:STANDARD
BEGIN:DAYLIGHT
TZOFFSETFROM:-0500
TZOFFSETTO:-0400
TZNAME:EDT
DTSTART:20220313T070000
END:DAYLIGHT
BEGIN:STANDARD
TZOFFSETFROM:-0400
TZOFFSETTO:-0500
TZNAME:EST
DTSTART:20221106T060000
END:STANDARD
BEGIN:DAYLIGHT
TZOFFSETFROM:-0500
TZOFFSETTO:-0400
TZNAME:EDT
DTSTART:20230312T070000
END:DAYLIGHT
BEGIN:STANDARD
TZOFFSETFROM:-0400
TZOFFSETTO:-0500
TZNAME:EST
DTSTART:20231105T060000
END:STANDARD
BEGIN:DAYLIGHT
TZOFFSETFROM:-0500
TZOFFSETTO:-0400
TZNAME:EDT
DTSTART:20240310T070000
END:DAYLIGHT
BEGIN:STANDARD
TZOFFSETFROM:-0400
TZOFFSETTO:-0500
TZNAME:EST
DTSTART:20241103T060000
END:STANDARD
BEGIN:DAYLIGHT
TZOFFSETFROM:-0500
TZOFFSETTO:-0400
TZNAME:EDT
DTSTART:20250309T070000
END:DAYLIGHT
BEGIN:STANDARD
TZOFFSETFROM:-0400
TZOFFSETTO:-0500
TZNAME:EST
DTSTART:20251102T060000
END:STANDARD
BEGIN:DAYLIGHT
TZOFFSETFROM:-0500
TZOFFSETTO:-0400
TZNAME:EDT
DTSTART:20260308T070000
END:DAYLIGHT
BEGIN:STANDARD
TZOFFSETFROM:-0400
TZOFFSETTO:-0500
TZNAME:EST
DTSTART:20261101T060000
END:STANDARD
END:VTIMEZONE
BEGIN:VEVENT
DTSTART;TZID=America/New_York:20250316T190000
DTEND;TZID=America/New_York:20250316T210000
DTSTAMP:20260425T112046
CREATED:20250113T143945Z
LAST-MODIFIED:20250306T173947Z
UID:10012431-1742151600-1742158800@wakefieldtemple.org
SUMMARY:Temple Reads: What We Will Become: A Mother\, a Son\, and a Journey of Transformation by Mimi Lemay
DESCRIPTION:Temple Reads: What We Will Become: A Mother\, a Son\, and a Journey of Transformation \nby Mimi Lemay \nSunday\, March 16 at 7:00 PM via Zoom\n\nJoin Temple Reads\nhttps://us02web.zoom.us/j/82882012097?pwd=ZSXwdfH8QiV2IqXUiBbAngUkz6ZJyb.1 \nMeeting ID: 828 8201 2097\nPasscode: 551009\n  \nA mother’s memoir of her transgender child’s odyssey\, and her journey outside the boundaries of the faith and culture that shaped her.\nFrom the age of two-and-a-half\, Jacob\, born “Em\,” adamantly told his family he was a boy. While his mother Mimi struggled to understand and come to terms with the fact that her child may be transgender\, she experienced a sense of déjà vu—the journey to uncover the source of her child’s inner turmoil unearthed ghosts from Mimi’s past and her own struggle to live an authentic life.    \n \nMimi was raised in an ultra-Orthodox Jewish family\, every aspect of her life dictated by ancient rules and her role as a woman largely preordained from cradle to grave. As a young woman\, Mimi wrestled with the demands of her faith and eventually made the painful decision to leave her religious community and the strict gender roles it upheld.\n \nHaving risen from the ashes of her former life\, Mimi was prepared to help her son forge a new one — at a time when there was little consensus on how best to help young transgender children. Dual narratives of faith and motherhood weave together to form a heartfelt portrait of an unforgettable family. Brimming with love and courage\, What We Will Become is a powerful testament to how painful events from the past can be redeemed to give us hope for the future. (Amazon)
URL:https://wakefieldtemple.org/event/temple-reads-what-will-we-become-a-mother-a-son-and-a-journey-of-transformation-by-mimi-lemay/
CATEGORIES:Book Club
END:VEVENT
BEGIN:VEVENT
DTSTART;TZID=America/New_York:20250112T190000
DTEND;TZID=America/New_York:20250112T203000
DTSTAMP:20260425T112046
CREATED:20241105T131511Z
LAST-MODIFIED:20241215T170130Z
UID:10012418-1736708400-1736713800@wakefieldtemple.org
SUMMARY:Temple Reads: Kantika by Elizabeth Graver
DESCRIPTION:Kantika\nby Elizabeth Graver \nSunday January 12 at 7:00 PM via Zoom \nJoin Temple Reads\nhttps://us02web.zoom.us/j/83712160257?pwd=PaRCHyAn4UKgurlgWg1rv0gT1OdYS3.1 \nMeeting ID: 837 1216 0257\nPasscode: 967104 \nA dazzling Sephardic multigenerational saga that moves from Istanbul to Barcelona\, Havana\, and New York\, exploring displacement\, endurance\, and family as home. \nA kaleidoscopic portrait of one family’s displacement across four countries\, Kantika—“song” in Ladino—follows the joys and losses of Rebecca Cohen\, feisty daughter of the Sephardic elite of early 20th-century Istanbul. When the Cohens lose their wealth and are forced to move to Barcelona and start anew\, Rebecca fashions a life and self from what comes her way—a failed marriage\, the need to earn a living\, but also passion\, pleasure and motherhood. Moving from Spain to Cuba to New York for an arranged second marriage\, she faces her greatest challenge—her disabled stepdaughter\, Luna\, whose feistiness equals her own and whose challenges pit new family against old. \nExploring identity\, place and exile\, Kantika also reveals how the female body—in work\, art and love—serves as a site of both suffering and joy. A haunting\, inspiring meditation on the tenacity of women\, this lush\, lyrical novel from Elizabeth Graver celebrates the insistence on seizing beauty and grabbing hold of one’s one and only life.
URL:https://wakefieldtemple.org/event/temple-reads-kantika-by-elizabeth-graver/
CATEGORIES:Book Club
END:VEVENT
BEGIN:VEVENT
DTSTART;TZID=America/New_York:20241103T190000
DTEND;TZID=America/New_York:20241103T210000
DTSTAMP:20260425T112046
CREATED:20240912T203030Z
LAST-MODIFIED:20240913T174712Z
UID:10012350-1730660400-1730667600@wakefieldtemple.org
SUMMARY:Temple Reads: Waking Lions by Ayelet Gundar-Goshen
DESCRIPTION:Waking Lions by Ayelet Gundar-Goshen\nSunday November 3 at 7:00 PM via Zoom\nJoin Temple Reads\nhttps://us02web.zoom.us/j/89137678791?pwd=kcb3bEb5gstSSSw6rhFUtAJbzjn2r8.1\nMeeting ID: 891 3767 8791\nPasscode: 017037\nAfter one night’s deadly mistake\, a man will go to any lengths to save his family and his reputation. \nNeurosurgeon Eitan Green has the perfect life — married to a beautiful police officer and father of two young boys. Then\, speeding along a deserted moonlit road after an exhausting hospital shift\, he hits someone. Seeing that the man\, an African migrant\, is beyond help\, he flees the scene. \nWhen the victim’s widow knocks at Eitan’s door the next day\, holding his wallet and divulging that she knows what happened\, Eitan discovers that her price for silence is not money. It is something else entirely\, something that will shatter Eitan’s safe existence and take him into a world of secrets and lies he could never have anticipated. \nWaking Lions is a gripping\, suspenseful\, and morally devastating drama of guilt and survival\, shame and desire from a remarkable young author on the rise. (Amazon)\nVersion 1.0.0 \n 
URL:https://wakefieldtemple.org/event/temple-reads-waking-lions-by-ayelet-gundar-goshen-2/
CATEGORIES:Book Club
END:VEVENT
BEGIN:VEVENT
DTSTART;TZID=America/New_York:20240824T080000
DTEND;TZID=America/New_York:20240824T170000
DTSTAMP:20260425T112046
CREATED:20240824T235529Z
LAST-MODIFIED:20240824T235529Z
UID:10012313-1724486400-1724518800@wakefieldtemple.org
SUMMARY:Temple Reads: Waking Lions by Ayelet Gundar-Goshen
DESCRIPTION:Temple Reads: Waking Lions\nby Eyelet Gundar-Goshen\nSunday\, November 3 via Zoom\nAfter one night’s deadly mistake\, a man will go to any lengths to save his family and his reputation.  \nNeurosurgeon Eitan Green has the perfect life — married to a beautiful police officer and father of two young boys. Then\, speeding along a deserted moonlit road after an exhausting hospital shift\, he hits someone. Seeing that the man\, an African migrant\, is beyond help\, he flees the scene.  \nWhen the victim’s widow knocks at Eitan’s door the next day\, holding his wallet and divulging that she knows what happened\, Eitan discovers that her price for silence is not money. It is something else entirely\, something that will shatter Eitan’s safe existence and take him into a world of secrets and lies he could never have anticipated.  \nWaking Lions is a gripping\, suspenseful\, and morally devastating drama of guilt and survival\, shame and desire from a remarkable young author on the rise. (Amazon)\nVersion 1.0.0
URL:https://wakefieldtemple.org/event/temple-reads-waking-lions-by-ayelet-gundar-goshen/
CATEGORIES:Book Club
END:VEVENT
BEGIN:VEVENT
DTSTART;TZID=America/New_York:20240623T190000
DTEND;TZID=America/New_York:20240623T210000
DTSTAMP:20260425T112046
CREATED:20240512T163007Z
LAST-MODIFIED:20240603T095832Z
UID:10012070-1719169200-1719176400@wakefieldtemple.org
SUMMARY:Temple Reads: Shanda\, A Memoir of Shame and Secrecy\, by Letty Cottin Pogrebin
DESCRIPTION:Shanda\, A Memoir of Shame and Secrecy\n by Letty Cottin Pogrebin\nAn intimate memoir from a founding editor of Ms. magazine who grew up in a Jewish immigrant family mired in secrets\, haunted by their dread of shame and stigma\, determined to hide their every imperfection—and in denial or despair when they couldn’t. \n“A frank and often amusing tabulation of well-kept family secrets… a story of high-stakes melodrama and surreptitious relations\, in which runaway brides\, false marriages\, lost children and other moral crises abound. But there is more here than mishegas.” —Jake Nevins\, New York Times\n“The richness of Pogrebin’s stories\, the complexity and beauty of her storytelling\, and her devastatingly honest soul-baring make Shanda a powerfully stunning piece of life and art.”\n—Mayim Bialik\, actor\, author\, neuroscientist\, and co-host of Jeopardy (from Amazon) \nJune 23\, 7:00 PM via Zoom\nJoin Temple Reads\nhttps://us02web.zoom.us/j/85821255091?pwd=3isPe6UkWZfMuZINkbYvrvvEIXakSW.1\nMeeting ID: 858 2125 5091\nPasscode: 416707
URL:https://wakefieldtemple.org/event/temple-reads-shanda-a-memoir-of-shame-and-secrecy-by-letty-cottin-pogrebin/
CATEGORIES:Book Club
END:VEVENT
BEGIN:VEVENT
DTSTART;TZID=America/New_York:20240505T190000
DTEND;TZID=America/New_York:20240505T210000
DTSTAMP:20260425T112046
CREATED:20240305T151836Z
LAST-MODIFIED:20240406T170524Z
UID:10012048-1714935600-1714942800@wakefieldtemple.org
SUMMARY:Temple Reads: The Heaven & Earth Grocery Store by James Mc Bride
DESCRIPTION:The Heaven & Earth Grocery Store \nby James Mc Bride \n Sunday May 5 at 7:00 PM via Zoom \nIn 1972\, when workers in Pottstown\, Pennsylvania\, were digging the foundations for a new development\, the last thing they expected to find was a skeleton at the bottom of a well. Who the skeleton was and how it got there were two of the long-held secrets kept by the residents of Chicken Hill\, the dilapidated neighborhood where immigrant Jews and African Americans lived side by side and shared ambitions and sorrows. Chicken Hill was where Moshe and Chona Ludlow lived when Moshe integrated his theater and where Chona ran the Heaven & Earth Grocery Store. When the state came looking for a deaf boy to institutionalize him\, it was Chona and Nate Timblin\, the Black janitor at Moshe’s theater and the unofficial leader of the Black community on Chicken Hill\, who worked together to keep the boy safe. \nAs these characters’ stories overlap and deepen\, it becomes clear how much the people who live on the margins of white\, Christian America struggle and what they must do to survive. When the truth is finally revealed about what happened on Chicken Hill and the part the town’s white establishment played in it\, McBride shows us that even in dark times\, it is love and community—heaven and earth—that sustain us. \nBringing his masterly storytelling skills and his deep faith in humanity to The Heaven & Earth Grocery Store\, James McBride has written a novel as compassionate as Deacon King Kong and as inventive as The Good Lord Bird. (Amazon) \nJoin Zoom Meeting\nhttps://us02web.zoom.us/j/86193325948?pwd=N2w4emdZbTBja1ZBWUl2WnhoS1Rodz09 \nMeeting ID: 861 9332 5948\nPasscode: 807788 \n 
URL:https://wakefieldtemple.org/event/temple-reads-the-heaven-and-earth-grocery-store-by-james-mc-bride/
CATEGORIES:Book Club
END:VEVENT
BEGIN:VEVENT
DTSTART;TZID=America/New_York:20240218T190000
DTEND;TZID=America/New_York:20240218T210000
DTSTAMP:20260425T112046
CREATED:20231219T130045Z
LAST-MODIFIED:20240110T114908Z
UID:10012034-1708282800-1708290000@wakefieldtemple.org
SUMMARY:Temple Reads: The Wind Knows My Name by Isabel Allende
DESCRIPTION:The Wind Knows My Name\nby Isabel Allende\nSunday\, February 18 at 7:00 PM via Zoom \nJoin Zoom Meeting\nhttps://us02web.zoom.us/j/87237819206?pwd=MWhuYU94N210L3BTRnNNRjZBY3RQdz09 \nMeeting ID: 872 3781 9206\nPasscode: 353864 \nVienna\, 1938. Samuel Adler is five years old when his father disappears during Kristallnacht—the night his family loses everything. As her child’s safety becomes ever harder to guarantee\, Samuel’s mother secures a spot for him on a Kindertransport train out of Nazi-occupied Austria to England. He boards alone\, carrying nothing but a change of clothes and his violin. \nArizona\, 2019. Eight decades later\, Anita Díaz and her mother board another train\, fleeing looming danger in El Salvador and seeking refuge in the United States. But their arrival coincides with the new family separation policy\, and seven-year-old Anita finds herself alone at a camp in Nogales. She escapes her tenuous reality through her trips to Azabahar\, a magical world of the imagination. Meanwhile\, Selena Durán\, a young social worker\, enlists the help of a successful lawyer in hopes of tracking down Anita’s mother. \nIntertwining past and present\, The Wind Knows My Name tells the tale of these two unforgettable characters\, both in search of family and home. It is both a testament to the sacrifices that parents make and a love letter to the children who survive the most unfathomable dangers—and never stop dreaming. (Amazon)
URL:https://wakefieldtemple.org/event/temple-reads-the-wind-knows-my-name-by-isabel-allende/
CATEGORIES:Book Club
END:VEVENT
BEGIN:VEVENT
DTSTART;TZID=America/New_York:20240204T160000
DTEND;TZID=America/New_York:20240204T200000
DTSTAMP:20260425T112046
CREATED:20230627T150455Z
LAST-MODIFIED:20240109T193158Z
UID:10011906-1707062400-1707076800@wakefieldtemple.org
SUMMARY:Sisterhood Movie & Pizza Night
DESCRIPTION:MOVIE: SIMCHAS and SORROWS\nHybrid for 2024. Watch at home or at Liz’s house\nAvailable on Prime video and other options\n  \nSUNDAY\, FEBRUARY 4 2024\n4:00 – Joe’s Pizza & Salad & Dessert\n5:00 – MOVIE: SIMCHAS and SORROWS\nEven if you’ve seen this film already\, come enjoy the company\n7:00 – DISCUSSION\, LIVE AND ON ZOOM\n\nJoin Zoom Meeting\nhttps://us02web.zoom.us/j/82145118599?pwd=aDZFVjIybVBMUVo5NFk0cjRUdTRIZz09\nMeeting ID: 821 4511 8599\nPasscode: 427953\n  \nSimchas and Sorrows is an independent romantic comedy about a\nsecular\, free-spirited artist and former Catholic schoolgirl\, Agnes\, who must\ncome to terms with religion in order to marry the love of her life – Levi.\nShocked by a surprise pregnancy\, the earnest Agnes decides to begin\nconverting to Judaism\, in order to be accepted by Levi’s more conservative\nJewish family.  The film explores an evolving\, modern Judaism\, orthodoxies\nand hypocrisy\, sibling rivalry\, modern love\, mental illness\, artistic\ninheritance\, and anti-semitism. In other words\, something for everyone.\nLocation: Liz Freeman’s house\, 8 Dexter Lane\, Wakefield\n  \nRSVP: Lindentree85@comcast.net\nOr call Liz 781-246-2836 to reserve your seat by Feb 1\n  \nFree – we have the menu covered – just bring yourself!
URL:https://wakefieldtemple.org/event/sisterhood-movie-pizza-night/
CATEGORIES:Book Club,Sisterhood
END:VEVENT
BEGIN:VEVENT
DTSTART;TZID=America/New_York:20171029T180000
DTEND;TZID=America/New_York:20171029T193000
DTSTAMP:20260425T112046
CREATED:20170613T195947Z
LAST-MODIFIED:20171005T204737Z
UID:10009896-1509300000-1509305400@wakefieldtemple.org
SUMMARY:Temple Reads
DESCRIPTION:Saving Sophie by Ronald Balson
URL:https://wakefieldtemple.org/event/temple-reads-3/
CATEGORIES:Book Club
ATTACH;FMTTYPE=image/jpeg:https://wakefieldtemple.org/wp-content/uploads/2017/06/17a179c9-f82a-4da9-be02-54dfdbd3510e.jpg
END:VEVENT
BEGIN:VEVENT
DTSTART;TZID=America/New_York:20170521T180000
DTEND;TZID=America/New_York:20170521T203000
DTSTAMP:20260425T112046
CREATED:20170320T024433Z
LAST-MODIFIED:20170628T225359Z
UID:10009734-1495389600-1495398600@wakefieldtemple.org
SUMMARY:Temple Reads
DESCRIPTION:The Ice Cream Queen of Orchard Street
URL:https://wakefieldtemple.org/event/temple-reads/
LOCATION:120 Chestnut St\, Wakefield\, MA\, 01880\, United States
CATEGORIES:Book Club
ATTACH;FMTTYPE=image/jpeg:https://wakefieldtemple.org/wp-content/uploads/2017/03/book-club-clip-art-e1498694100721.jpeg
GEO:42.5015473;-71.0847942
X-APPLE-STRUCTURED-LOCATION;VALUE=URI;X-ADDRESS=120 Chestnut St Wakefield MA 01880 United States;X-APPLE-RADIUS=500;X-TITLE=120 Chestnut St:geo:-71.0847942,42.5015473
END:VEVENT
END:VCALENDAR