BEGIN:VCALENDAR
VERSION:2.0
PRODID:-//Temple Emmanuel of Wakefield - ECPv6.15.20//NONSGML v1.0//EN
CALSCALE:GREGORIAN
METHOD:PUBLISH
X-ORIGINAL-URL:https://wakefieldtemple.org
X-WR-CALDESC:Events for Temple Emmanuel of Wakefield
REFRESH-INTERVAL;VALUE=DURATION:PT1H
X-Robots-Tag:noindex
X-PUBLISHED-TTL:PT1H
BEGIN:VTIMEZONE
TZID:America/New_York
BEGIN:DAYLIGHT
TZOFFSETFROM:-0500
TZOFFSETTO:-0400
TZNAME:EDT
DTSTART:20250309T070000
END:DAYLIGHT
BEGIN:STANDARD
TZOFFSETFROM:-0400
TZOFFSETTO:-0500
TZNAME:EST
DTSTART:20251102T060000
END:STANDARD
BEGIN:DAYLIGHT
TZOFFSETFROM:-0500
TZOFFSETTO:-0400
TZNAME:EDT
DTSTART:20260308T070000
END:DAYLIGHT
BEGIN:STANDARD
TZOFFSETFROM:-0400
TZOFFSETTO:-0500
TZNAME:EST
DTSTART:20261101T060000
END:STANDARD
BEGIN:DAYLIGHT
TZOFFSETFROM:-0500
TZOFFSETTO:-0400
TZNAME:EDT
DTSTART:20270314T070000
END:DAYLIGHT
BEGIN:STANDARD
TZOFFSETFROM:-0400
TZOFFSETTO:-0500
TZNAME:EST
DTSTART:20271107T060000
END:STANDARD
END:VTIMEZONE
BEGIN:VEVENT
DTSTART;TZID=America/New_York:20260118T100000
DTEND;TZID=America/New_York:20260118T120000
DTSTAMP:20260423T174908
CREATED:20251112T184011Z
LAST-MODIFIED:20260114T012704Z
UID:10012819-1768730400-1768737600@wakefieldtemple.org
SUMMARY:Bagels & Coffee
DESCRIPTION:Exercise Your Rights!\nLet’s make protest signs – posters and markers will be supplied!
URL:https://wakefieldtemple.org/event/bagels-coffee-3/
END:VEVENT
END:VCALENDAR