BEGIN:VCALENDAR
VERSION:2.0
PRODID:-//Temple Emmanuel of Wakefield - ECPv6.15.20//NONSGML v1.0//EN
CALSCALE:GREGORIAN
METHOD:PUBLISH
X-WR-CALNAME:Temple Emmanuel of Wakefield
X-ORIGINAL-URL:https://wakefieldtemple.org
X-WR-CALDESC:Events for Temple Emmanuel of Wakefield
REFRESH-INTERVAL;VALUE=DURATION:PT1H
X-Robots-Tag:noindex
X-PUBLISHED-TTL:PT1H
BEGIN:VTIMEZONE
TZID:America/New_York
BEGIN:DAYLIGHT
TZOFFSETFROM:-0500
TZOFFSETTO:-0400
TZNAME:EDT
DTSTART:20250309T070000
END:DAYLIGHT
BEGIN:STANDARD
TZOFFSETFROM:-0400
TZOFFSETTO:-0500
TZNAME:EST
DTSTART:20251102T060000
END:STANDARD
BEGIN:DAYLIGHT
TZOFFSETFROM:-0500
TZOFFSETTO:-0400
TZNAME:EDT
DTSTART:20260308T070000
END:DAYLIGHT
BEGIN:STANDARD
TZOFFSETFROM:-0400
TZOFFSETTO:-0500
TZNAME:EST
DTSTART:20261101T060000
END:STANDARD
BEGIN:DAYLIGHT
TZOFFSETFROM:-0500
TZOFFSETTO:-0400
TZNAME:EDT
DTSTART:20270314T070000
END:DAYLIGHT
BEGIN:STANDARD
TZOFFSETFROM:-0400
TZOFFSETTO:-0500
TZNAME:EST
DTSTART:20271107T060000
END:STANDARD
END:VTIMEZONE
BEGIN:VEVENT
DTSTART;TZID=America/New_York:20260106T123000
DTEND;TZID=America/New_York:20260106T133000
DTSTAMP:20260423T174557
CREATED:20251105T184958Z
LAST-MODIFIED:20260109T172559Z
UID:10012765-1767702600-1767706200@wakefieldtemple.org
SUMMARY:Lunch & Learn Torah & Midrash - Miriam
DESCRIPTION:We will explore central midrashic teachings about Miriam’s gifts of healing\, leadership\, and music.\n\nJoin Lunch & Learn\nhttps://us05web.zoom.us/j/8308912968?pwd=NspIL2UhrALNiikL4yIkhurXsxEP5q.1&omn=82395049873\nMeeting ID: 830 891 2968\nPasscode: 9x3fVf\n 
URL:https://wakefieldtemple.org/event/lunch-learn-torah-midrash-on-miriam/
END:VEVENT
BEGIN:VEVENT
DTSTART;TZID=America/New_York:20260106T153000
DTEND;TZID=America/New_York:20260106T180000
DTSTAMP:20260423T174557
CREATED:20251108T192618Z
LAST-MODIFIED:20251108T192619Z
UID:10012801-1767713400-1767722400@wakefieldtemple.org
SUMMARY:CHAI School Classes
DESCRIPTION:
URL:https://wakefieldtemple.org/event/chai-school-classes/2026-01-06/
END:VEVENT
BEGIN:VEVENT
DTSTART;TZID=America/New_York:20260106T193000
DTEND;TZID=America/New_York:20260106T210000
DTSTAMP:20260423T174557
CREATED:20250322T134903Z
LAST-MODIFIED:20250322T135225Z
UID:10012512-1767727800-1767733200@wakefieldtemple.org
SUMMARY:Ritual Committee Meeting
DESCRIPTION:
URL:https://wakefieldtemple.org/event/ritual-committee-meeting-23/2026-01-06/
END:VEVENT
END:VCALENDAR