BEGIN:VCALENDAR
VERSION:2.0
PRODID:-//Temple Emmanuel of Wakefield - ECPv6.15.20//NONSGML v1.0//EN
CALSCALE:GREGORIAN
METHOD:PUBLISH
X-ORIGINAL-URL:https://wakefieldtemple.org
X-WR-CALDESC:Events for Temple Emmanuel of Wakefield
REFRESH-INTERVAL;VALUE=DURATION:PT1H
X-Robots-Tag:noindex
X-PUBLISHED-TTL:PT1H
BEGIN:VTIMEZONE
TZID:America/New_York
BEGIN:DAYLIGHT
TZOFFSETFROM:-0500
TZOFFSETTO:-0400
TZNAME:EDT
DTSTART:20250309T070000
END:DAYLIGHT
BEGIN:STANDARD
TZOFFSETFROM:-0400
TZOFFSETTO:-0500
TZNAME:EST
DTSTART:20251102T060000
END:STANDARD
BEGIN:DAYLIGHT
TZOFFSETFROM:-0500
TZOFFSETTO:-0400
TZNAME:EDT
DTSTART:20260308T070000
END:DAYLIGHT
BEGIN:STANDARD
TZOFFSETFROM:-0400
TZOFFSETTO:-0500
TZNAME:EST
DTSTART:20261101T060000
END:STANDARD
BEGIN:DAYLIGHT
TZOFFSETFROM:-0500
TZOFFSETTO:-0400
TZNAME:EDT
DTSTART:20270314T070000
END:DAYLIGHT
BEGIN:STANDARD
TZOFFSETFROM:-0400
TZOFFSETTO:-0500
TZNAME:EST
DTSTART:20271107T060000
END:STANDARD
END:VTIMEZONE
BEGIN:VEVENT
DTSTART;TZID=America/New_York:20260104T110000
DTEND;TZID=America/New_York:20260104T120000
DTSTAMP:20260423T174908
CREATED:20251225T193107Z
LAST-MODIFIED:20251230T183401Z
UID:10012714-1767524400-1767528000@wakefieldtemple.org
SUMMARY:Sisterhood Sunday Walkers CANCELLED
DESCRIPTION:When: Sunday January 4\, 2026 weather permitting\nTime: 11:00 AM\nWhere: Breakheart Reservation\nMeeting location: Northeast Regional High School\, 100 Hemlock Rd\, Wakefield.\nParking: Parking lot in front of the building. Please note that there is construction going on\, a new school\, but parking is still available\nRSVP: Sue Hochberg shochberg.sh@gmail.com. Please let me know if you are coming so we don’t leave without you.\nTrail information: 3 mile paved loop\, hilly in places\, rest area/bathroom 1/2 way.\nSue H’s Cell: 781-258-7760
URL:https://wakefieldtemple.org/event/sisterhood-sunday-walkers-11-11-6/
CATEGORIES:Sisterhood
END:VEVENT
END:VCALENDAR