BEGIN:VCALENDAR
VERSION:2.0
PRODID:-//Temple Emmanuel of Wakefield - ECPv6.15.20//NONSGML v1.0//EN
CALSCALE:GREGORIAN
METHOD:PUBLISH
X-WR-CALNAME:Temple Emmanuel of Wakefield
X-ORIGINAL-URL:https://wakefieldtemple.org
X-WR-CALDESC:Events for Temple Emmanuel of Wakefield
REFRESH-INTERVAL;VALUE=DURATION:PT1H
X-Robots-Tag:noindex
X-PUBLISHED-TTL:PT1H
BEGIN:VTIMEZONE
TZID:America/New_York
BEGIN:DAYLIGHT
TZOFFSETFROM:-0500
TZOFFSETTO:-0400
TZNAME:EDT
DTSTART:20240310T070000
END:DAYLIGHT
BEGIN:STANDARD
TZOFFSETFROM:-0400
TZOFFSETTO:-0500
TZNAME:EST
DTSTART:20241103T060000
END:STANDARD
BEGIN:DAYLIGHT
TZOFFSETFROM:-0500
TZOFFSETTO:-0400
TZNAME:EDT
DTSTART:20250309T070000
END:DAYLIGHT
BEGIN:STANDARD
TZOFFSETFROM:-0400
TZOFFSETTO:-0500
TZNAME:EST
DTSTART:20251102T060000
END:STANDARD
BEGIN:DAYLIGHT
TZOFFSETFROM:-0500
TZOFFSETTO:-0400
TZNAME:EDT
DTSTART:20260308T070000
END:DAYLIGHT
BEGIN:STANDARD
TZOFFSETFROM:-0400
TZOFFSETTO:-0500
TZNAME:EST
DTSTART:20261101T060000
END:STANDARD
END:VTIMEZONE
BEGIN:VEVENT
DTSTART;VALUE=DATE:20251214
DTEND;VALUE=DATE:20251215
DTSTAMP:20260423T190937
CREATED:20250321T192400Z
LAST-MODIFIED:20250321T192401Z
UID:10012452-1765670400-1765756799@wakefieldtemple.org
SUMMARY:Chanukah\, First Night
DESCRIPTION:
URL:https://wakefieldtemple.org/event/chanukah-first-night-7/
END:VEVENT
BEGIN:VEVENT
DTSTART;TZID=America/New_York:20251214T103000
DTEND;TZID=America/New_York:20251214T120000
DTSTAMP:20260423T190937
CREATED:20250625T142706Z
LAST-MODIFIED:20251124T135427Z
UID:10012679-1765708200-1765713600@wakefieldtemple.org
SUMMARY:CHAI School Chanukah Festival
DESCRIPTION:
URL:https://wakefieldtemple.org/event/chai-school-chanukah-festival/
END:VEVENT
BEGIN:VEVENT
DTSTART;TZID=America/New_York:20251214T170000
DTEND;TZID=America/New_York:20251214T170000
DTSTAMP:20260423T190937
CREATED:20251210T103744Z
LAST-MODIFIED:20251210T103824Z
UID:10012829-1765731600-1765731600@wakefieldtemple.org
SUMMARY:Reading's Annual Community Menorah Lighting
DESCRIPTION:
URL:https://wakefieldtemple.org/event/readings-annual-community-menorah-lighting/
END:VEVENT
END:VCALENDAR