BEGIN:VCALENDAR
VERSION:2.0
PRODID:-//Temple Emmanuel of Wakefield - ECPv6.15.20//NONSGML v1.0//EN
CALSCALE:GREGORIAN
METHOD:PUBLISH
X-WR-CALNAME:Temple Emmanuel of Wakefield
X-ORIGINAL-URL:https://wakefieldtemple.org
X-WR-CALDESC:Events for Temple Emmanuel of Wakefield
REFRESH-INTERVAL;VALUE=DURATION:PT1H
X-Robots-Tag:noindex
X-PUBLISHED-TTL:PT1H
BEGIN:VTIMEZONE
TZID:America/New_York
BEGIN:DAYLIGHT
TZOFFSETFROM:-0500
TZOFFSETTO:-0400
TZNAME:EDT
DTSTART:20240310T070000
END:DAYLIGHT
BEGIN:STANDARD
TZOFFSETFROM:-0400
TZOFFSETTO:-0500
TZNAME:EST
DTSTART:20241103T060000
END:STANDARD
BEGIN:DAYLIGHT
TZOFFSETFROM:-0500
TZOFFSETTO:-0400
TZNAME:EDT
DTSTART:20250309T070000
END:DAYLIGHT
BEGIN:STANDARD
TZOFFSETFROM:-0400
TZOFFSETTO:-0500
TZNAME:EST
DTSTART:20251102T060000
END:STANDARD
BEGIN:DAYLIGHT
TZOFFSETFROM:-0500
TZOFFSETTO:-0400
TZNAME:EDT
DTSTART:20260308T070000
END:DAYLIGHT
BEGIN:STANDARD
TZOFFSETFROM:-0400
TZOFFSETTO:-0500
TZNAME:EST
DTSTART:20261101T060000
END:STANDARD
END:VTIMEZONE
BEGIN:VEVENT
DTSTART;TZID=America/New_York:20251116T140000
DTEND;TZID=America/New_York:20251116T160000
DTSTAMP:20260423T202119
CREATED:20250625T143647Z
LAST-MODIFIED:20251018T132908Z
UID:10012686-1763301600-1763308800@wakefieldtemple.org
SUMMARY:Linden Tree Concerts Presents Curt Bessette and Jenn Kurtz - Tribute to our Veterans
DESCRIPTION:This show for all will surprise you\, make you laugh\, and make you glad that you came. \nTemple Emmanuel\, 120 Chestnut St. Wakefield\n Sunday\, November 16 – 2 to 4 PM\n Doors open at 1:30 PM\n            Linden Tree favorites\, Maine’s Curt Bessette and Jenn Kurtz return to our stage to entertain with songs and stories from their Veterans Tribute Concerts celebrating the men and women who served in all wars. Many songs were written by Curt\, whose father served in the Navy. The concert will also feature them singing favorite songs and stories from their other recordings.\n            Curt Bessette is an award winning singer songwriter who has performed across the United States in concerts and festivals. Jenn Kurtz is celebrated as an amazing harmony singer and arranger and is always available to answer questions about her home state of Missouri.  \n            Veterans might remember Curt and Jenn were here at Temple Emmanuel with their Veteran’s program with funds donated to the building of Wakefield Veteran’s Memorial. Curt and Jenn have a new song of theirs called\, “I’m Not Me Anymore” about PTSD.  Part of the proceeds will be donated to Veteran service organizations.\n            Admission is $25\,  $10 for those under 18.  VETERANS also $10. \nReserve your seat: 978-326-7905. Cash or check at the door. \nLinden Tree Concerts are at Temple Emmanuel\, 120 Chestnut St. Wakefield\, MA\nwww.LindenTreeCoffeehouse.org.   
URL:https://wakefieldtemple.org/event/linden-tree-concert-2/
END:VEVENT
END:VCALENDAR