BEGIN:VCALENDAR
VERSION:2.0
PRODID:-//Temple Emmanuel of Wakefield - ECPv6.15.20//NONSGML v1.0//EN
CALSCALE:GREGORIAN
METHOD:PUBLISH
X-WR-CALNAME:Temple Emmanuel of Wakefield
X-ORIGINAL-URL:https://wakefieldtemple.org
X-WR-CALDESC:Events for Temple Emmanuel of Wakefield
REFRESH-INTERVAL;VALUE=DURATION:PT1H
X-Robots-Tag:noindex
X-PUBLISHED-TTL:PT1H
BEGIN:VTIMEZONE
TZID:America/New_York
BEGIN:DAYLIGHT
TZOFFSETFROM:-0500
TZOFFSETTO:-0400
TZNAME:EDT
DTSTART:20240310T070000
END:DAYLIGHT
BEGIN:STANDARD
TZOFFSETFROM:-0400
TZOFFSETTO:-0500
TZNAME:EST
DTSTART:20241103T060000
END:STANDARD
BEGIN:DAYLIGHT
TZOFFSETFROM:-0500
TZOFFSETTO:-0400
TZNAME:EDT
DTSTART:20250309T070000
END:DAYLIGHT
BEGIN:STANDARD
TZOFFSETFROM:-0400
TZOFFSETTO:-0500
TZNAME:EST
DTSTART:20251102T060000
END:STANDARD
BEGIN:DAYLIGHT
TZOFFSETFROM:-0500
TZOFFSETTO:-0400
TZNAME:EDT
DTSTART:20260308T070000
END:DAYLIGHT
BEGIN:STANDARD
TZOFFSETFROM:-0400
TZOFFSETTO:-0500
TZNAME:EST
DTSTART:20261101T060000
END:STANDARD
END:VTIMEZONE
BEGIN:VEVENT
DTSTART;TZID=America/New_York:20251109T110000
DTEND;TZID=America/New_York:20251109T120000
DTSTAMP:20260423T202116
CREATED:20251026T180423Z
LAST-MODIFIED:20251026T180423Z
UID:10012712-1762686000-1762689600@wakefieldtemple.org
SUMMARY:Sisterhood Sunday Walkers
DESCRIPTION:When: Sunday November 9\, 2025 weather permitting\nTime: 11:00 AM\nWhere: Breakheart Reservation\nMeeting location: Northeast Regional High School 100 Hemlock Rd. Wakefield.\nParking:  Parking lot in front of the building. Please note that there is construction going on\, a new school\, but parking is still available\nRSVP: Sue Hochberg shochberg.sh@gmail.com. Please let me know if you are coming so we don’t leave without you.\nTrail information: 3 mile paved loop\, hilly in places\, rest area/bathroom 1/2 way.\nSue H’s Cell: 781-258-7760
URL:https://wakefieldtemple.org/event/sisterhood-sunday-walkers-11-11-4/
CATEGORIES:Sisterhood
END:VEVENT
END:VCALENDAR