BEGIN:VCALENDAR
VERSION:2.0
PRODID:-//Temple Emmanuel of Wakefield - ECPv6.15.20//NONSGML v1.0//EN
CALSCALE:GREGORIAN
METHOD:PUBLISH
X-ORIGINAL-URL:https://wakefieldtemple.org
X-WR-CALDESC:Events for Temple Emmanuel of Wakefield
REFRESH-INTERVAL;VALUE=DURATION:PT1H
X-Robots-Tag:noindex
X-PUBLISHED-TTL:PT1H
BEGIN:VTIMEZONE
TZID:America/New_York
BEGIN:DAYLIGHT
TZOFFSETFROM:-0500
TZOFFSETTO:-0400
TZNAME:EDT
DTSTART:20240310T070000
END:DAYLIGHT
BEGIN:STANDARD
TZOFFSETFROM:-0400
TZOFFSETTO:-0500
TZNAME:EST
DTSTART:20241103T060000
END:STANDARD
BEGIN:DAYLIGHT
TZOFFSETFROM:-0500
TZOFFSETTO:-0400
TZNAME:EDT
DTSTART:20250309T070000
END:DAYLIGHT
BEGIN:STANDARD
TZOFFSETFROM:-0400
TZOFFSETTO:-0500
TZNAME:EST
DTSTART:20251102T060000
END:STANDARD
BEGIN:DAYLIGHT
TZOFFSETFROM:-0500
TZOFFSETTO:-0400
TZNAME:EDT
DTSTART:20260308T070000
END:DAYLIGHT
BEGIN:STANDARD
TZOFFSETFROM:-0400
TZOFFSETTO:-0500
TZNAME:EST
DTSTART:20261101T060000
END:STANDARD
END:VTIMEZONE
BEGIN:VEVENT
DTSTART;TZID=America/New_York:20251005T093000
DTEND;TZID=America/New_York:20251005T113000
DTSTAMP:20260425T173820
CREATED:20250507T215056Z
LAST-MODIFIED:20250507T215136Z
UID:10012657-1759656600-1759663800@wakefieldtemple.org
SUMMARY:Return Sanctuary to Normal Use\, Return Machzorim & Set Up the Sukkah
DESCRIPTION:
URL:https://wakefieldtemple.org/event/return-sanctuary-to-normal-use-set-up-the-sukkah/
END:VEVENT
BEGIN:VEVENT
DTSTART;TZID=America/New_York:20251005T140000
DTEND;TZID=America/New_York:20251005T160000
DTSTAMP:20260425T173820
CREATED:20250625T143605Z
LAST-MODIFIED:20250905T202004Z
UID:10012685-1759672800-1759680000@wakefieldtemple.org
SUMMARY:Linden Tree Concerts Presents Christine Lavin
DESCRIPTION:The Linden Tree Concert 41st Season will continue on Sunday\, October 5th with the often humorous\, often clever singer-songwriter CHRISTINE LAVIN\, at 2:00 PM.\n  \nChristine Lavin has been called  the Folk World’s long reigning Queen of the Intelligently Absurd. The title of one of her earlier albums\, “I Don’t Make This Stuff Up\, I Just Make it Rhyme” says it all. Christine Lavin is a singer/songwriter/guitarist/recording artist/author/videographer who has been based in New York City since 1976. Her latest album\, her 25th\, ON MY WAY TO HOOTERVILLE\, includes 10 new songs and one re-worked song\, “Ramblin’ Waltz\,” a re-telling of her time in 1975 when she was one of the entourage drivers for the first week of the tour of the The Rolling Thunder Revue.\n  \nChristine has an eye for the ironic and the absurd in the news and everyday life\, and puts it into song. She dresses it all up in skillful guitar work\, electronic loops and wonderful gimmicks.  She has won numerous awards for her songwriting and her book\, COLD PIZZA FOR BREAKFAST: A MEM-WHA??.  Supportive of other songwriters she admires\, Christine has produced ten compilation\, showcasing 100 songwriters.  Her song AMOEBA HOP\, a science music book illustrated by Betsy Franco recived a “Best Book Award” from the American Association for the Advancement of Science.\n\n“It is precisely her take on the ordinary that makes her work so extraordinary.”\n – Village Voice.  \n\nIf you haven’t experienced a Christine Lavin concert\, make your reservation soon as seats are limited.\n\nReservations: 1-978-326-7905.\n\nAdmission:  $25\, those under 18 are $10.  Pay cash or check at the door. 
URL:https://wakefieldtemple.org/event/linden-tree-concert/
END:VEVENT
END:VCALENDAR