BEGIN:VCALENDAR
VERSION:2.0
PRODID:-//Temple Emmanuel of Wakefield - ECPv6.15.20//NONSGML v1.0//EN
CALSCALE:GREGORIAN
METHOD:PUBLISH
X-WR-CALNAME:Temple Emmanuel of Wakefield
X-ORIGINAL-URL:https://wakefieldtemple.org
X-WR-CALDESC:Events for Temple Emmanuel of Wakefield
REFRESH-INTERVAL;VALUE=DURATION:PT1H
X-Robots-Tag:noindex
X-PUBLISHED-TTL:PT1H
BEGIN:VTIMEZONE
TZID:America/New_York
BEGIN:DAYLIGHT
TZOFFSETFROM:-0500
TZOFFSETTO:-0400
TZNAME:EDT
DTSTART:20240310T070000
END:DAYLIGHT
BEGIN:STANDARD
TZOFFSETFROM:-0400
TZOFFSETTO:-0500
TZNAME:EST
DTSTART:20241103T060000
END:STANDARD
BEGIN:DAYLIGHT
TZOFFSETFROM:-0500
TZOFFSETTO:-0400
TZNAME:EDT
DTSTART:20250309T070000
END:DAYLIGHT
BEGIN:STANDARD
TZOFFSETFROM:-0400
TZOFFSETTO:-0500
TZNAME:EST
DTSTART:20251102T060000
END:STANDARD
BEGIN:DAYLIGHT
TZOFFSETFROM:-0500
TZOFFSETTO:-0400
TZNAME:EDT
DTSTART:20260308T070000
END:DAYLIGHT
BEGIN:STANDARD
TZOFFSETFROM:-0400
TZOFFSETTO:-0500
TZNAME:EST
DTSTART:20261101T060000
END:STANDARD
END:VTIMEZONE
BEGIN:VEVENT
DTSTART;TZID=America/New_York:20251002T093000
DTEND;TZID=America/New_York:20251002T130000
DTSTAMP:20260425T173609
CREATED:20250321T142018Z
LAST-MODIFIED:20250321T142018Z
UID:10012444-1759397400-1759410000@wakefieldtemple.org
SUMMARY:Yom Kippur Morning Service
DESCRIPTION:
URL:https://wakefieldtemple.org/event/yom-kippur-morning-service-3/
END:VEVENT
BEGIN:VEVENT
DTSTART;TZID=America/New_York:20251002T180000
DTEND;TZID=America/New_York:20251002T190000
DTSTAMP:20260425T173609
CREATED:20250321T142231Z
LAST-MODIFIED:20250606T113757Z
UID:10012445-1759428000-1759431600@wakefieldtemple.org
SUMMARY:Mincha/Nei'ilah
DESCRIPTION:
URL:https://wakefieldtemple.org/event/mincha-neiilah-4/
END:VEVENT
BEGIN:VEVENT
DTSTART;TZID=America/New_York:20251002T191000
DTEND;TZID=America/New_York:20251002T203000
DTSTAMP:20260425T173609
CREATED:20250507T214830Z
LAST-MODIFIED:20250606T113840Z
UID:10012656-1759432200-1759437000@wakefieldtemple.org
SUMMARY:Break Fast
DESCRIPTION:
URL:https://wakefieldtemple.org/event/break-fast-7/
END:VEVENT
END:VCALENDAR