BEGIN:VCALENDAR
VERSION:2.0
PRODID:-//Temple Emmanuel of Wakefield - ECPv6.15.20//NONSGML v1.0//EN
CALSCALE:GREGORIAN
METHOD:PUBLISH
X-ORIGINAL-URL:https://wakefieldtemple.org
X-WR-CALDESC:Events for Temple Emmanuel of Wakefield
REFRESH-INTERVAL;VALUE=DURATION:PT1H
X-Robots-Tag:noindex
X-PUBLISHED-TTL:PT1H
BEGIN:VTIMEZONE
TZID:America/New_York
BEGIN:DAYLIGHT
TZOFFSETFROM:-0500
TZOFFSETTO:-0400
TZNAME:EDT
DTSTART:20240310T070000
END:DAYLIGHT
BEGIN:STANDARD
TZOFFSETFROM:-0400
TZOFFSETTO:-0500
TZNAME:EST
DTSTART:20241103T060000
END:STANDARD
BEGIN:DAYLIGHT
TZOFFSETFROM:-0500
TZOFFSETTO:-0400
TZNAME:EDT
DTSTART:20250309T070000
END:DAYLIGHT
BEGIN:STANDARD
TZOFFSETFROM:-0400
TZOFFSETTO:-0500
TZNAME:EST
DTSTART:20251102T060000
END:STANDARD
BEGIN:DAYLIGHT
TZOFFSETFROM:-0500
TZOFFSETTO:-0400
TZNAME:EDT
DTSTART:20260308T070000
END:DAYLIGHT
BEGIN:STANDARD
TZOFFSETFROM:-0400
TZOFFSETTO:-0500
TZNAME:EST
DTSTART:20261101T060000
END:STANDARD
END:VTIMEZONE
BEGIN:VEVENT
DTSTART;TZID=America/New_York:20250914T110000
DTEND;TZID=America/New_York:20250914T120000
DTSTAMP:20260425T190456
CREATED:20250828T204233Z
LAST-MODIFIED:20250828T204233Z
UID:10012285-1757847600-1757851200@wakefieldtemple.org
SUMMARY:Sisterhood Sunday Walkers
DESCRIPTION:When: Sunday September 14\, 2025 weather permitting\nTime: 11:00 AM\nWhere: Breakheart Reservation\nMeeting location: Northeast Regional High School 100 Hemlock Rd. Wakefield.\nParking:  Parking lot in front of the building. Please note that there is construction going on\, a new school\, but parking is still available\nRSVP: Sue Hochberg shochberg.sh@gmail.com. Please let me know if you are coming so we don’t leave without you.\nTrail information: 3 mile paved loop\, hilly in places\, rest area/bathroom 1/2 way.\nSue H’s Cell : 781-258-7760
URL:https://wakefieldtemple.org/event/sisterhood-sunday-walkers-11-11-3/
CATEGORIES:Sisterhood
END:VEVENT
BEGIN:VEVENT
DTSTART;TZID=America/New_York:20250914T193000
DTEND;TZID=America/New_York:20250914T210000
DTSTAMP:20260425T190456
CREATED:20250714T111537Z
LAST-MODIFIED:20250826T134443Z
UID:10012693-1757878200-1757883600@wakefieldtemple.org
SUMMARY:Temple Reads: Last Twilight in Paris by Pam Jenoff
DESCRIPTION:  \nLast Twilight in Paris\nby Pam Jenoff \nSunday\, September 14 at 7:30 PM via Zoom \nJoin Temple Reads\nhttps://us02web.zoom.us/j/88983374587?pwd=Wqu68MssdYWoBHba8ll0W4MG2n9QXR.1 \nMeeting ID: 889 8337 4587\nPasscode: 764844 \n\nA Parisian department store\, a mysterious necklace and a woman’s quest to unlock a decade-old mystery are at the center of this riveting novel of love and survival\, from New York Times bestselling author Pam Jenoff \nLondon\, 1953. Louise is still adjusting to her postwar role as a housewife when she discovers a necklace in a box at a secondhand shop. The box is marked with the name of a department store in Paris\, and she is certain she has seen the necklace before\, when she worked with the Red Cross in Nazi-occupied Europe —and that it holds the key to the mysterious death of her friend Franny during the war.  \nFollowing the trail of clues to Paris\, Louise seeks help from her former boss Ian\, with whom she shares a romantic history. The necklace leads them to discover the dark history of Lévitan—a once-glamorous department store that served as a Nazi prison\, and Helaine\, a woman who was imprisoned there\, torn apart from her husband when the Germans invaded France. \nLouise races to find the connection between the necklace\, the department store and Franny’s death. But nothing is as it seems\, and there are forces determined to keep the truth buried forever. Inspired by the true story of Lévitan\, Last Twilight in Paris is both a gripping mystery and an unforgettable story about sacrifice\, resistance and the power of love to transcend in even the darkest hours. (Amazon) \n 
URL:https://wakefieldtemple.org/event/temple-reads-last-twilight-in-paris-by-pam-jenoff/
END:VEVENT
END:VCALENDAR