BEGIN:VCALENDAR
VERSION:2.0
PRODID:-//Temple Emmanuel of Wakefield - ECPv6.15.20//NONSGML v1.0//EN
CALSCALE:GREGORIAN
METHOD:PUBLISH
X-ORIGINAL-URL:https://wakefieldtemple.org
X-WR-CALDESC:Events for Temple Emmanuel of Wakefield
REFRESH-INTERVAL;VALUE=DURATION:PT1H
X-Robots-Tag:noindex
X-PUBLISHED-TTL:PT1H
BEGIN:VTIMEZONE
TZID:America/New_York
BEGIN:DAYLIGHT
TZOFFSETFROM:-0500
TZOFFSETTO:-0400
TZNAME:EDT
DTSTART:20240310T070000
END:DAYLIGHT
BEGIN:STANDARD
TZOFFSETFROM:-0400
TZOFFSETTO:-0500
TZNAME:EST
DTSTART:20241103T060000
END:STANDARD
BEGIN:DAYLIGHT
TZOFFSETFROM:-0500
TZOFFSETTO:-0400
TZNAME:EDT
DTSTART:20250309T070000
END:DAYLIGHT
BEGIN:STANDARD
TZOFFSETFROM:-0400
TZOFFSETTO:-0500
TZNAME:EST
DTSTART:20251102T060000
END:STANDARD
BEGIN:DAYLIGHT
TZOFFSETFROM:-0500
TZOFFSETTO:-0400
TZNAME:EDT
DTSTART:20260308T070000
END:DAYLIGHT
BEGIN:STANDARD
TZOFFSETFROM:-0400
TZOFFSETTO:-0500
TZNAME:EST
DTSTART:20261101T060000
END:STANDARD
END:VTIMEZONE
BEGIN:VEVENT
DTSTART;TZID=America/New_York:20250604T193000
DTEND;TZID=America/New_York:20250604T203000
DTSTAMP:20260425T235347
CREATED:20250401T212949Z
LAST-MODIFIED:20250402T153314Z
UID:10012568-1749065400-1749069000@wakefieldtemple.org
SUMMARY:Continuing Education: Trailblazing American Jewish Musicians
DESCRIPTION:This course is open to anyone who enjoys music! We’ll explore different eras and genres of 20th century music\, where American Jews have had outsized impact. All are welcome to learn some of the ways that Jewish people have been pioneers and influencers over the last 100 years to help make music what it is today.\nJoin Class\nhttps://us02web.zoom.us/j/83198856281?pwd=4kDQ9xWi4bQoKPGPBEXgLB0M2TstPg.1\nMeeting ID: 831 9885 6281\nPasscode: 662309\n 
URL:https://wakefieldtemple.org/event/continuing-education-trailblazing-american-jewish-musicians/2025-06-04/
END:VEVENT
END:VCALENDAR